BEGIN:VCALENDAR
VERSION:2.0
PRODID:-//EZFacility.com, Inc.//EZL 2.5.5.28621
BEGIN:VEVENT
UID:17097518@ezleagues.ezfacility.com
DTSTAMP:20260424T041500Z
CREATED:20260424T041500Z
DTSTART:20260415T001000Z
DTEND:20260415T012500Z
LOCATION:99 RINK
CONTACT:
SUMMARY:Jake's VS. Ice Holes
DESCRIPTION:League Name: C-30+ (Intermediate)\nGame Type: Regular\nGame Sta
 tus: Complete\nHome Team: Jake's\nAway Team: Ice Holes\nHome Score: 7\nAwa
 y Score: 5
END:VEVENT
BEGIN:VEVENT
UID:17097538@ezleagues.ezfacility.com
DTSTAMP:20260424T041500Z
CREATED:20260424T041500Z
DTSTART:20260424T012000Z
DTEND:20260424T023500Z
LOCATION:99 RINK
CONTACT:
SUMMARY:Blackhawks VS. Jake's
DESCRIPTION:League Name: C-30+ (Intermediate)\nGame Type: Regular\nGame Sta
 tus: Pending\nHome Team: Blackhawks\nAway Team: Jake's\n
END:VEVENT
BEGIN:VEVENT
UID:17097579@ezleagues.ezfacility.com
DTSTAMP:20260424T041500Z
CREATED:20260424T041500Z
DTSTART:20260502T014500Z
DTEND:20260502T030000Z
LOCATION:98 RINK
CONTACT:
SUMMARY:Average Joe's VS. Jake's
DESCRIPTION:League Name: C-30+ (Intermediate)\nGame Type: Regular\nGame Sta
 tus: Pending\nHome Team: Average Joe's\nAway Team: Jake's\n
END:VEVENT
END:VCALENDAR
