BEGIN:VCALENDAR
VERSION:2.0
PRODID:-//EZFacility.com, Inc.//EZL 2.5.5.28621
BEGIN:VEVENT
UID:17094453@ezleagues.ezfacility.com
DTSTAMP:20260424T041456Z
CREATED:20260424T041456Z
DTSTART:20260417T010000Z
DTEND:20260417T015500Z
LOCATION:Wayside 5AB
CONTACT:
SUMMARY:OMONIA 40+ B VS. POST GAMERS
DESCRIPTION:League Name: CSX Spring Thursday 40+ Champions II 2026\nGame Ty
 pe: Regular\nGame Status: Complete\nHome Team: OMONIA 40+ B\nAway Team: PO
 ST GAMERS\nHome Score: 4\nAway Score: 3
END:VEVENT
BEGIN:VEVENT
UID:17094457@ezleagues.ezfacility.com
DTSTAMP:20260424T041456Z
CREATED:20260424T041456Z
DTSTART:20260424T010000Z
DTEND:20260424T015500Z
LOCATION:Wayside 5AB
CONTACT:
SUMMARY:OMONIA 40+ B VS. MANALAPAN 
DESCRIPTION:League Name: CSX Spring Thursday 40+ Champions II 2026\nGame Ty
 pe: Regular\nGame Status: Pending\nHome Team: OMONIA 40+ B\nAway Team: MAN
 ALAPAN \n
END:VEVENT
BEGIN:VEVENT
UID:17094461@ezleagues.ezfacility.com
DTSTAMP:20260424T041456Z
CREATED:20260424T041456Z
DTSTART:20260501T010000Z
DTEND:20260501T015500Z
LOCATION:Wayside 4AB
CONTACT:
SUMMARY:OMONIA 40+ B VS. MISFITS
DESCRIPTION:League Name: CSX Spring Thursday 40+ Champions II 2026\nGame Ty
 pe: Regular\nGame Status: Pending\nHome Team: OMONIA 40+ B\nAway Team: MIS
 FITS\n
END:VEVENT
BEGIN:VEVENT
UID:17094465@ezleagues.ezfacility.com
DTSTAMP:20260424T041456Z
CREATED:20260424T041456Z
DTSTART:20260508T010000Z
DTEND:20260508T015500Z
LOCATION:Wayside 4AB
CONTACT:
SUMMARY:OMONIA 40+ B VS. MONMOUTH ONE
DESCRIPTION:League Name: CSX Spring Thursday 40+ Champions II 2026\nGame Ty
 pe: Regular\nGame Status: Pending\nHome Team: OMONIA 40+ B\nAway Team: MON
 MOUTH ONE\n
END:VEVENT
BEGIN:VEVENT
UID:17094469@ezleagues.ezfacility.com
DTSTAMP:20260424T041456Z
CREATED:20260424T041456Z
DTSTART:20260515T010000Z
DTEND:20260515T015500Z
LOCATION:Wayside 4AB
CONTACT:
SUMMARY:MONMOUTH INTER 40 VS. OMONIA 40+ B
DESCRIPTION:League Name: CSX Spring Thursday 40+ Champions II 2026\nGame Ty
 pe: Regular\nGame Status: Pending\nHome Team: MONMOUTH INTER 40\nAway Team
 : OMONIA 40+ B\n
END:VEVENT
BEGIN:VEVENT
UID:17094473@ezleagues.ezfacility.com
DTSTAMP:20260424T041456Z
CREATED:20260424T041456Z
DTSTART:20260522T010000Z
DTEND:20260522T015500Z
LOCATION:Wayside 4AB
CONTACT:
SUMMARY:HOLLAND VS. OMONIA 40+ B
DESCRIPTION:League Name: CSX Spring Thursday 40+ Champions II 2026\nGame Ty
 pe: Regular\nGame Status: Pending\nHome Team: HOLLAND\nAway Team: OMONIA 4
 0+ B\n
END:VEVENT
BEGIN:VEVENT
UID:17094477@ezleagues.ezfacility.com
DTSTAMP:20260424T041456Z
CREATED:20260424T041456Z
DTSTART:20260529T010000Z
DTEND:20260529T015500Z
LOCATION:Wayside 4AB
CONTACT:
SUMMARY:VAQUERO BAD ANKLES VS. OMONIA 40+ B
DESCRIPTION:League Name: CSX Spring Thursday 40+ Champions II 2026\nGame Ty
 pe: Regular\nGame Status: Pending\nHome Team: VAQUERO BAD ANKLES\nAway Tea
 m: OMONIA 40+ B\n
END:VEVENT
BEGIN:VEVENT
UID:17094481@ezleagues.ezfacility.com
DTSTAMP:20260424T041456Z
CREATED:20260424T041456Z
DTSTART:20260605T010000Z
DTEND:20260605T015500Z
LOCATION:Wayside 4CD
CONTACT:
SUMMARY:POST GAMERS VS. OMONIA 40+ B
DESCRIPTION:League Name: CSX Spring Thursday 40+ Champions II 2026\nGame Ty
 pe: Regular\nGame Status: Pending\nHome Team: POST GAMERS\nAway Team: OMON
 IA 40+ B\n
END:VEVENT
END:VCALENDAR
