BEGIN:VCALENDAR
VERSION:2.0
PRODID:-//EZFacility.com, Inc.//EZL 2.5.5.28621
BEGIN:VEVENT
UID:17094492@ezleagues.ezfacility.com
DTSTAMP:20260423T103757Z
CREATED:20260423T103757Z
DTSTART:20260417T010000Z
DTEND:20260417T015500Z
LOCATION:Wayside 5CD
CONTACT:
SUMMARY:TLAXCALA VS. WESTSIDE UNITED
DESCRIPTION:League Name: CSX Spring Thursday 40+ Champions III 2026\nGame T
 ype: Regular\nGame Status: Complete\nHome Team: TLAXCALA\nAway Team: WESTS
 IDE UNITED\nHome Score: 4\nAway Score: 3
END:VEVENT
BEGIN:VEVENT
UID:17094494@ezleagues.ezfacility.com
DTSTAMP:20260423T103757Z
CREATED:20260423T103757Z
DTSTART:20260424T020000Z
DTEND:20260424T025500Z
LOCATION:Wayside 6AB
CONTACT:
SUMMARY:UNDRAFTED FC VS. TLAXCALA
DESCRIPTION:League Name: CSX Spring Thursday 40+ Champions III 2026\nGame T
 ype: Regular\nGame Status: Pending\nHome Team: UNDRAFTED FC\nAway Team: TL
 AXCALA\n
END:VEVENT
BEGIN:VEVENT
UID:17094496@ezleagues.ezfacility.com
DTSTAMP:20260423T103757Z
CREATED:20260423T103757Z
DTSTART:20260501T000000Z
DTEND:20260501T005500Z
LOCATION:Wayside 5AB
CONTACT:
SUMMARY:LOS BANDOLEROS VS. TLAXCALA
DESCRIPTION:League Name: CSX Spring Thursday 40+ Champions III 2026\nGame T
 ype: Regular\nGame Status: Pending\nHome Team: LOS BANDOLEROS\nAway Team: 
 TLAXCALA\n
END:VEVENT
BEGIN:VEVENT
UID:17094500@ezleagues.ezfacility.com
DTSTAMP:20260423T103757Z
CREATED:20260423T103757Z
DTSTART:20260508T000000Z
DTEND:20260508T005500Z
LOCATION:Wayside 5AB
CONTACT:
SUMMARY:TLAXCALA VS. BUD FC
DESCRIPTION:League Name: CSX Spring Thursday 40+ Champions III 2026\nGame T
 ype: Regular\nGame Status: Pending\nHome Team: TLAXCALA\nAway Team: BUD FC
 \n
END:VEVENT
BEGIN:VEVENT
UID:17094504@ezleagues.ezfacility.com
DTSTAMP:20260423T103757Z
CREATED:20260423T103757Z
DTSTART:20260515T000000Z
DTEND:20260515T005500Z
LOCATION:Wayside 5AB
CONTACT:
SUMMARY:TLAXCALA VS. REAL SAN MIGUELITO
DESCRIPTION:League Name: CSX Spring Thursday 40+ Champions III 2026\nGame T
 ype: Regular\nGame Status: Pending\nHome Team: TLAXCALA\nAway Team: REAL S
 AN MIGUELITO\n
END:VEVENT
BEGIN:VEVENT
UID:17094507@ezleagues.ezfacility.com
DTSTAMP:20260423T103757Z
CREATED:20260423T103757Z
DTSTART:20260522T010000Z
DTEND:20260522T015500Z
LOCATION:Wayside 6AB
CONTACT:
SUMMARY:WESTSIDE UNITED VS. TLAXCALA
DESCRIPTION:League Name: CSX Spring Thursday 40+ Champions III 2026\nGame T
 ype: Regular\nGame Status: Pending\nHome Team: WESTSIDE UNITED\nAway Team:
  TLAXCALA\n
END:VEVENT
BEGIN:VEVENT
UID:17094509@ezleagues.ezfacility.com
DTSTAMP:20260423T103757Z
CREATED:20260423T103757Z
DTSTART:20260529T000000Z
DTEND:20260529T005500Z
LOCATION:Wayside 4CD
CONTACT:
SUMMARY:UNDRAFTED FC VS. TLAXCALA
DESCRIPTION:League Name: CSX Spring Thursday 40+ Champions III 2026\nGame T
 ype: Regular\nGame Status: Pending\nHome Team: UNDRAFTED FC\nAway Team: TL
 AXCALA\n
END:VEVENT
BEGIN:VEVENT
UID:17094511@ezleagues.ezfacility.com
DTSTAMP:20260423T103757Z
CREATED:20260423T103757Z
DTSTART:20260605T000000Z
DTEND:20260605T005500Z
LOCATION:Wayside 5AB
CONTACT:
SUMMARY:TLAXCALA VS. LOS BANDOLEROS
DESCRIPTION:League Name: CSX Spring Thursday 40+ Champions III 2026\nGame T
 ype: Regular\nGame Status: Pending\nHome Team: TLAXCALA\nAway Team: LOS BA
 NDOLEROS\n
END:VEVENT
END:VCALENDAR
