BEGIN:VCALENDAR
VERSION:2.0
PRODID:-//EZFacility.com, Inc.//EZL 2.5.5.28621
BEGIN:VEVENT
UID:17096207@ezleagues.ezfacility.com
DTSTAMP:20260424T154516Z
CREATED:20260424T154516Z
DTSTART:20260415T190000Z
DTEND:20260415T200000Z
LOCATION:TBD
CONTACT:
SUMMARY:Bleed Hockey VS. BYE
DESCRIPTION:League Name: Weeknight C (start date 4/14/26)\nGame Type: Regul
 ar\nGame Status: Pending\nHome Team: Bleed Hockey\nAway Team: BYE\n
END:VEVENT
BEGIN:VEVENT
UID:17096213@ezleagues.ezfacility.com
DTSTAMP:20260424T154516Z
CREATED:20260424T154516Z
DTSTART:20260422T034500Z
DTEND:20260422T044500Z
LOCATION:West Rink
CONTACT:
SUMMARY:Kings VS. Bleed Hockey
DESCRIPTION:League Name: Weeknight C (start date 4/14/26)\nGame Type: Regul
 ar\nGame Status: Complete\nHome Team: Kings\nAway Team: Bleed Hockey\nHome
  Score: 10\nAway Score: 5
END:VEVENT
BEGIN:VEVENT
UID:17096218@ezleagues.ezfacility.com
DTSTAMP:20260424T154516Z
CREATED:20260424T154516Z
DTSTART:20260429T070000Z
DTEND:20260429T080000Z
LOCATION:TBD
CONTACT:
SUMMARY:Platinum Group VS. Bleed Hockey
DESCRIPTION:League Name: Weeknight C (start date 4/14/26)\nGame Type: Regul
 ar\nGame Status: Pending\nHome Team: Platinum Group\nAway Team: Bleed Hock
 ey\n
END:VEVENT
BEGIN:VEVENT
UID:17096223@ezleagues.ezfacility.com
DTSTAMP:20260424T154516Z
CREATED:20260424T154516Z
DTSTART:20260506T100000Z
DTEND:20260506T110000Z
LOCATION:TBD
CONTACT:
SUMMARY:Plan B VS. Bleed Hockey
DESCRIPTION:League Name: Weeknight C (start date 4/14/26)\nGame Type: Regul
 ar\nGame Status: Pending\nHome Team: Plan B\nAway Team: Bleed Hockey\n
END:VEVENT
BEGIN:VEVENT
UID:17096228@ezleagues.ezfacility.com
DTSTAMP:20260424T154516Z
CREATED:20260424T154516Z
DTSTART:20260513T060000Z
DTEND:20260513T070000Z
LOCATION:TBD
CONTACT:
SUMMARY:Hooligans VS. Bleed Hockey
DESCRIPTION:League Name: Weeknight C (start date 4/14/26)\nGame Type: Regul
 ar\nGame Status: Pending\nHome Team: Hooligans\nAway Team: Bleed Hockey\n
END:VEVENT
BEGIN:VEVENT
UID:17096233@ezleagues.ezfacility.com
DTSTAMP:20260424T154516Z
CREATED:20260424T154516Z
DTSTART:20260520T080000Z
DTEND:20260520T090000Z
LOCATION:TBD
CONTACT:
SUMMARY:PuckUglies VS. Bleed Hockey
DESCRIPTION:League Name: Weeknight C (start date 4/14/26)\nGame Type: Regul
 ar\nGame Status: Pending\nHome Team: PuckUglies\nAway Team: Bleed Hockey\n
END:VEVENT
BEGIN:VEVENT
UID:17096238@ezleagues.ezfacility.com
DTSTAMP:20260424T154516Z
CREATED:20260424T154516Z
DTSTART:20260527T090000Z
DTEND:20260527T100000Z
LOCATION:TBD
CONTACT:
SUMMARY:Bleed Hockey VS. Point Bar Brawlers
DESCRIPTION:League Name: Weeknight C (start date 4/14/26)\nGame Type: Regul
 ar\nGame Status: Pending\nHome Team: Bleed Hockey\nAway Team: Point Bar Br
 awlers\n
END:VEVENT
BEGIN:VEVENT
UID:17096245@ezleagues.ezfacility.com
DTSTAMP:20260424T154516Z
CREATED:20260424T154516Z
DTSTART:20260603T060000Z
DTEND:20260603T070000Z
LOCATION:TBD
CONTACT:
SUMMARY:Bleed Hockey VS. Rocketmen
DESCRIPTION:League Name: Weeknight C (start date 4/14/26)\nGame Type: Regul
 ar\nGame Status: Pending\nHome Team: Bleed Hockey\nAway Team: Rocketmen\n
END:VEVENT
BEGIN:VEVENT
UID:17096252@ezleagues.ezfacility.com
DTSTAMP:20260424T154516Z
CREATED:20260424T154516Z
DTSTART:20260610T070000Z
DTEND:20260610T080000Z
LOCATION:TBD
CONTACT:
SUMMARY:Bleed Hockey VS. Llamakaze
DESCRIPTION:League Name: Weeknight C (start date 4/14/26)\nGame Type: Regul
 ar\nGame Status: Pending\nHome Team: Bleed Hockey\nAway Team: Llamakaze\n
END:VEVENT
BEGIN:VEVENT
UID:17096259@ezleagues.ezfacility.com
DTSTAMP:20260424T154516Z
CREATED:20260424T154516Z
DTSTART:20260617T090000Z
DTEND:20260617T100000Z
LOCATION:TBD
CONTACT:
SUMMARY:Bleed Hockey VS. Kraken White
DESCRIPTION:League Name: Weeknight C (start date 4/14/26)\nGame Type: Regul
 ar\nGame Status: Pending\nHome Team: Bleed Hockey\nAway Team: Kraken White
 \n
END:VEVENT
BEGIN:VEVENT
UID:17096266@ezleagues.ezfacility.com
DTSTAMP:20260424T154516Z
CREATED:20260424T154516Z
DTSTART:20260624T080000Z
DTEND:20260624T090000Z
LOCATION:TBD
CONTACT:
SUMMARY:Bleed Hockey VS. Wraparound
DESCRIPTION:League Name: Weeknight C (start date 4/14/26)\nGame Type: Regul
 ar\nGame Status: Pending\nHome Team: Bleed Hockey\nAway Team: Wraparound\n
END:VEVENT
END:VCALENDAR
