BEGIN:VCALENDAR
VERSION:2.0
PRODID:-//EZFacility.com, Inc.//EZL 2.5.5.28621
BEGIN:VEVENT
UID:17097427@ezleagues.ezfacility.com
DTSTAMP:20260423T103827Z
CREATED:20260423T103827Z
DTSTART:20260418T193000Z
DTEND:20260418T200000Z
LOCATION:Indoor Field
CONTACT:
SUMMARY:Backaches FC VS. Vatos Locos FC
DESCRIPTION:League Name: Men's 30 Tourney\nGame Type: Regular\nGame Status:
  Complete\nHome Team: Backaches FC\nAway Team: Vatos Locos FC\nHome Score:
  5\nAway Score: 6
END:VEVENT
BEGIN:VEVENT
UID:17097429@ezleagues.ezfacility.com
DTSTAMP:20260423T103827Z
CREATED:20260423T103827Z
DTSTART:20260418T200000Z
DTEND:20260418T203000Z
LOCATION:Indoor Field
CONTACT:
SUMMARY:United VS. Vatos Locos FC
DESCRIPTION:League Name: Men's 30 Tourney\nGame Type: Regular\nGame Status:
  Complete\nHome Team: United\nAway Team: Vatos Locos FC\nHome Score: 10\nA
 way Score: 3
END:VEVENT
BEGIN:VEVENT
UID:17097433@ezleagues.ezfacility.com
DTSTAMP:20260423T103827Z
CREATED:20260423T103827Z
DTSTART:20260418T210000Z
DTEND:20260418T213000Z
LOCATION:Indoor Field
CONTACT:
SUMMARY:Rolling Ankles  VS. Vatos Locos FC
DESCRIPTION:League Name: Men's 30 Tourney\nGame Type: Regular\nGame Status:
  Complete\nHome Team: Rolling Ankles \nAway Team: Vatos Locos FC\nHome Sco
 re: 5\nAway Score: 4
END:VEVENT
BEGIN:VEVENT
UID:17097437@ezleagues.ezfacility.com
DTSTAMP:20260423T103827Z
CREATED:20260423T103827Z
DTSTART:20260418T223000Z
DTEND:20260418T230000Z
LOCATION:Indoor Field
CONTACT:
SUMMARY:Vatos Locos FC VS. Phalanx
DESCRIPTION:League Name: Men's 30 Tourney\nGame Type: Regular\nGame Status:
  Complete\nHome Team: Vatos Locos FC\nAway Team: Phalanx\nHome Score: 3\nA
 way Score: 10
END:VEVENT
END:VCALENDAR
