BEGIN:VCALENDAR
VERSION:2.0
PRODID:-//EZFacility.com, Inc.//EZL 2.5.5.28621
BEGIN:VEVENT
UID:17099954@ezleagues.ezfacility.com
DTSTAMP:20260424T041439Z
CREATED:20260424T041439Z
DTSTART:20260423T020000Z
DTEND:20260423T030000Z
LOCATION:Bridgeville HockeyPlex
CONTACT:
SUMMARY:Goons Never Say Die VS. Anvil of Crom
DESCRIPTION:League Name: 2026 Spring PUCK League (RRG)\nGame Type: Regular\
 nGame Status: Postponed\nHome Team: Goons Never Say Die\nAway Team: Anvil 
 of Crom\n
END:VEVENT
BEGIN:VEVENT
UID:17100198@ezleagues.ezfacility.com
DTSTAMP:20260424T041439Z
CREATED:20260424T041439Z
DTSTART:20260430T010000Z
DTEND:20260430T020000Z
LOCATION:Bridgeville HockeyPlex
CONTACT:
SUMMARY:Dementors VS. Goons Never Say Die
DESCRIPTION:League Name: 2026 Spring PUCK League (RRG)\nGame Type: Regular\
 nGame Status: Pending\nHome Team: Dementors\nAway Team: Goons Never Say Di
 e\n
END:VEVENT
BEGIN:VEVENT
UID:17100212@ezleagues.ezfacility.com
DTSTAMP:20260424T041439Z
CREATED:20260424T041439Z
DTSTART:20260507T000000Z
DTEND:20260507T010000Z
LOCATION:Bridgeville HockeyPlex
CONTACT:
SUMMARY:Goons Never Say Die VS. Kraken Bruise
DESCRIPTION:League Name: 2026 Spring PUCK League (RRG)\nGame Type: Regular\
 nGame Status: Pending\nHome Team: Goons Never Say Die\nAway Team: Kraken B
 ruise\n
END:VEVENT
BEGIN:VEVENT
UID:17100220@ezleagues.ezfacility.com
DTSTAMP:20260424T041439Z
CREATED:20260424T041439Z
DTSTART:20260512T000000Z
DTEND:20260512T010000Z
LOCATION:Bridgeville HockeyPlex
CONTACT:
SUMMARY:Moosehead Lager VS. Goons Never Say Die
DESCRIPTION:League Name: 2026 Spring PUCK League (RRG)\nGame Type: Regular\
 nGame Status: Pending\nHome Team: Moosehead Lager\nAway Team: Goons Never 
 Say Die\n
END:VEVENT
END:VCALENDAR
