BEGIN:VCALENDAR
VERSION:2.0
PRODID:-//EZFacility.com, Inc.//EZL 2.5.5.28621
BEGIN:VEVENT
UID:17100148@ezleagues.ezfacility.com
DTSTAMP:20260424T041514Z
CREATED:20260424T041514Z
DTSTART:20260404T170000Z
DTEND:20260404T180000Z
LOCATION:11vs11 Field 1 BET/H
CONTACT:
SUMMARY:Vengadores VS. Galaticos
DESCRIPTION:League Name: SABADO *Libre* 4/04\nGame Type: Regular\nGame Stat
 us: Complete\nHome Team: Vengadores\nAway Team: Galaticos\nHome Score: 13\
 nAway Score: 10
END:VEVENT
BEGIN:VEVENT
UID:17101352@ezleagues.ezfacility.com
DTSTAMP:20260424T041514Z
CREATED:20260424T041514Z
DTSTART:20260411T190000Z
DTEND:20260411T200000Z
LOCATION:Field 3 BLD
CONTACT:
SUMMARY:Real Sociedad VS. Galaticos
DESCRIPTION:League Name: SABADO *Libre* 4/04\nGame Type: Regular\nGame Stat
 us: Complete\nHome Team: Real Sociedad\nAway Team: Galaticos\nHome Score: 
 17\nAway Score: 5
END:VEVENT
BEGIN:VEVENT
UID:17104071@ezleagues.ezfacility.com
DTSTAMP:20260424T041514Z
CREATED:20260424T041514Z
DTSTART:20260418T180000Z
DTEND:20260418T190000Z
LOCATION:11vs11 Field 1 BET/H
CONTACT:
SUMMARY:Evolution Sam Real VS. Galaticos
DESCRIPTION:League Name: SABADO *Libre* 4/04\nGame Type: Regular\nGame Stat
 us: Complete\nHome Team: Evolution Sam Real\nAway Team: Galaticos\nHome Sc
 ore: 11\nAway Score: 11
END:VEVENT
END:VCALENDAR
