BEGIN:VCALENDAR
VERSION:2.0
PRODID:-//EZFacility.com, Inc.//EZL 2.5.5.28621
BEGIN:VEVENT
UID:17100159@ezleagues.ezfacility.com
DTSTAMP:20260424T041325Z
CREATED:20260424T041325Z
DTSTART:20260405T180000Z
DTEND:20260405T190000Z
LOCATION:Field 2 BLD
CONTACT:
SUMMARY:NCFC VS. Niupy
DESCRIPTION:League Name: DOMINGO *Liga Purepecha* 5/05\nGame Type: Regular\
 nGame Status: Complete\nHome Team: NCFC\nAway Team: Niupy\nHome Score: 19\
 nAway Score: 23
END:VEVENT
BEGIN:VEVENT
UID:17102941@ezleagues.ezfacility.com
DTSTAMP:20260424T041325Z
CREATED:20260424T041325Z
DTSTART:20260412T170000Z
DTEND:20260412T180000Z
LOCATION:11vs11 Field 1 BET/H
CONTACT:
SUMMARY:Niupy VS. HRL FC
DESCRIPTION:League Name: DOMINGO *Liga Purepecha* 5/05\nGame Type: Regular\
 nGame Status: Pending\nHome Team: Niupy\nAway Team: HRL FC\n
END:VEVENT
BEGIN:VEVENT
UID:17102936@ezleagues.ezfacility.com
DTSTAMP:20260424T041325Z
CREATED:20260424T041325Z
DTSTART:20260419T170000Z
DTEND:20260419T180000Z
LOCATION:11vs11 Field 1 BET/H
CONTACT:
SUMMARY:Niupy VS. Linwood FC
DESCRIPTION:League Name: DOMINGO *Liga Purepecha* 5/05\nGame Type: Regular\
 nGame Status: Complete\nHome Team: Niupy\nAway Team: Linwood FC\nHome Scor
 e: 20\nAway Score: 5
END:VEVENT
END:VCALENDAR
