BEGIN:VCALENDAR
VERSION:2.0
PRODID:-//EZFacility.com, Inc.//EZL 2.5.5.28621
BEGIN:VEVENT
UID:17100473@ezleagues.ezfacility.com
DTSTAMP:20260424T041510Z
CREATED:20260424T041510Z
DTSTART:20260424T031500Z
DTEND:20260424T041500Z
LOCATION:Field 1
CONTACT:
SUMMARY:Misfits VS. Bricked Up
DESCRIPTION:League Name: 2026 S2 Thurs Men's E - April 23rd\nGame Type: Reg
 ular\nGame Status: Pending\nHome Team: Misfits\nAway Team: Bricked Up\n
END:VEVENT
BEGIN:VEVENT
UID:17100474@ezleagues.ezfacility.com
DTSTAMP:20260424T041510Z
CREATED:20260424T041510Z
DTSTART:20260424T041500Z
DTEND:20260424T051500Z
LOCATION:Field 1
CONTACT:
SUMMARY:Bricked Up VS. Misfits
DESCRIPTION:League Name: 2026 S2 Thurs Men's E - April 23rd\nGame Type: Reg
 ular\nGame Status: Pending\nHome Team: Bricked Up\nAway Team: Misfits\n
END:VEVENT
BEGIN:VEVENT
UID:17100491@ezleagues.ezfacility.com
DTSTAMP:20260424T041510Z
CREATED:20260424T041510Z
DTSTART:20260501T011500Z
DTEND:20260501T021500Z
LOCATION:Field 2
CONTACT:
SUMMARY:Pineapples Pool Repair VS. Bricked Up
DESCRIPTION:League Name: 2026 S2 Thurs Men's E - April 23rd\nGame Type: Reg
 ular\nGame Status: Pending\nHome Team: Pineapples Pool Repair\nAway Team: 
 Bricked Up\n
END:VEVENT
BEGIN:VEVENT
UID:17100492@ezleagues.ezfacility.com
DTSTAMP:20260424T041510Z
CREATED:20260424T041510Z
DTSTART:20260501T021500Z
DTEND:20260501T031500Z
LOCATION:Field 2
CONTACT:
SUMMARY:Bricked Up VS. Pineapples Pool Repair
DESCRIPTION:League Name: 2026 S2 Thurs Men's E - April 23rd\nGame Type: Reg
 ular\nGame Status: Pending\nHome Team: Bricked Up\nAway Team: Pineapples P
 ool Repair\n
END:VEVENT
BEGIN:VEVENT
UID:17100511@ezleagues.ezfacility.com
DTSTAMP:20260424T041510Z
CREATED:20260424T041510Z
DTSTART:20260508T011500Z
DTEND:20260508T021500Z
LOCATION:Field 4
CONTACT:
SUMMARY:Valley Threads VS. Bricked Up
DESCRIPTION:League Name: 2026 S2 Thurs Men's E - April 23rd\nGame Type: Reg
 ular\nGame Status: Pending\nHome Team: Valley Threads\nAway Team: Bricked 
 Up\n
END:VEVENT
BEGIN:VEVENT
UID:17100512@ezleagues.ezfacility.com
DTSTAMP:20260424T041510Z
CREATED:20260424T041510Z
DTSTART:20260508T021500Z
DTEND:20260508T031500Z
LOCATION:Field 4
CONTACT:
SUMMARY:Bricked Up VS. Valley Threads
DESCRIPTION:League Name: 2026 S2 Thurs Men's E - April 23rd\nGame Type: Reg
 ular\nGame Status: Pending\nHome Team: Bricked Up\nAway Team: Valley Threa
 ds\n
END:VEVENT
BEGIN:VEVENT
UID:17100527@ezleagues.ezfacility.com
DTSTAMP:20260424T041510Z
CREATED:20260424T041510Z
DTSTART:20260515T031500Z
DTEND:20260515T041500Z
LOCATION:Field 4
CONTACT:
SUMMARY:Yard Dogs VS. Bricked Up
DESCRIPTION:League Name: 2026 S2 Thurs Men's E - April 23rd\nGame Type: Reg
 ular\nGame Status: Pending\nHome Team: Yard Dogs\nAway Team: Bricked Up\n
END:VEVENT
BEGIN:VEVENT
UID:17100528@ezleagues.ezfacility.com
DTSTAMP:20260424T041510Z
CREATED:20260424T041510Z
DTSTART:20260515T041500Z
DTEND:20260515T051500Z
LOCATION:Field 4
CONTACT:
SUMMARY:Bricked Up VS. Yard Dogs
DESCRIPTION:League Name: 2026 S2 Thurs Men's E - April 23rd\nGame Type: Reg
 ular\nGame Status: Pending\nHome Team: Bricked Up\nAway Team: Yard Dogs\n
END:VEVENT
BEGIN:VEVENT
UID:17100547@ezleagues.ezfacility.com
DTSTAMP:20260424T041510Z
CREATED:20260424T041510Z
DTSTART:20260522T031500Z
DTEND:20260522T041500Z
LOCATION:Field 2
CONTACT:
SUMMARY:Sickness Squad VS. Bricked Up
DESCRIPTION:League Name: 2026 S2 Thurs Men's E - April 23rd\nGame Type: Reg
 ular\nGame Status: Pending\nHome Team: Sickness Squad\nAway Team: Bricked 
 Up\n
END:VEVENT
BEGIN:VEVENT
UID:17100548@ezleagues.ezfacility.com
DTSTAMP:20260424T041510Z
CREATED:20260424T041510Z
DTSTART:20260522T041500Z
DTEND:20260522T051500Z
LOCATION:Field 2
CONTACT:
SUMMARY:Bricked Up VS. Sickness Squad
DESCRIPTION:League Name: 2026 S2 Thurs Men's E - April 23rd\nGame Type: Reg
 ular\nGame Status: Pending\nHome Team: Bricked Up\nAway Team: Sickness Squ
 ad\n
END:VEVENT
BEGIN:VEVENT
UID:17100563@ezleagues.ezfacility.com
DTSTAMP:20260424T041510Z
CREATED:20260424T041510Z
DTSTART:20260529T031500Z
DTEND:20260529T041500Z
LOCATION:Field 1
CONTACT:
SUMMARY:Old Glory VS. Bricked Up
DESCRIPTION:League Name: 2026 S2 Thurs Men's E - April 23rd\nGame Type: Reg
 ular\nGame Status: Pending\nHome Team: Old Glory\nAway Team: Bricked Up\n
END:VEVENT
BEGIN:VEVENT
UID:17100564@ezleagues.ezfacility.com
DTSTAMP:20260424T041510Z
CREATED:20260424T041510Z
DTSTART:20260529T041500Z
DTEND:20260529T051500Z
LOCATION:Field 1
CONTACT:
SUMMARY:Bricked Up VS. Old Glory
DESCRIPTION:League Name: 2026 S2 Thurs Men's E - April 23rd\nGame Type: Reg
 ular\nGame Status: Pending\nHome Team: Bricked Up\nAway Team: Old Glory\n
END:VEVENT
BEGIN:VEVENT
UID:17100581@ezleagues.ezfacility.com
DTSTAMP:20260424T041510Z
CREATED:20260424T041510Z
DTSTART:20260605T031500Z
DTEND:20260605T041500Z
LOCATION:Field 2
CONTACT:
SUMMARY:Diamond King Development Group VS. Bricked Up
DESCRIPTION:League Name: 2026 S2 Thurs Men's E - April 23rd\nGame Type: Reg
 ular\nGame Status: Pending\nHome Team: Diamond King Development Group\nAwa
 y Team: Bricked Up\n
END:VEVENT
BEGIN:VEVENT
UID:17100582@ezleagues.ezfacility.com
DTSTAMP:20260424T041510Z
CREATED:20260424T041510Z
DTSTART:20260605T041500Z
DTEND:20260605T051500Z
LOCATION:Field 2
CONTACT:
SUMMARY:Bricked Up VS. Diamond King Development Group
DESCRIPTION:League Name: 2026 S2 Thurs Men's E - April 23rd\nGame Type: Reg
 ular\nGame Status: Pending\nHome Team: Bricked Up\nAway Team: Diamond King
  Development Group\n
END:VEVENT
BEGIN:VEVENT
UID:17100599@ezleagues.ezfacility.com
DTSTAMP:20260424T041510Z
CREATED:20260424T041510Z
DTSTART:20260612T031500Z
DTEND:20260612T041500Z
LOCATION:Field 4
CONTACT:
SUMMARY:Misfits VS. Bricked Up
DESCRIPTION:League Name: 2026 S2 Thurs Men's E - April 23rd\nGame Type: Reg
 ular\nGame Status: Pending\nHome Team: Misfits\nAway Team: Bricked Up\n
END:VEVENT
BEGIN:VEVENT
UID:17100600@ezleagues.ezfacility.com
DTSTAMP:20260424T041510Z
CREATED:20260424T041510Z
DTSTART:20260612T041500Z
DTEND:20260612T051500Z
LOCATION:Field 4
CONTACT:
SUMMARY:Bricked Up VS. Misfits
DESCRIPTION:League Name: 2026 S2 Thurs Men's E - April 23rd\nGame Type: Reg
 ular\nGame Status: Pending\nHome Team: Bricked Up\nAway Team: Misfits\n
END:VEVENT
END:VCALENDAR
