BEGIN:VCALENDAR
VERSION:2.0
PRODID:-//EZFacility.com, Inc.//EZL 2.5.5.28621
BEGIN:VEVENT
UID:17100477@ezleagues.ezfacility.com
DTSTAMP:20260424T041422Z
CREATED:20260424T041422Z
DTSTART:20260424T031500Z
DTEND:20260424T041500Z
LOCATION:Field 2
CONTACT:
SUMMARY:Old Glory VS. Valley Threads
DESCRIPTION:League Name: 2026 S2 Thurs Men's E - April 23rd\nGame Type: Reg
 ular\nGame Status: Pending\nHome Team: Old Glory\nAway Team: Valley Thread
 s\n
END:VEVENT
BEGIN:VEVENT
UID:17100478@ezleagues.ezfacility.com
DTSTAMP:20260424T041422Z
CREATED:20260424T041422Z
DTSTART:20260424T041500Z
DTEND:20260424T051500Z
LOCATION:Field 2
CONTACT:
SUMMARY:Valley Threads VS. Old Glory
DESCRIPTION:League Name: 2026 S2 Thurs Men's E - April 23rd\nGame Type: Reg
 ular\nGame Status: Pending\nHome Team: Valley Threads\nAway Team: Old Glor
 y\n
END:VEVENT
BEGIN:VEVENT
UID:17100495@ezleagues.ezfacility.com
DTSTAMP:20260424T041422Z
CREATED:20260424T041422Z
DTSTART:20260501T031500Z
DTEND:20260501T041500Z
LOCATION:Field 2
CONTACT:
SUMMARY:Old Glory VS. Sickness Squad
DESCRIPTION:League Name: 2026 S2 Thurs Men's E - April 23rd\nGame Type: Reg
 ular\nGame Status: Pending\nHome Team: Old Glory\nAway Team: Sickness Squa
 d\n
END:VEVENT
BEGIN:VEVENT
UID:17100496@ezleagues.ezfacility.com
DTSTAMP:20260424T041422Z
CREATED:20260424T041422Z
DTSTART:20260501T041500Z
DTEND:20260501T051500Z
LOCATION:Field 2
CONTACT:
SUMMARY:Sickness Squad VS. Old Glory
DESCRIPTION:League Name: 2026 S2 Thurs Men's E - April 23rd\nGame Type: Reg
 ular\nGame Status: Pending\nHome Team: Sickness Squad\nAway Team: Old Glor
 y\n
END:VEVENT
BEGIN:VEVENT
UID:17100513@ezleagues.ezfacility.com
DTSTAMP:20260424T041422Z
CREATED:20260424T041422Z
DTSTART:20260508T031500Z
DTEND:20260508T041500Z
LOCATION:Field 3
CONTACT:
SUMMARY:Diamond King Development Group VS. Old Glory
DESCRIPTION:League Name: 2026 S2 Thurs Men's E - April 23rd\nGame Type: Reg
 ular\nGame Status: Pending\nHome Team: Diamond King Development Group\nAwa
 y Team: Old Glory\n
END:VEVENT
BEGIN:VEVENT
UID:17100514@ezleagues.ezfacility.com
DTSTAMP:20260424T041422Z
CREATED:20260424T041422Z
DTSTART:20260508T041500Z
DTEND:20260508T051500Z
LOCATION:Field 3
CONTACT:
SUMMARY:Old Glory VS. Diamond King Development Group
DESCRIPTION:League Name: 2026 S2 Thurs Men's E - April 23rd\nGame Type: Reg
 ular\nGame Status: Pending\nHome Team: Old Glory\nAway Team: Diamond King 
 Development Group\n
END:VEVENT
BEGIN:VEVENT
UID:17100529@ezleagues.ezfacility.com
DTSTAMP:20260424T041422Z
CREATED:20260424T041422Z
DTSTART:20260515T031500Z
DTEND:20260515T041500Z
LOCATION:Field 1
CONTACT:
SUMMARY:Pineapples Pool Repair VS. Old Glory
DESCRIPTION:League Name: 2026 S2 Thurs Men's E - April 23rd\nGame Type: Reg
 ular\nGame Status: Pending\nHome Team: Pineapples Pool Repair\nAway Team: 
 Old Glory\n
END:VEVENT
BEGIN:VEVENT
UID:17100530@ezleagues.ezfacility.com
DTSTAMP:20260424T041422Z
CREATED:20260424T041422Z
DTSTART:20260515T041500Z
DTEND:20260515T051500Z
LOCATION:Field 1
CONTACT:
SUMMARY:Old Glory VS. Pineapples Pool Repair
DESCRIPTION:League Name: 2026 S2 Thurs Men's E - April 23rd\nGame Type: Reg
 ular\nGame Status: Pending\nHome Team: Old Glory\nAway Team: Pineapples Po
 ol Repair\n
END:VEVENT
BEGIN:VEVENT
UID:17100545@ezleagues.ezfacility.com
DTSTAMP:20260424T041422Z
CREATED:20260424T041422Z
DTSTART:20260522T031500Z
DTEND:20260522T041500Z
LOCATION:Field 1
CONTACT:
SUMMARY:Yard Dogs VS. Old Glory
DESCRIPTION:League Name: 2026 S2 Thurs Men's E - April 23rd\nGame Type: Reg
 ular\nGame Status: Pending\nHome Team: Yard Dogs\nAway Team: Old Glory\n
END:VEVENT
BEGIN:VEVENT
UID:17100546@ezleagues.ezfacility.com
DTSTAMP:20260424T041422Z
CREATED:20260424T041422Z
DTSTART:20260522T041500Z
DTEND:20260522T051500Z
LOCATION:Field 1
CONTACT:
SUMMARY:Old Glory VS. Yard Dogs
DESCRIPTION:League Name: 2026 S2 Thurs Men's E - April 23rd\nGame Type: Reg
 ular\nGame Status: Pending\nHome Team: Old Glory\nAway Team: Yard Dogs\n
END:VEVENT
BEGIN:VEVENT
UID:17100563@ezleagues.ezfacility.com
DTSTAMP:20260424T041422Z
CREATED:20260424T041422Z
DTSTART:20260529T031500Z
DTEND:20260529T041500Z
LOCATION:Field 1
CONTACT:
SUMMARY:Old Glory VS. Bricked Up
DESCRIPTION:League Name: 2026 S2 Thurs Men's E - April 23rd\nGame Type: Reg
 ular\nGame Status: Pending\nHome Team: Old Glory\nAway Team: Bricked Up\n
END:VEVENT
BEGIN:VEVENT
UID:17100564@ezleagues.ezfacility.com
DTSTAMP:20260424T041422Z
CREATED:20260424T041422Z
DTSTART:20260529T041500Z
DTEND:20260529T051500Z
LOCATION:Field 1
CONTACT:
SUMMARY:Bricked Up VS. Old Glory
DESCRIPTION:League Name: 2026 S2 Thurs Men's E - April 23rd\nGame Type: Reg
 ular\nGame Status: Pending\nHome Team: Bricked Up\nAway Team: Old Glory\n
END:VEVENT
BEGIN:VEVENT
UID:17100583@ezleagues.ezfacility.com
DTSTAMP:20260424T041422Z
CREATED:20260424T041422Z
DTSTART:20260605T031500Z
DTEND:20260605T041500Z
LOCATION:Field 3
CONTACT:
SUMMARY:Old Glory VS. Misfits
DESCRIPTION:League Name: 2026 S2 Thurs Men's E - April 23rd\nGame Type: Reg
 ular\nGame Status: Pending\nHome Team: Old Glory\nAway Team: Misfits\n
END:VEVENT
BEGIN:VEVENT
UID:17100584@ezleagues.ezfacility.com
DTSTAMP:20260424T041422Z
CREATED:20260424T041422Z
DTSTART:20260605T041500Z
DTEND:20260605T051500Z
LOCATION:Field 3
CONTACT:
SUMMARY:Misfits VS. Old Glory
DESCRIPTION:League Name: 2026 S2 Thurs Men's E - April 23rd\nGame Type: Reg
 ular\nGame Status: Pending\nHome Team: Misfits\nAway Team: Old Glory\n
END:VEVENT
BEGIN:VEVENT
UID:17100603@ezleagues.ezfacility.com
DTSTAMP:20260424T041422Z
CREATED:20260424T041422Z
DTSTART:20260612T031500Z
DTEND:20260612T041500Z
LOCATION:Field 3
CONTACT:
SUMMARY:Old Glory VS. Valley Threads
DESCRIPTION:League Name: 2026 S2 Thurs Men's E - April 23rd\nGame Type: Reg
 ular\nGame Status: Pending\nHome Team: Old Glory\nAway Team: Valley Thread
 s\n
END:VEVENT
BEGIN:VEVENT
UID:17100604@ezleagues.ezfacility.com
DTSTAMP:20260424T041422Z
CREATED:20260424T041422Z
DTSTART:20260612T041500Z
DTEND:20260612T051500Z
LOCATION:Field 3
CONTACT:
SUMMARY:Valley Threads VS. Old Glory
DESCRIPTION:League Name: 2026 S2 Thurs Men's E - April 23rd\nGame Type: Reg
 ular\nGame Status: Pending\nHome Team: Valley Threads\nAway Team: Old Glor
 y\n
END:VEVENT
END:VCALENDAR
