BEGIN:VCALENDAR
VERSION:2.0
PRODID:-//EZFacility.com, Inc.//EZL 2.5.5.28621
BEGIN:VEVENT
UID:17103327@ezleagues.ezfacility.com
DTSTAMP:20260424T041348Z
CREATED:20260424T041348Z
DTSTART:20260423T014000Z
DTEND:20260423T022000Z
LOCATION:Field 2
CONTACT:
SUMMARY:Reales VS. Rancios
DESCRIPTION:League Name: El Milargro Miercoles 2026\nGame Type: Regular\nGa
 me Status: Pending\nHome Team: Reales\nAway Team: Rancios\n
END:VEVENT
END:VCALENDAR
