BEGIN:VCALENDAR
VERSION:2.0
PRODID:-//EZFacility.com, Inc.//EZL 2.5.5.28621
BEGIN:VEVENT
UID:1528383@ezleagues.ezfacility.com
DTSTAMP:20260422T021403Z
CREATED:20260422T021403Z
DTSTART:20080907T190000Z
DTEND:20080907T200000Z
LOCATION:Court
CONTACT:
SUMMARY:Brick House Pub VS. Kozloff
DESCRIPTION:League Name: Men's B Basketball (Fall)\nGame Type: Regular\nGam
 e Status: Complete\nHome Team: Brick House Pub\nAway Team: Kozloff\nHome S
 core: 51\nAway Score: 70
END:VEVENT
BEGIN:VEVENT
UID:1528377@ezleagues.ezfacility.com
DTSTAMP:20260422T021403Z
CREATED:20260422T021403Z
DTSTART:20080914T170000Z
DTEND:20080914T180000Z
LOCATION:Court
CONTACT:
SUMMARY:Kozloff VS. Twinky's
DESCRIPTION:League Name: Men's B Basketball (Fall)\nGame Type: Regular\nGam
 e Status: Complete\nHome Team: Kozloff\nAway Team: Twinky's\nHome Score: 6
 0\nAway Score: 43
END:VEVENT
BEGIN:VEVENT
UID:1528402@ezleagues.ezfacility.com
DTSTAMP:20260422T021403Z
CREATED:20260422T021403Z
DTSTART:20080921T180000Z
DTEND:20080921T190000Z
LOCATION:Court
CONTACT:
SUMMARY:Kozloff VS. 3rd Rail
DESCRIPTION:League Name: Men's B Basketball (Fall)\nGame Type: Regular\nGam
 e Status: Complete\nHome Team: Kozloff\nAway Team: 3rd Rail\nHome Score: 7
 6\nAway Score: 67
END:VEVENT
BEGIN:VEVENT
UID:1528388@ezleagues.ezfacility.com
DTSTAMP:20260422T021403Z
CREATED:20260422T021403Z
DTSTART:20080928T180000Z
DTEND:20080928T190000Z
LOCATION:Court
CONTACT:
SUMMARY:N.B.T. VS. Kozloff
DESCRIPTION:League Name: Men's B Basketball (Fall)\nGame Type: Regular\nGam
 e Status: Complete\nHome Team: N.B.T.\nAway Team: Kozloff\nHome Score: 63\
 nAway Score: 61
END:VEVENT
BEGIN:VEVENT
UID:1528389@ezleagues.ezfacility.com
DTSTAMP:20260422T021403Z
CREATED:20260422T021403Z
DTSTART:20081005T190000Z
DTEND:20081005T200000Z
LOCATION:Court
CONTACT:
SUMMARY:Kozloff VS. Amity Fence
DESCRIPTION:League Name: Men's B Basketball (Fall)\nGame Type: Regular\nGam
 e Status: Complete\nHome Team: Kozloff\nAway Team: Amity Fence\nHome Score
 : 56\nAway Score: 52
END:VEVENT
BEGIN:VEVENT
UID:1528397@ezleagues.ezfacility.com
DTSTAMP:20260422T021403Z
CREATED:20260422T021403Z
DTSTART:20081012T170000Z
DTEND:20081012T180000Z
LOCATION:Court
CONTACT:
SUMMARY:Millmont VS. Kozloff
DESCRIPTION:League Name: Men's B Basketball (Fall)\nGame Type: Regular\nGam
 e Status: Complete\nHome Team: Millmont\nAway Team: Kozloff\nHome Score: 8
 7\nAway Score: 109
END:VEVENT
BEGIN:VEVENT
UID:1528371@ezleagues.ezfacility.com
DTSTAMP:20260422T021403Z
CREATED:20260422T021403Z
DTSTART:20081019T180000Z
DTEND:20081019T190000Z
LOCATION:Court
CONTACT:
SUMMARY:Wireless Central VS. Kozloff
DESCRIPTION:League Name: Men's B Basketball (Fall)\nGame Type: Regular\nGam
 e Status: Complete\nHome Team: Wireless Central\nAway Team: Kozloff\nHome 
 Score: 79\nAway Score: 74
END:VEVENT
BEGIN:VEVENT
UID:1528406@ezleagues.ezfacility.com
DTSTAMP:20260422T021403Z
CREATED:20260422T021403Z
DTSTART:20081026T210000Z
DTEND:20081026T220000Z
LOCATION:Court
CONTACT:
SUMMARY:Kozloff VS. G.N.A.
DESCRIPTION:League Name: Men's B Basketball (Fall)\nGame Type: Regular\nGam
 e Status: Complete\nHome Team: Kozloff\nAway Team: G.N.A.\nHome Score: 78\
 nAway Score: 58
END:VEVENT
BEGIN:VEVENT
UID:1528409@ezleagues.ezfacility.com
DTSTAMP:20260422T021403Z
CREATED:20260422T021403Z
DTSTART:20081102T200000Z
DTEND:20081102T210000Z
LOCATION:Court
CONTACT:
SUMMARY:GL Public Service VS. Kozloff
DESCRIPTION:League Name: Men's B Basketball (Fall)\nGame Type: Regular\nGam
 e Status: Complete\nHome Team: GL Public Service\nAway Team: Kozloff\nHome
  Score: 61\nAway Score: 65
END:VEVENT
BEGIN:VEVENT
UID:1528416@ezleagues.ezfacility.com
DTSTAMP:20260422T021403Z
CREATED:20260422T021403Z
DTSTART:20081109T210000Z
DTEND:20081109T220000Z
LOCATION:Court
CONTACT:
SUMMARY:Kozloff VS. Wireless Central
DESCRIPTION:League Name: Men's B Basketball (Fall)\nGame Type: Regular\nGam
 e Status: Complete\nHome Team: Kozloff\nAway Team: Wireless Central\nHome 
 Score: 57\nAway Score: 85
END:VEVENT
BEGIN:VEVENT
UID:1681914@ezleagues.ezfacility.com
DTSTAMP:20260422T021403Z
CREATED:20260422T021403Z
DTSTART:20081116T200000Z
DTEND:20081116T210000Z
LOCATION:Court
CONTACT:
SUMMARY:Kozloff VS. 3rd Rail
DESCRIPTION:League Name: Men's B Basketball (Fall)\nGame Type: Postseason\n
 Game Status: Complete\nHome Team: Kozloff\nAway Team: 3rd Rail\nHome Score
 : 80\nAway Score: 52
END:VEVENT
BEGIN:VEVENT
UID:1681916@ezleagues.ezfacility.com
DTSTAMP:20260422T021403Z
CREATED:20260422T021403Z
DTSTART:20081123T170000Z
DTEND:20081123T180000Z
LOCATION:Court
CONTACT:
SUMMARY:Wireless Central VS. Kozloff
DESCRIPTION:League Name: Men's B Basketball (Fall)\nGame Type: Postseason\n
 Game Status: Complete\nHome Team: Wireless Central\nAway Team: Kozloff\nHo
 me Score: 62\nAway Score: 53
END:VEVENT
END:VCALENDAR
