BEGIN:VCALENDAR
VERSION:2.0
PRODID:-//EZFacility.com, Inc.//EZL 2.5.5.28621
BEGIN:VEVENT
UID:1504064@ezleagues.ezfacility.com
DTSTAMP:20260426T033605Z
CREATED:20260426T033605Z
DTSTART:20080807T195500Z
DTEND:20080807T205000Z
LOCATION:Field 1
CONTACT:
SUMMARY:Fuerte Juvenil VS. KPFC
DESCRIPTION:League Name: Thursday Men's Div. 2-A\nGame Type: Regular\nGame 
 Status: Complete\nHome Team: Fuerte Juvenil\nAway Team: KPFC\nHome Score: 
 12\nAway Score: 5
END:VEVENT
BEGIN:VEVENT
UID:1504087@ezleagues.ezfacility.com
DTSTAMP:20260426T033605Z
CREATED:20260426T033605Z
DTSTART:20080814T205000Z
DTEND:20080814T214500Z
LOCATION: Field 3
CONTACT:
SUMMARY:Inter VS. KPFC
DESCRIPTION:League Name: Thursday Men's Div. 2-A\nGame Type: Regular\nGame 
 Status: Complete\nHome Team: Inter\nAway Team: KPFC\nHome Score: 6\nAway S
 core: 11
END:VEVENT
BEGIN:VEVENT
UID:1504137@ezleagues.ezfacility.com
DTSTAMP:20260426T033605Z
CREATED:20260426T033605Z
DTSTART:20080828T224000Z
DTEND:20080828T233500Z
LOCATION:VA Army National Guard Field 2
CONTACT:
SUMMARY:Mwaa FC VS. KPFC
DESCRIPTION:League Name: Thursday Men's Div. 2-A\nGame Type: Regular\nGame 
 Status: Complete\nHome Team: Mwaa FC\nAway Team: KPFC\nHome Score: 0\nAway
  Score: 15
END:VEVENT
BEGIN:VEVENT
UID:1504162@ezleagues.ezfacility.com
DTSTAMP:20260426T033605Z
CREATED:20260426T033605Z
DTSTART:20080904T233500Z
DTEND:20080905T003000Z
LOCATION: Field 3
CONTACT:
SUMMARY:KPFC VS. STL 1.5
DESCRIPTION:League Name: Thursday Men's Div. 2-A\nGame Type: Regular\nGame 
 Status: Complete\nHome Team: KPFC\nAway Team: STL 1.5\nHome Score: 3\nAway
  Score: 8
END:VEVENT
BEGIN:VEVENT
UID:1504186@ezleagues.ezfacility.com
DTSTAMP:20260426T033605Z
CREATED:20260426T033605Z
DTSTART:20080911T190000Z
DTEND:20080911T195500Z
LOCATION: Field 3
CONTACT:
SUMMARY:KPFC VS. #1 Stunnas
DESCRIPTION:League Name: Thursday Men's Div. 2-A\nGame Type: Regular\nGame 
 Status: Complete\nHome Team: KPFC\nAway Team: #1 Stunnas\nHome Score: 6\nA
 way Score: 12
END:VEVENT
BEGIN:VEVENT
UID:1504209@ezleagues.ezfacility.com
DTSTAMP:20260426T033605Z
CREATED:20260426T033605Z
DTSTART:20080918T195500Z
DTEND:20080918T205000Z
LOCATION:Field 1
CONTACT:
SUMMARY:KPFC VS. DeLuca
DESCRIPTION:League Name: Thursday Men's Div. 2-A\nGame Type: Regular\nGame 
 Status: Complete\nHome Team: KPFC\nAway Team: DeLuca\nHome Score: 6\nAway 
 Score: 8
END:VEVENT
BEGIN:VEVENT
UID:1506405@ezleagues.ezfacility.com
DTSTAMP:20260426T033605Z
CREATED:20260426T033605Z
DTSTART:20080925T205000Z
DTEND:20080925T214500Z
LOCATION:Field 1
CONTACT:
SUMMARY:KPFC VS. Mwaa FC
DESCRIPTION:League Name: Thursday Men's Div. 2-A\nGame Type: Postseason\nGa
 me Status: Complete\nHome Team: KPFC\nAway Team: Mwaa FC\nHome Score: 13\n
 Away Score: 7
END:VEVENT
BEGIN:VEVENT
UID:1506408@ezleagues.ezfacility.com
DTSTAMP:20260426T033605Z
CREATED:20260426T033605Z
DTSTART:20081002T224000Z
DTEND:20081002T233500Z
LOCATION: Field 3
CONTACT:
SUMMARY:KPFC VS. Inter
DESCRIPTION:League Name: Thursday Men's Div. 2-A\nGame Type: Postseason\nGa
 me Status: Complete\nHome Team: KPFC\nAway Team: Inter\nHome Score: 3\nAwa
 y Score: 0
END:VEVENT
END:VCALENDAR
