BEGIN:VCALENDAR
VERSION:2.0
PRODID:-//EZFacility.com, Inc.//EZL 2.5.5.28621
BEGIN:VEVENT
UID:1506262@ezleagues.ezfacility.com
DTSTAMP:20260424T044137Z
CREATED:20260424T044137Z
DTSTART:20080816T203000Z
DTEND:20080816T213000Z
LOCATION:SANDHILLS (Field #2) 
CONTACT:
SUMMARY:Dep. Zimapan VS. Dep. Allende
DESCRIPTION:League Name: Liga Hispana Summer II Verde\nGame Type: Regular\n
 Game Status: Complete\nHome Team: Dep. Zimapan\nAway Team: Dep. Allende\nH
 ome Score: 11\nAway Score: 4
END:VEVENT
BEGIN:VEVENT
UID:1513567@ezleagues.ezfacility.com
DTSTAMP:20260424T044137Z
CREATED:20260424T044137Z
DTSTART:20080823T203000Z
DTEND:20080823T213000Z
LOCATION:SANDHILLS (Bi-Lo #1)
CONTACT:
SUMMARY:Dep. Zimapan VS. Dep. Hidalgo
DESCRIPTION:League Name: Liga Hispana Summer II Verde\nGame Type: Regular\n
 Game Status: Complete\nHome Team: Dep. Zimapan\nAway Team: Dep. Hidalgo\nH
 ome Score: 8\nAway Score: 3
END:VEVENT
BEGIN:VEVENT
UID:1522708@ezleagues.ezfacility.com
DTSTAMP:20260424T044137Z
CREATED:20260424T044137Z
DTSTART:20080829T210000Z
DTEND:20080829T220000Z
LOCATION:SANDHILLS (Field #2) 
CONTACT:
SUMMARY:Dep. Zimapan VS. Queretaro
DESCRIPTION:League Name: Liga Hispana Summer II Verde\nGame Type: Regular\n
 Game Status: Complete\nHome Team: Dep. Zimapan\nAway Team: Queretaro\nHome
  Score: 13\nAway Score: 5
END:VEVENT
BEGIN:VEVENT
UID:1528940@ezleagues.ezfacility.com
DTSTAMP:20260424T044137Z
CREATED:20260424T044137Z
DTSTART:20080906T194000Z
DTEND:20080906T204000Z
LOCATION:SANDHILLS (Bi-Lo #1)
CONTACT:
SUMMARY:Dep. Kings VS. Dep. Zimapan
DESCRIPTION:League Name: Liga Hispana Summer II Verde\nGame Type: Regular\n
 Game Status: Complete\nHome Team: Dep. Kings\nAway Team: Dep. Zimapan\nHom
 e Score: 3\nAway Score: 4
END:VEVENT
BEGIN:VEVENT
UID:1543629@ezleagues.ezfacility.com
DTSTAMP:20260424T044137Z
CREATED:20260424T044137Z
DTSTART:20080913T180000Z
DTEND:20080913T190000Z
LOCATION:SANDHILLS (Field #2) 
CONTACT:Perez
SUMMARY:Dep. Zimapan VS. Pachuca
DESCRIPTION:League Name: Liga Hispana Summer II Verde\nGame Type: Regular\n
 Game Status: Complete\nHome Team: Dep. Zimapan\nAway Team: Pachuca\nHome S
 core: 6\nAway Score: 0
END:VEVENT
BEGIN:VEVENT
UID:1567369@ezleagues.ezfacility.com
DTSTAMP:20260424T044137Z
CREATED:20260424T044137Z
DTSTART:20080920T162000Z
DTEND:20080920T172000Z
LOCATION:SANDHILLS (Bi-Lo #1)
CONTACT:
SUMMARY:Dep. Zimapan VS. Ghost Riders
DESCRIPTION:League Name: Liga Hispana Summer II Verde\nGame Type: Regular\n
 Game Status: Complete\nHome Team: Dep. Zimapan\nAway Team: Ghost Riders\nH
 ome Score: 6\nAway Score: 0
END:VEVENT
BEGIN:VEVENT
UID:1572547@ezleagues.ezfacility.com
DTSTAMP:20260424T044137Z
CREATED:20260424T044137Z
DTSTART:20080927T185000Z
DTEND:20080927T195000Z
LOCATION:SANDHILLS (Bi-Lo #1)
CONTACT:
SUMMARY:Dep. Zimapan VS. Liverpool Jrs.
DESCRIPTION:League Name: Liga Hispana Summer II Verde\nGame Type: Regular\n
 Game Status: Complete\nHome Team: Dep. Zimapan\nAway Team: Liverpool Jrs.\
 nHome Score: 0\nAway Score: 5
END:VEVENT
BEGIN:VEVENT
UID:1589294@ezleagues.ezfacility.com
DTSTAMP:20260424T044137Z
CREATED:20260424T044137Z
DTSTART:20081003T215000Z
DTEND:20081003T225000Z
LOCATION:SANDHILLS (Bi-Lo #1)
CONTACT:
SUMMARY:Gilbert Alianza VS. Dep. Zimapan
DESCRIPTION:League Name: Liga Hispana Summer II Verde\nGame Type: Regular\n
 Game Status: Complete\nHome Team: Gilbert Alianza\nAway Team: Dep. Zimapan
 \nHome Score: 6\nAway Score: 7
END:VEVENT
BEGIN:VEVENT
UID:1602342@ezleagues.ezfacility.com
DTSTAMP:20260424T044137Z
CREATED:20260424T044137Z
DTSTART:20081011T230000Z
DTEND:20081012T000000Z
LOCATION:SANDHILLS (Bi-Lo #1)
CONTACT:Mower
SUMMARY:Dep. Zimapan VS. Mapaches
DESCRIPTION:League Name: Liga Hispana Summer II Verde\nGame Type: Regular\n
 Game Status: Complete\nHome Team: Dep. Zimapan\nAway Team: Mapaches\nHome 
 Score: 1\nAway Score: 2
END:VEVENT
END:VCALENDAR
