BEGIN:VCALENDAR
VERSION:2.0
PRODID:-//EZFacility.com, Inc.//EZL 2.5.5.28621
BEGIN:VEVENT
UID:1506258@ezleagues.ezfacility.com
DTSTAMP:20260424T043924Z
CREATED:20260424T043924Z
DTSTART:20080815T192000Z
DTEND:20080815T202000Z
LOCATION:SANDHILLS (Field #2) 
CONTACT:
SUMMARY:Liverpool Jrs. VS. Internacional
DESCRIPTION:League Name: Liga Hispana Summer II Verde\nGame Type: Regular\n
 Game Status: Complete\nHome Team: Liverpool Jrs.\nAway Team: Internacional
 \nHome Score: 6\nAway Score: 0
END:VEVENT
BEGIN:VEVENT
UID:1513565@ezleagues.ezfacility.com
DTSTAMP:20260424T043924Z
CREATED:20260424T043924Z
DTSTART:20080822T215000Z
DTEND:20080822T225000Z
LOCATION:SANDHILLS (Bi-Lo #1)
CONTACT:
SUMMARY:Liverpool Jrs. VS. Puebla
DESCRIPTION:League Name: Liga Hispana Summer II Verde\nGame Type: Regular\n
 Game Status: Complete\nHome Team: Liverpool Jrs.\nAway Team: Puebla\nHome 
 Score: 6\nAway Score: 0
END:VEVENT
BEGIN:VEVENT
UID:1522757@ezleagues.ezfacility.com
DTSTAMP:20260424T043924Z
CREATED:20260424T043924Z
DTSTART:20080829T201000Z
DTEND:20080829T211000Z
LOCATION:SANDHILLS (Field #2) 
CONTACT:
SUMMARY:Liverpool Jrs. VS. Ghost Riders
DESCRIPTION:League Name: Liga Hispana Summer II Verde\nGame Type: Regular\n
 Game Status: Complete\nHome Team: Liverpool Jrs.\nAway Team: Ghost Riders\
 nHome Score: 6\nAway Score: 0
END:VEVENT
BEGIN:VEVENT
UID:1528939@ezleagues.ezfacility.com
DTSTAMP:20260424T043924Z
CREATED:20260424T043924Z
DTSTART:20080905T210000Z
DTEND:20080905T220000Z
LOCATION:SANDHILLS (Bi-Lo #1)
CONTACT:
SUMMARY:Gilbert Alianza VS. Liverpool Jrs.
DESCRIPTION:League Name: Liga Hispana Summer II Verde\nGame Type: Regular\n
 Game Status: Complete\nHome Team: Gilbert Alianza\nAway Team: Liverpool Jr
 s.\nHome Score: 3\nAway Score: 5
END:VEVENT
BEGIN:VEVENT
UID:1543630@ezleagues.ezfacility.com
DTSTAMP:20260424T043924Z
CREATED:20260424T043924Z
DTSTART:20080913T230000Z
DTEND:20080914T000000Z
LOCATION:SANDHILLS (Field #2) 
CONTACT:
SUMMARY:Mapaches VS. Liverpool Jrs.
DESCRIPTION:League Name: Liga Hispana Summer II Verde\nGame Type: Regular\n
 Game Status: Complete\nHome Team: Mapaches\nAway Team: Liverpool Jrs.\nHom
 e Score: 12\nAway Score: 2
END:VEVENT
BEGIN:VEVENT
UID:1555887@ezleagues.ezfacility.com
DTSTAMP:20260424T043924Z
CREATED:20260424T043924Z
DTSTART:20080920T203000Z
DTEND:20080920T213000Z
LOCATION:SANDHILLS (Bi-Lo #1)
CONTACT:Mower
SUMMARY:Dep. Allende VS. Liverpool Jrs.
DESCRIPTION:League Name: Liga Hispana Summer II Verde\nGame Type: Regular\n
 Game Status: Complete\nHome Team: Dep. Allende\nAway Team: Liverpool Jrs.\
 nHome Score: 2\nAway Score: 6
END:VEVENT
BEGIN:VEVENT
UID:1572547@ezleagues.ezfacility.com
DTSTAMP:20260424T043924Z
CREATED:20260424T043924Z
DTSTART:20080927T185000Z
DTEND:20080927T195000Z
LOCATION:SANDHILLS (Bi-Lo #1)
CONTACT:
SUMMARY:Dep. Zimapan VS. Liverpool Jrs.
DESCRIPTION:League Name: Liga Hispana Summer II Verde\nGame Type: Regular\n
 Game Status: Complete\nHome Team: Dep. Zimapan\nAway Team: Liverpool Jrs.\
 nHome Score: 0\nAway Score: 5
END:VEVENT
BEGIN:VEVENT
UID:1589306@ezleagues.ezfacility.com
DTSTAMP:20260424T043924Z
CREATED:20260424T043924Z
DTSTART:20081004T221000Z
DTEND:20081004T231000Z
LOCATION:SANDHILLS (Field #2) 
CONTACT:
SUMMARY:Liverpool Jrs. VS. Ghost Riders
DESCRIPTION:League Name: Liga Hispana Summer II Verde\nGame Type: Regular\n
 Game Status: Complete\nHome Team: Liverpool Jrs.\nAway Team: Ghost Riders\
 nHome Score: 6\nAway Score: 0
END:VEVENT
BEGIN:VEVENT
UID:1602340@ezleagues.ezfacility.com
DTSTAMP:20260424T043924Z
CREATED:20260424T043924Z
DTSTART:20081011T221000Z
DTEND:20081011T231000Z
LOCATION:SANDHILLS (Field #2) 
CONTACT:
SUMMARY:Liverpool Jrs. VS. Dep. Kings
DESCRIPTION:League Name: Liga Hispana Summer II Verde\nGame Type: Regular\n
 Game Status: Complete\nHome Team: Liverpool Jrs.\nAway Team: Dep. Kings\nH
 ome Score: 2\nAway Score: 1
END:VEVENT
END:VCALENDAR
