BEGIN:VCALENDAR
VERSION:2.0
PRODID:-//EZFacility.com, Inc.//EZL 2.5.5.28621
BEGIN:VEVENT
UID:1605468@ezleagues.ezfacility.com
DTSTAMP:20260424T041515Z
CREATED:20260424T041515Z
DTSTART:20081101T100000Z
DTEND:20081101T110000Z
LOCATION:PFFC Field House - Field C
CONTACT:
SUMMARY:Stoney Creek Angles VS. Eagles C
DESCRIPTION:League Name: U12 Girls Division #2\nGame Type: Regular\nGame St
 atus: Complete\nHome Team: Stoney Creek Angles\nAway Team: Eagles C\nHome 
 Score: 5\nAway Score: 0
END:VEVENT
BEGIN:VEVENT
UID:1605529@ezleagues.ezfacility.com
DTSTAMP:20260424T041515Z
CREATED:20260424T041515Z
DTSTART:20081108T100000Z
DTEND:20081108T110000Z
LOCATION:PFFC Field House - Field B
CONTACT:
SUMMARY:Georgetown Mustangs A VS. Eagles C
DESCRIPTION:League Name: U12 Girls Division #2\nGame Type: Regular\nGame St
 atus: Complete\nHome Team: Georgetown Mustangs A\nAway Team: Eagles C\nHom
 e Score: 2\nAway Score: 1
END:VEVENT
BEGIN:VEVENT
UID:1605589@ezleagues.ezfacility.com
DTSTAMP:20260424T041515Z
CREATED:20260424T041515Z
DTSTART:20081115T110000Z
DTEND:20081115T120000Z
LOCATION:PFFC Field House - Field D
CONTACT:
SUMMARY:Eagles C VS. Brams United C
DESCRIPTION:League Name: U12 Girls Division #2\nGame Type: Regular\nGame St
 atus: Complete\nHome Team: Eagles C\nAway Team: Brams United C\nHome Score
 : 2\nAway Score: 0
END:VEVENT
BEGIN:VEVENT
UID:1605648@ezleagues.ezfacility.com
DTSTAMP:20260424T041515Z
CREATED:20260424T041515Z
DTSTART:20081122T100000Z
DTEND:20081122T110000Z
LOCATION:PFFC Field House - Field B
CONTACT:
SUMMARY:Eagles C VS. Georgetown Mustangs B
DESCRIPTION:League Name: U12 Girls Division #2\nGame Type: Regular\nGame St
 atus: Complete\nHome Team: Eagles C\nAway Team: Georgetown Mustangs B\nHom
 e Score: 0\nAway Score: 1
END:VEVENT
BEGIN:VEVENT
UID:1605707@ezleagues.ezfacility.com
DTSTAMP:20260424T041515Z
CREATED:20260424T041515Z
DTSTART:20081129T100000Z
DTEND:20081129T110000Z
LOCATION:PFFC Field House - Field C
CONTACT:
SUMMARY:Eagles B VS. Eagles C
DESCRIPTION:League Name: U12 Girls Division #2\nGame Type: Regular\nGame St
 atus: Complete\nHome Team: Eagles B\nAway Team: Eagles C\nHome Score: 3\nA
 way Score: 1
END:VEVENT
BEGIN:VEVENT
UID:1605768@ezleagues.ezfacility.com
DTSTAMP:20260424T041515Z
CREATED:20260424T041515Z
DTSTART:20081206T100000Z
DTEND:20081206T110000Z
LOCATION:PFFC Field House - Field B
CONTACT:
SUMMARY:Stoney Creek Angles VS. Eagles C
DESCRIPTION:League Name: U12 Girls Division #2\nGame Type: Regular\nGame St
 atus: Complete\nHome Team: Stoney Creek Angles\nAway Team: Eagles C\nHome 
 Score: 6\nAway Score: 1
END:VEVENT
BEGIN:VEVENT
UID:1605829@ezleagues.ezfacility.com
DTSTAMP:20260424T041515Z
CREATED:20260424T041515Z
DTSTART:20081213T100000Z
DTEND:20081213T110000Z
LOCATION:PFFC Field House - Field C
CONTACT:
SUMMARY:Georgetown Mustangs A VS. Eagles C
DESCRIPTION:League Name: U12 Girls Division #2\nGame Type: Regular\nGame St
 atus: Complete\nHome Team: Georgetown Mustangs A\nAway Team: Eagles C\nHom
 e Score: 3\nAway Score: 0
END:VEVENT
BEGIN:VEVENT
UID:1605889@ezleagues.ezfacility.com
DTSTAMP:20260424T041515Z
CREATED:20260424T041515Z
DTSTART:20081220T100000Z
DTEND:20081220T110000Z
LOCATION:PFFC Field House - Field C
CONTACT:
SUMMARY:Eagles C VS. Brams United C
DESCRIPTION:League Name: U12 Girls Division #2\nGame Type: Regular\nGame St
 atus: Complete\nHome Team: Eagles C\nAway Team: Brams United C\nHome Score
 : 1\nAway Score: 2
END:VEVENT
BEGIN:VEVENT
UID:1606068@ezleagues.ezfacility.com
DTSTAMP:20260424T041515Z
CREATED:20260424T041515Z
DTSTART:20090110T110000Z
DTEND:20090110T120000Z
LOCATION:PFFC Field House - Field D
CONTACT:
SUMMARY:Eagles C VS. Stoney Creek Angles
DESCRIPTION:League Name: U12 Girls Division #2\nGame Type: Regular\nGame St
 atus: Complete\nHome Team: Eagles C\nAway Team: Stoney Creek Angles\nHome 
 Score: 0\nAway Score: 4
END:VEVENT
BEGIN:VEVENT
UID:1606129@ezleagues.ezfacility.com
DTSTAMP:20260424T041515Z
CREATED:20260424T041515Z
DTSTART:20090117T100000Z
DTEND:20090117T110000Z
LOCATION:PFFC Field House - Field C
CONTACT:
SUMMARY:Eagles C VS. Georgetown Mustangs A
DESCRIPTION:League Name: U12 Girls Division #2\nGame Type: Regular\nGame St
 atus: Complete\nHome Team: Eagles C\nAway Team: Georgetown Mustangs A\nHom
 e Score: 2\nAway Score: 3
END:VEVENT
BEGIN:VEVENT
UID:1606189@ezleagues.ezfacility.com
DTSTAMP:20260424T041515Z
CREATED:20260424T041515Z
DTSTART:20090124T100000Z
DTEND:20090124T110000Z
LOCATION:PFFC Field House - Field B
CONTACT:
SUMMARY:Brams United C VS. Eagles C
DESCRIPTION:League Name: U12 Girls Division #2\nGame Type: Regular\nGame St
 atus: Complete\nHome Team: Brams United C\nAway Team: Eagles C\nHome Score
 : 3\nAway Score: 1
END:VEVENT
BEGIN:VEVENT
UID:1606248@ezleagues.ezfacility.com
DTSTAMP:20260424T041515Z
CREATED:20260424T041515Z
DTSTART:20090131T110000Z
DTEND:20090131T120000Z
LOCATION:PFFC Field House - Field D
CONTACT:
SUMMARY:Georgetown Mustangs B VS. Eagles C
DESCRIPTION:League Name: U12 Girls Division #2\nGame Type: Regular\nGame St
 atus: Complete\nHome Team: Georgetown Mustangs B\nAway Team: Eagles C\nHom
 e Score: 1\nAway Score: 2
END:VEVENT
BEGIN:VEVENT
UID:1606307@ezleagues.ezfacility.com
DTSTAMP:20260424T041515Z
CREATED:20260424T041515Z
DTSTART:20090207T100000Z
DTEND:20090207T110000Z
LOCATION:PFFC Field House - Field B
CONTACT:
SUMMARY:Eagles C VS. Eagles B
DESCRIPTION:League Name: U12 Girls Division #2\nGame Type: Regular\nGame St
 atus: Complete\nHome Team: Eagles C\nAway Team: Eagles B\nHome Score: 1\nA
 way Score: 1
END:VEVENT
BEGIN:VEVENT
UID:1606368@ezleagues.ezfacility.com
DTSTAMP:20260424T041515Z
CREATED:20260424T041515Z
DTSTART:20090214T100000Z
DTEND:20090214T110000Z
LOCATION:PFFC Field House - Field B
CONTACT:
SUMMARY:Eagles C VS. Stoney Creek Angles
DESCRIPTION:League Name: U12 Girls Division #2\nGame Type: Regular\nGame St
 atus: Complete\nHome Team: Eagles C\nAway Team: Stoney Creek Angles\nHome 
 Score: 0\nAway Score: 2
END:VEVENT
BEGIN:VEVENT
UID:1606429@ezleagues.ezfacility.com
DTSTAMP:20260424T041515Z
CREATED:20260424T041515Z
DTSTART:20090221T100000Z
DTEND:20090221T110000Z
LOCATION:PFFC Field House - Field B
CONTACT:
SUMMARY:Eagles C VS. Georgetown Mustangs A
DESCRIPTION:League Name: U12 Girls Division #2\nGame Type: Regular\nGame St
 atus: Complete\nHome Team: Eagles C\nAway Team: Georgetown Mustangs A\nHom
 e Score: 0\nAway Score: 1
END:VEVENT
BEGIN:VEVENT
UID:1606489@ezleagues.ezfacility.com
DTSTAMP:20260424T041515Z
CREATED:20260424T041515Z
DTSTART:20090228T100000Z
DTEND:20090228T110000Z
LOCATION:PFFC Field House - Field C
CONTACT:
SUMMARY:Brams United C VS. Eagles C
DESCRIPTION:League Name: U12 Girls Division #2\nGame Type: Regular\nGame St
 atus: Complete\nHome Team: Brams United C\nAway Team: Eagles C\nHome Score
 : 2\nAway Score: 2
END:VEVENT
BEGIN:VEVENT
UID:1605948@ezleagues.ezfacility.com
DTSTAMP:20260424T041515Z
CREATED:20260424T041515Z
DTSTART:20090307T110000Z
DTEND:20090307T120000Z
LOCATION:PFFC Field House - Field D
CONTACT:
SUMMARY:Georgetown Mustangs B VS. Eagles C
DESCRIPTION:League Name: U12 Girls Division #2\nGame Type: Regular\nGame St
 atus: Complete\nHome Team: Georgetown Mustangs B\nAway Team: Eagles C\nHom
 e Score: 0\nAway Score: 2
END:VEVENT
BEGIN:VEVENT
UID:1606007@ezleagues.ezfacility.com
DTSTAMP:20260424T041515Z
CREATED:20260424T041515Z
DTSTART:20090321T110000Z
DTEND:20090321T120000Z
LOCATION:PFFC Field House - Field D
CONTACT:
SUMMARY:Eagles C VS. Eagles B
DESCRIPTION:League Name: U12 Girls Division #2\nGame Type: Regular\nGame St
 atus: Complete\nHome Team: Eagles C\nAway Team: Eagles B\nHome Score: 1\nA
 way Score: 2
END:VEVENT
BEGIN:VEVENT
UID:1714252@ezleagues.ezfacility.com
DTSTAMP:20260424T041515Z
CREATED:20260424T041515Z
DTSTART:20090328T110000Z
DTEND:20090328T120000Z
LOCATION:PFFC Field House - Field D
CONTACT:
SUMMARY:Brams United C VS. Eagles C
DESCRIPTION:League Name: U12 Girls Division #2\nGame Type: Postseason\nGame
  Status: Complete\nHome Team: Brams United C\nAway Team: Eagles C\nHome Sc
 ore: 2\nAway Score: 0
END:VEVENT
BEGIN:VEVENT
UID:1714255@ezleagues.ezfacility.com
DTSTAMP:20260424T041515Z
CREATED:20260424T041515Z
DTSTART:20090404T110000Z
DTEND:20090404T120000Z
LOCATION:PFFC Field House - Field D
CONTACT:
SUMMARY:Georgetown Mustangs B VS. Eagles C
DESCRIPTION:League Name: U12 Girls Division #2\nGame Type: Postseason\nGame
  Status: Complete\nHome Team: Georgetown Mustangs B\nAway Team: Eagles C\n
 Home Score: 0\nAway Score: 1
END:VEVENT
END:VCALENDAR
