BEGIN:VCALENDAR
VERSION:2.0
PRODID:-//EZFacility.com, Inc.//EZL 2.5.5.28621
BEGIN:VEVENT
UID:1638505@ezleagues.ezfacility.com
DTSTAMP:20260425T174404Z
CREATED:20260425T174404Z
DTSTART:20081027T190000Z
DTEND:20081027T200000Z
LOCATION:SANDHILLS (Field #2) 
CONTACT:
SUMMARY:Clifford VS. Pink Craze
DESCRIPTION:League Name: Winter I Women's Rec 2008\nGame Type: Regular\nGam
 e Status: Complete\nHome Team: Clifford\nAway Team: Pink Craze\nHome Score
 : 3\nAway Score: 3
END:VEVENT
BEGIN:VEVENT
UID:1658852@ezleagues.ezfacility.com
DTSTAMP:20260425T174404Z
CREATED:20260425T174404Z
DTSTART:20081110T204000Z
DTEND:20081110T214000Z
LOCATION:SANDHILLS (Bi-Lo #1)
CONTACT:Grimes
SUMMARY:Real Tambaca VS. Clifford
DESCRIPTION:League Name: Winter I Women's Rec 2008\nGame Type: Regular\nGam
 e Status: Complete\nHome Team: Real Tambaca\nAway Team: Clifford\nHome Sco
 re: 7\nAway Score: 6
END:VEVENT
BEGIN:VEVENT
UID:1752024@ezleagues.ezfacility.com
DTSTAMP:20260425T174404Z
CREATED:20260425T174404Z
DTSTART:20081117T190000Z
DTEND:20081117T195000Z
LOCATION:SANDHILLS (Field #2) 
CONTACT:
SUMMARY:Marixa's Team VS. Clifford
DESCRIPTION:League Name: Winter I Women's Rec 2008\nGame Type: Regular\nGam
 e Status: Complete\nHome Team: Marixa's Team\nAway Team: Clifford\nHome Sc
 ore: 2\nAway Score: 8
END:VEVENT
BEGIN:VEVENT
UID:1658856@ezleagues.ezfacility.com
DTSTAMP:20260425T174404Z
CREATED:20260425T174404Z
DTSTART:20081117T195000Z
DTEND:20081117T204000Z
LOCATION:SANDHILLS (Bi-Lo #1)
CONTACT:Grimes
SUMMARY:Clifford VS. Hicks' Law Firm & Jacob's HVAC
DESCRIPTION:League Name: Winter I Women's Rec 2008\nGame Type: Regular\nGam
 e Status: Complete\nHome Team: Clifford\nAway Team: Hicks' Law Firm & Jaco
 b's HVAC\nHome Score: 9\nAway Score: 1
END:VEVENT
BEGIN:VEVENT
UID:1658867@ezleagues.ezfacility.com
DTSTAMP:20260425T174404Z
CREATED:20260425T174404Z
DTSTART:20081124T213000Z
DTEND:20081124T223000Z
LOCATION:SANDHILLS (Field #2) 
CONTACT:Mower
SUMMARY:Marixa's Team VS. Clifford
DESCRIPTION:League Name: Winter I Women's Rec 2008\nGame Type: Regular\nGam
 e Status: Complete\nHome Team: Marixa's Team\nAway Team: Clifford\nHome Sc
 ore: 1\nAway Score: 9
END:VEVENT
BEGIN:VEVENT
UID:1658872@ezleagues.ezfacility.com
DTSTAMP:20260425T174404Z
CREATED:20260425T174404Z
DTSTART:20081201T195000Z
DTEND:20081201T205000Z
LOCATION:SANDHILLS (Field #2) 
CONTACT:Mower
SUMMARY:Clifford VS. Las Etsrellas
DESCRIPTION:League Name: Winter I Women's Rec 2008\nGame Type: Regular\nGam
 e Status: Complete\nHome Team: Clifford\nAway Team: Las Etsrellas\nHome Sc
 ore: 8\nAway Score: 0
END:VEVENT
BEGIN:VEVENT
UID:1658877@ezleagues.ezfacility.com
DTSTAMP:20260425T174404Z
CREATED:20260425T174404Z
DTSTART:20081208T195000Z
DTEND:20081208T205000Z
LOCATION:SANDHILLS (Bi-Lo #1)
CONTACT:
SUMMARY:Clifford VS. Kick Chicks
DESCRIPTION:League Name: Winter I Women's Rec 2008\nGame Type: Regular\nGam
 e Status: Complete\nHome Team: Clifford\nAway Team: Kick Chicks\nHome Scor
 e: 6\nAway Score: 3
END:VEVENT
BEGIN:VEVENT
UID:1658889@ezleagues.ezfacility.com
DTSTAMP:20260425T174404Z
CREATED:20260425T174404Z
DTSTART:20081215T204000Z
DTEND:20081215T214000Z
LOCATION:SANDHILLS (Field #2) 
CONTACT:Mower
SUMMARY:Clifford VS. Susie's Team
DESCRIPTION:League Name: Winter I Women's Rec 2008\nGame Type: Regular\nGam
 e Status: Complete\nHome Team: Clifford\nAway Team: Susie's Team\nHome Sco
 re: 4\nAway Score: 6
END:VEVENT
END:VCALENDAR
