BEGIN:VCALENDAR
VERSION:2.0
PRODID:-//EZFacility.com, Inc.//EZL 2.5.5.28621
BEGIN:VEVENT
UID:1632004@ezleagues.ezfacility.com
DTSTAMP:20260426T033744Z
CREATED:20260426T033744Z
DTSTART:20081023T195000Z
DTEND:20081023T205000Z
LOCATION:SANDHILLS (Bi-Lo #1)
CONTACT:
SUMMARY:Red Dragons VS. BCBS
DESCRIPTION:League Name: Winter I Men's Thurs Rec\nGame Type: Regular\nGame
  Status: Complete\nHome Team: Red Dragons\nAway Team: BCBS\nHome Score: 8\
 nAway Score: 6
END:VEVENT
BEGIN:VEVENT
UID:1644341@ezleagues.ezfacility.com
DTSTAMP:20260426T033744Z
CREATED:20260426T033744Z
DTSTART:20081030T195000Z
DTEND:20081030T205000Z
LOCATION:SANDHILLS (Field #2) 
CONTACT:
SUMMARY:BCBS VS. Coke B
DESCRIPTION:League Name: Winter I Men's Thurs Rec\nGame Type: Regular\nGame
  Status: Complete\nHome Team: BCBS\nAway Team: Coke B\nHome Score: 2\nAway
  Score: 4
END:VEVENT
BEGIN:VEVENT
UID:1663190@ezleagues.ezfacility.com
DTSTAMP:20260426T033744Z
CREATED:20260426T033744Z
DTSTART:20081106T190000Z
DTEND:20081106T200000Z
LOCATION:SANDHILLS (Bi-Lo #1)
CONTACT:
SUMMARY:BCBS VS. Wallbangers
DESCRIPTION:League Name: Winter I Men's Thurs Rec\nGame Type: Regular\nGame
  Status: Complete\nHome Team: BCBS\nAway Team: Wallbangers\nHome Score: 3\
 nAway Score: 5
END:VEVENT
BEGIN:VEVENT
UID:1665999@ezleagues.ezfacility.com
DTSTAMP:20260426T033744Z
CREATED:20260426T033744Z
DTSTART:20081113T190000Z
DTEND:20081113T200000Z
LOCATION:SANDHILLS (Field #2) 
CONTACT:Mower
SUMMARY:BCBS VS. Midlands United
DESCRIPTION:League Name: Winter I Men's Thurs Rec\nGame Type: Regular\nGame
  Status: Complete\nHome Team: BCBS\nAway Team: Midlands United\nHome Score
 : 1\nAway Score: 6
END:VEVENT
BEGIN:VEVENT
UID:1666004@ezleagues.ezfacility.com
DTSTAMP:20260426T033744Z
CREATED:20260426T033744Z
DTSTART:20081120T190000Z
DTEND:20081120T195000Z
LOCATION:SANDHILLS (Field #2) 
CONTACT:
SUMMARY:BCBS VS. Locos United
DESCRIPTION:League Name: Winter I Men's Thurs Rec\nGame Type: Regular\nGame
  Status: Complete\nHome Team: BCBS\nAway Team: Locos United\nHome Score: 7
 \nAway Score: 7
END:VEVENT
BEGIN:VEVENT
UID:1666021@ezleagues.ezfacility.com
DTSTAMP:20260426T033744Z
CREATED:20260426T033744Z
DTSTART:20081204T220000Z
DTEND:20081204T230000Z
LOCATION:SANDHILLS (Field #2) 
CONTACT:
SUMMARY:Los Zorros VS. BCBS
DESCRIPTION:League Name: Winter I Men's Thurs Rec\nGame Type: Regular\nGame
  Status: Complete\nHome Team: Los Zorros\nAway Team: BCBS\nHome Score: 0\n
 Away Score: 3
END:VEVENT
BEGIN:VEVENT
UID:1666015@ezleagues.ezfacility.com
DTSTAMP:20260426T033744Z
CREATED:20260426T033744Z
DTSTART:20081211T213000Z
DTEND:20081211T223000Z
LOCATION:SANDHILLS (Field #2) 
CONTACT:
SUMMARY:BCBS VS. Strikers
DESCRIPTION:League Name: Winter I Men's Thurs Rec\nGame Type: Regular\nGame
  Status: Complete\nHome Team: BCBS\nAway Team: Strikers\nHome Score: 5\nAw
 ay Score: 7
END:VEVENT
BEGIN:VEVENT
UID:1755476@ezleagues.ezfacility.com
DTSTAMP:20260426T033744Z
CREATED:20260426T033744Z
DTSTART:20081218T213000Z
DTEND:20081218T223000Z
LOCATION:SANDHILLS (Field #2) 
CONTACT:
SUMMARY:BCBS VS. Rangers
DESCRIPTION:League Name: Winter I Men's Thurs Rec\nGame Type: Regular\nGame
  Status: Complete\nHome Team: BCBS\nAway Team: Rangers\nHome Score: 6\nAwa
 y Score: 5
END:VEVENT
END:VCALENDAR
