BEGIN:VCALENDAR
VERSION:2.0
PRODID:-//EZFacility.com, Inc.//EZL 2.5.5.28621
BEGIN:VEVENT
UID:1632005@ezleagues.ezfacility.com
DTSTAMP:20260424T043255Z
CREATED:20260424T043255Z
DTSTART:20081023T190000Z
DTEND:20081023T200000Z
LOCATION:SANDHILLS (Bi-Lo #1)
CONTACT:
SUMMARY:Midlands United VS. Dep. Jalisco
DESCRIPTION:League Name: Winter I Men's Thurs Rec\nGame Type: Regular\nGame
  Status: Complete\nHome Team: Midlands United\nAway Team: Dep. Jalisco\nHo
 me Score: 4\nAway Score: 6
END:VEVENT
BEGIN:VEVENT
UID:1644334@ezleagues.ezfacility.com
DTSTAMP:20260424T043255Z
CREATED:20260424T043255Z
DTSTART:20081030T190000Z
DTEND:20081030T200000Z
LOCATION:SANDHILLS (Bi-Lo #1)
CONTACT:
SUMMARY:Locos United VS. Midlands United
DESCRIPTION:League Name: Winter I Men's Thurs Rec\nGame Type: Regular\nGame
  Status: Complete\nHome Team: Locos United\nAway Team: Midlands United\nHo
 me Score: 7\nAway Score: 6
END:VEVENT
BEGIN:VEVENT
UID:1663191@ezleagues.ezfacility.com
DTSTAMP:20260424T043255Z
CREATED:20260424T043255Z
DTSTART:20081106T195000Z
DTEND:20081106T205000Z
LOCATION:SANDHILLS (Field #2) 
CONTACT:Mower
SUMMARY:Coke B VS. Midlands United
DESCRIPTION:League Name: Winter I Men's Thurs Rec\nGame Type: Regular\nGame
  Status: Complete\nHome Team: Coke B\nAway Team: Midlands United\nHome Sco
 re: 4\nAway Score: 3
END:VEVENT
BEGIN:VEVENT
UID:1665999@ezleagues.ezfacility.com
DTSTAMP:20260424T043255Z
CREATED:20260424T043255Z
DTSTART:20081113T190000Z
DTEND:20081113T200000Z
LOCATION:SANDHILLS (Field #2) 
CONTACT:Mower
SUMMARY:BCBS VS. Midlands United
DESCRIPTION:League Name: Winter I Men's Thurs Rec\nGame Type: Regular\nGame
  Status: Complete\nHome Team: BCBS\nAway Team: Midlands United\nHome Score
 : 1\nAway Score: 6
END:VEVENT
BEGIN:VEVENT
UID:1666017@ezleagues.ezfacility.com
DTSTAMP:20260424T043255Z
CREATED:20260424T043255Z
DTSTART:20081204T190000Z
DTEND:20081204T200000Z
LOCATION:SANDHILLS (Field #2) 
CONTACT:
SUMMARY:Midlands United VS. Dep. Jalisco
DESCRIPTION:League Name: Winter I Men's Thurs Rec\nGame Type: Regular\nGame
  Status: Complete\nHome Team: Midlands United\nAway Team: Dep. Jalisco\nHo
 me Score: 3\nAway Score: 0
END:VEVENT
BEGIN:VEVENT
UID:1666011@ezleagues.ezfacility.com
DTSTAMP:20260424T043255Z
CREATED:20260424T043255Z
DTSTART:20081211T195000Z
DTEND:20081211T205000Z
LOCATION:SANDHILLS (Field #2) 
CONTACT:Mower
SUMMARY:Wallbangers VS. Midlands United
DESCRIPTION:League Name: Winter I Men's Thurs Rec\nGame Type: Regular\nGame
  Status: Complete\nHome Team: Wallbangers\nAway Team: Midlands United\nHom
 e Score: 4\nAway Score: 2
END:VEVENT
BEGIN:VEVENT
UID:1755475@ezleagues.ezfacility.com
DTSTAMP:20260424T043255Z
CREATED:20260424T043255Z
DTSTART:20081218T204000Z
DTEND:20081218T214000Z
LOCATION:SANDHILLS (Bi-Lo #1)
CONTACT:
SUMMARY:Wallbangers VS. Midlands United
DESCRIPTION:League Name: Winter I Men's Thurs Rec\nGame Type: Regular\nGame
  Status: Complete\nHome Team: Wallbangers\nAway Team: Midlands United\nHom
 e Score: 3\nAway Score: 0
END:VEVENT
END:VCALENDAR
