BEGIN:VCALENDAR
VERSION:2.0
PRODID:-//EZFacility.com, Inc.//EZL 2.5.5.28621
BEGIN:VEVENT
UID:1638465@ezleagues.ezfacility.com
DTSTAMP:20260426T033729Z
CREATED:20260426T033729Z
DTSTART:20081026T195000Z
DTEND:20081026T205000Z
LOCATION:SANDHILLS (Field #2) 
CONTACT:
SUMMARY:Moore Orthopedic VS. Clutch
DESCRIPTION:League Name: Winter I Co-ed 2008\nGame Type: Regular\nGame Stat
 us: Complete\nHome Team: Moore Orthopedic\nAway Team: Clutch\nHome Score: 
 0\nAway Score: 3
END:VEVENT
BEGIN:VEVENT
UID:1654464@ezleagues.ezfacility.com
DTSTAMP:20260426T033729Z
CREATED:20260426T033729Z
DTSTART:20081102T181000Z
DTEND:20081102T191000Z
LOCATION:SANDHILLS (Field #2) 
CONTACT:
SUMMARY:WHS VS. Moore Orthopedic
DESCRIPTION:League Name: Winter I Co-ed 2008\nGame Type: Regular\nGame Stat
 us: Complete\nHome Team: WHS\nAway Team: Moore Orthopedic\nHome Score: 8\n
 Away Score: 6
END:VEVENT
BEGIN:VEVENT
UID:1673686@ezleagues.ezfacility.com
DTSTAMP:20260426T033729Z
CREATED:20260426T033729Z
DTSTART:20081109T195000Z
DTEND:20081109T205000Z
LOCATION:SANDHILLS (Field #2) 
CONTACT:
SUMMARY:Moore Orthopedic VS. Plex House
DESCRIPTION:League Name: Winter I Co-ed 2008\nGame Type: Regular\nGame Stat
 us: Complete\nHome Team: Moore Orthopedic\nAway Team: Plex House\nHome Sco
 re: 11\nAway Score: 6
END:VEVENT
BEGIN:VEVENT
UID:1673690@ezleagues.ezfacility.com
DTSTAMP:20260426T033729Z
CREATED:20260426T033729Z
DTSTART:20081116T181000Z
DTEND:20081116T191000Z
LOCATION:SANDHILLS (Field #2) 
CONTACT:
SUMMARY:Moore Orthopedic VS. Crackers and Salsa
DESCRIPTION:League Name: Winter I Co-ed 2008\nGame Type: Regular\nGame Stat
 us: Complete\nHome Team: Moore Orthopedic\nAway Team: Crackers and Salsa\n
 Home Score: 2\nAway Score: 9
END:VEVENT
BEGIN:VEVENT
UID:1673691@ezleagues.ezfacility.com
DTSTAMP:20260426T033729Z
CREATED:20260426T033729Z
DTSTART:20081123T181000Z
DTEND:20081123T190000Z
LOCATION:SANDHILLS (Field #2) 
CONTACT:
SUMMARY:Clutch VS. Moore Orthopedic
DESCRIPTION:League Name: Winter I Co-ed 2008\nGame Type: Regular\nGame Stat
 us: Complete\nHome Team: Clutch\nAway Team: Moore Orthopedic\nHome Score: 
 1\nAway Score: 13
END:VEVENT
BEGIN:VEVENT
UID:1673693@ezleagues.ezfacility.com
DTSTAMP:20260426T033729Z
CREATED:20260426T033729Z
DTSTART:20081123T195000Z
DTEND:20081123T205000Z
LOCATION:SANDHILLS (Field #2) 
CONTACT:
SUMMARY:Moore Orthopedic VS. WHS
DESCRIPTION:League Name: Winter I Co-ed 2008\nGame Type: Regular\nGame Stat
 us: Complete\nHome Team: Moore Orthopedic\nAway Team: WHS\nHome Score: 5\n
 Away Score: 13
END:VEVENT
BEGIN:VEVENT
UID:1673696@ezleagues.ezfacility.com
DTSTAMP:20260426T033729Z
CREATED:20260426T033729Z
DTSTART:20081130T192000Z
DTEND:20081130T202000Z
LOCATION:SANDHILLS (Field #2) 
CONTACT:
SUMMARY:Moore Orthopedic VS. Crackers and Salsa
DESCRIPTION:League Name: Winter I Co-ed 2008\nGame Type: Regular\nGame Stat
 us: Complete\nHome Team: Moore Orthopedic\nAway Team: Crackers and Salsa\n
 Home Score: 2\nAway Score: 6
END:VEVENT
BEGIN:VEVENT
UID:1673699@ezleagues.ezfacility.com
DTSTAMP:20260426T033729Z
CREATED:20260426T033729Z
DTSTART:20081207T192000Z
DTEND:20081207T202000Z
LOCATION:SANDHILLS (Field #2) 
CONTACT:
SUMMARY:Moore Orthopedic VS. Clutch
DESCRIPTION:League Name: Winter I Co-ed 2008\nGame Type: Regular\nGame Stat
 us: Complete\nHome Team: Moore Orthopedic\nAway Team: Clutch\nHome Score: 
 10\nAway Score: 2
END:VEVENT
END:VCALENDAR
