BEGIN:VCALENDAR
VERSION:2.0
PRODID:-//EZFacility.com, Inc.//EZL 2.5.5.28621
BEGIN:VEVENT
UID:1654969@ezleagues.ezfacility.com
DTSTAMP:20260426T033611Z
CREATED:20260426T033611Z
DTSTART:20081029T190000Z
DTEND:20081029T200000Z
LOCATION:SANDHILLS (Bi-Lo #1)
CONTACT:
SUMMARY:Shockers VS. Mud Dawgs
DESCRIPTION:League Name: Winter I Flag Football 2008 NFC\nGame Type: Regula
 r\nGame Status: Complete\nHome Team: Shockers\nAway Team: Mud Dawgs\nHome 
 Score: 51\nAway Score: 50
END:VEVENT
BEGIN:VEVENT
UID:1655555@ezleagues.ezfacility.com
DTSTAMP:20260426T033611Z
CREATED:20260426T033611Z
DTSTART:20081105T185000Z
DTEND:20081105T195000Z
LOCATION:SANDHILLS (Bi-Lo #1)
CONTACT:
SUMMARY:Enforcers VS. Mud Dawgs
DESCRIPTION:League Name: Winter I Flag Football 2008 NFC\nGame Type: Regula
 r\nGame Status: Complete\nHome Team: Enforcers\nAway Team: Mud Dawgs\nHome
  Score: 48\nAway Score: 32
END:VEVENT
BEGIN:VEVENT
UID:1679492@ezleagues.ezfacility.com
DTSTAMP:20260426T033611Z
CREATED:20260426T033611Z
DTSTART:20081112T213000Z
DTEND:20081112T223000Z
LOCATION:SANDHILLS (Field #2) 
CONTACT:
SUMMARY:Mud Dawgs VS. Dynasty
DESCRIPTION:League Name: Winter I Flag Football 2008 NFC\nGame Type: Regula
 r\nGame Status: Complete\nHome Team: Mud Dawgs\nAway Team: Dynasty\nHome S
 core: 18\nAway Score: 39
END:VEVENT
BEGIN:VEVENT
UID:1689835@ezleagues.ezfacility.com
DTSTAMP:20260426T033611Z
CREATED:20260426T033611Z
DTSTART:20081119T213000Z
DTEND:20081119T222000Z
LOCATION:SANDHILLS (Field #2) 
CONTACT:
SUMMARY:Mud Dawgs VS. C & J Blue Devils
DESCRIPTION:League Name: Winter I Flag Football 2008 NFC\nGame Type: Regula
 r\nGame Status: Complete\nHome Team: Mud Dawgs\nAway Team: C & J Blue Devi
 ls\nHome Score: 53\nAway Score: 52
END:VEVENT
BEGIN:VEVENT
UID:1709782@ezleagues.ezfacility.com
DTSTAMP:20260426T033611Z
CREATED:20260426T033611Z
DTSTART:20081203T195000Z
DTEND:20081203T205000Z
LOCATION:SANDHILLS (Field #2) 
CONTACT:
SUMMARY:Mud Dawgs VS. Enforcers
DESCRIPTION:League Name: Winter I Flag Football 2008 NFC\nGame Type: Regula
 r\nGame Status: Complete\nHome Team: Mud Dawgs\nAway Team: Enforcers\nHome
  Score: 47\nAway Score: 40
END:VEVENT
BEGIN:VEVENT
UID:1709787@ezleagues.ezfacility.com
DTSTAMP:20260426T033611Z
CREATED:20260426T033611Z
DTSTART:20081210T190000Z
DTEND:20081210T200000Z
LOCATION:SANDHILLS (Field #2) 
CONTACT:
SUMMARY:Gold Rush VS. Mud Dawgs
DESCRIPTION:League Name: Winter I Flag Football 2008 NFC\nGame Type: Regula
 r\nGame Status: Complete\nHome Team: Gold Rush\nAway Team: Mud Dawgs\nHome
  Score: 71\nAway Score: 45
END:VEVENT
BEGIN:VEVENT
UID:1749752@ezleagues.ezfacility.com
DTSTAMP:20260426T033611Z
CREATED:20260426T033611Z
DTSTART:20081217T195000Z
DTEND:20081217T205000Z
LOCATION:SANDHILLS (Field #2) 
CONTACT:
SUMMARY:Mud Dawgs VS. Wolfpack
DESCRIPTION:League Name: Winter I Flag Football 2008 NFC\nGame Type: Regula
 r\nGame Status: Complete\nHome Team: Mud Dawgs\nAway Team: Wolfpack\nHome 
 Score: 25\nAway Score: 50
END:VEVENT
END:VCALENDAR
