BEGIN:VCALENDAR
VERSION:2.0
PRODID:-//EZFacility.com, Inc.//EZL 2.5.5.28621
BEGIN:VEVENT
UID:1690214@ezleagues.ezfacility.com
DTSTAMP:20260424T044058Z
CREATED:20260424T044058Z
DTSTART:20081117T183000Z
DTEND:20081117T193000Z
LOCATION:SANDHILLS (Field #2) 
CONTACT:Cook
SUMMARY:ACF Red VS. Terrapins
DESCRIPTION:League Name: 08W - HS Varisty Girls (Gold)\nGame Type: Regular\
 nGame Status: Complete\nHome Team: ACF Red\nAway Team: Terrapins\nHome Sco
 re: 3\nAway Score: 8
END:VEVENT
BEGIN:VEVENT
UID:1703721@ezleagues.ezfacility.com
DTSTAMP:20260424T044058Z
CREATED:20260424T044058Z
DTSTART:20081126T172000Z
DTEND:20081126T182000Z
LOCATION:SANDHILLS (Bi-Lo #1)
CONTACT:
SUMMARY:ACF Red VS. Hammond
DESCRIPTION:League Name: 08W - HS Varisty Girls (Gold)\nGame Type: Regular\
 nGame Status: Complete\nHome Team: ACF Red\nAway Team: Hammond\nHome Score
 : 3\nAway Score: 0
END:VEVENT
BEGIN:VEVENT
UID:1703851@ezleagues.ezfacility.com
DTSTAMP:20260424T044058Z
CREATED:20260424T044058Z
DTSTART:20081201T172000Z
DTEND:20081201T182000Z
LOCATION:SANDHILLS (Bi-Lo #1)
CONTACT:Mower
SUMMARY:ACF Red VS. Ben Lippen
DESCRIPTION:League Name: 08W - HS Varisty Girls (Gold)\nGame Type: Regular\
 nGame Status: Complete\nHome Team: ACF Red\nAway Team: Ben Lippen\nHome Sc
 ore: 0\nAway Score: 3
END:VEVENT
BEGIN:VEVENT
UID:1703888@ezleagues.ezfacility.com
DTSTAMP:20260424T044058Z
CREATED:20260424T044058Z
DTSTART:20081208T171000Z
DTEND:20081208T181000Z
LOCATION:SANDHILLS (Bi-Lo #1)
CONTACT:Mower
SUMMARY:ACF Red VS. Blazing Blazers
DESCRIPTION:League Name: 08W - HS Varisty Girls (Gold)\nGame Type: Regular\
 nGame Status: Complete\nHome Team: ACF Red\nAway Team: Blazing Blazers\nHo
 me Score: 4\nAway Score: 5
END:VEVENT
BEGIN:VEVENT
UID:1703893@ezleagues.ezfacility.com
DTSTAMP:20260424T044058Z
CREATED:20260424T044058Z
DTSTART:20081215T172000Z
DTEND:20081215T182000Z
LOCATION:SANDHILLS (Bi-Lo #1)
CONTACT:Mower
SUMMARY:ACF Red VS. Las Gordidas
DESCRIPTION:League Name: 08W - HS Varisty Girls (Gold)\nGame Type: Regular\
 nGame Status: Complete\nHome Team: ACF Red\nAway Team: Las Gordidas\nHome 
 Score: 4\nAway Score: 8
END:VEVENT
BEGIN:VEVENT
UID:1703903@ezleagues.ezfacility.com
DTSTAMP:20260424T044058Z
CREATED:20260424T044058Z
DTSTART:20090105T172000Z
DTEND:20090105T181000Z
LOCATION:SANDHILLS (Bi-Lo #1)
CONTACT:
SUMMARY:ACF Red VS. Hip-Hop-Opatami
DESCRIPTION:League Name: 08W - HS Varisty Girls (Gold)\nGame Type: Regular\
 nGame Status: Complete\nHome Team: ACF Red\nAway Team: Hip-Hop-Opatami\nHo
 me Score: 2\nAway Score: 5
END:VEVENT
BEGIN:VEVENT
UID:1703909@ezleagues.ezfacility.com
DTSTAMP:20260424T044058Z
CREATED:20260424T044058Z
DTSTART:20090112T172000Z
DTEND:20090112T181000Z
LOCATION:SANDHILLS (Bi-Lo #1)
CONTACT:Mower
SUMMARY:ACF Red VS. Supersonic Snakes
DESCRIPTION:League Name: 08W - HS Varisty Girls (Gold)\nGame Type: Regular\
 nGame Status: Complete\nHome Team: ACF Red\nAway Team: Supersonic Snakes\n
 Home Score: 0\nAway Score: 3
END:VEVENT
BEGIN:VEVENT
UID:1703913@ezleagues.ezfacility.com
DTSTAMP:20260424T044058Z
CREATED:20260424T044058Z
DTSTART:20090119T163000Z
DTEND:20090119T173000Z
LOCATION:SANDHILLS (Bi-Lo #1)
CONTACT:Grimes
SUMMARY:ACF Red VS. Cheetahs
DESCRIPTION:League Name: 08W - HS Varisty Girls (Gold)\nGame Type: Regular\
 nGame Status: Complete\nHome Team: ACF Red\nAway Team: Cheetahs\nHome Scor
 e: 0\nAway Score: 3
END:VEVENT
BEGIN:VEVENT
UID:1703918@ezleagues.ezfacility.com
DTSTAMP:20260424T044058Z
CREATED:20260424T044058Z
DTSTART:20090126T163000Z
DTEND:20090126T173000Z
LOCATION:SANDHILLS (Bi-Lo #1)
CONTACT:
SUMMARY:ACF Red VS. Terrapins
DESCRIPTION:League Name: 08W - HS Varisty Girls (Gold)\nGame Type: Regular\
 nGame Status: Complete\nHome Team: ACF Red\nAway Team: Terrapins\nHome Sco
 re: 4\nAway Score: 4
END:VEVENT
END:VCALENDAR
