BEGIN:VCALENDAR
VERSION:2.0
PRODID:-//EZFacility.com, Inc.//EZL 2.5.5.28621
BEGIN:VEVENT
UID:1686051@ezleagues.ezfacility.com
DTSTAMP:20260424T044043Z
CREATED:20260424T044043Z
DTSTART:20081115T171000Z
DTEND:20081115T180000Z
LOCATION:SANDHILLS (Bi-Lo #1)
CONTACT:Perez
SUMMARY:Dep. Milan VS. Dep. Costa
DESCRIPTION:League Name: Hispanic League Fall Division Amarilla\nGame Type:
  Regular\nGame Status: Complete\nHome Team: Dep. Milan\nAway Team: Dep. Co
 sta\nHome Score: 0\nAway Score: 6
END:VEVENT
END:VCALENDAR
