BEGIN:VCALENDAR
VERSION:2.0
PRODID:-//EZFacility.com, Inc.//EZL 2.5.5.28621
BEGIN:VEVENT
UID:1686047@ezleagues.ezfacility.com
DTSTAMP:20260421T024049Z
CREATED:20260421T024049Z
DTSTART:20081115T203000Z
DTEND:20081115T212000Z
LOCATION:SANDHILLS (Bi-Lo #1)
CONTACT:
SUMMARY:Manchester VS. Queretaro
DESCRIPTION:League Name: Hispanic League Fall Division Verde\nGame Type: Re
 gular\nGame Status: Complete\nHome Team: Manchester\nAway Team: Queretaro\
 nHome Score: 6\nAway Score: 3
END:VEVENT
END:VCALENDAR
