BEGIN:VCALENDAR
VERSION:2.0
PRODID:-//EZFacility.com, Inc.//EZL 2.5.5.28621
BEGIN:VEVENT
UID:1686050@ezleagues.ezfacility.com
DTSTAMP:20260426T033715Z
CREATED:20260426T033715Z
DTSTART:20081115T230000Z
DTEND:20081115T235000Z
LOCATION:SANDHILLS (Bi-Lo #1)
CONTACT:
SUMMARY:Mapaches VS. Liverpool Jrs.
DESCRIPTION:League Name: Hispanic League Fall Division Verde\nGame Type: Re
 gular\nGame Status: Complete\nHome Team: Mapaches\nAway Team: Liverpool Jr
 s.\nHome Score: 8\nAway Score: 4
END:VEVENT
BEGIN:VEVENT
UID:1702519@ezleagues.ezfacility.com
DTSTAMP:20260426T033715Z
CREATED:20260426T033715Z
DTSTART:20081122T174000Z
DTEND:20081122T183000Z
LOCATION:SANDHILLS (Bi-Lo #1)
CONTACT:
SUMMARY:Liverpool Jrs. VS. Correcaminos
DESCRIPTION:League Name: Hispanic League Fall Division Verde\nGame Type: Re
 gular\nGame Status: Complete\nHome Team: Liverpool Jrs.\nAway Team: Correc
 aminos\nHome Score: 1\nAway Score: 7
END:VEVENT
BEGIN:VEVENT
UID:1711438@ezleagues.ezfacility.com
DTSTAMP:20260426T033715Z
CREATED:20260426T033715Z
DTSTART:20081129T233000Z
DTEND:20081130T002000Z
LOCATION:SANDHILLS (Field #2) 
CONTACT:
SUMMARY:Liverpool Jrs. VS. Leon
DESCRIPTION:League Name: Hispanic League Fall Division Verde\nGame Type: Re
 gular\nGame Status: Complete\nHome Team: Liverpool Jrs.\nAway Team: Leon\n
 Home Score: 3\nAway Score: 6
END:VEVENT
BEGIN:VEVENT
UID:1721942@ezleagues.ezfacility.com
DTSTAMP:20260426T033715Z
CREATED:20260426T033715Z
DTSTART:20081206T215000Z
DTEND:20081206T224000Z
LOCATION:SANDHILLS (Field #2) 
CONTACT:
SUMMARY:Juventus VS. Liverpool Jrs.
DESCRIPTION:League Name: Hispanic League Fall Division Verde\nGame Type: Re
 gular\nGame Status: Complete\nHome Team: Juventus\nAway Team: Liverpool Jr
 s.\nHome Score: 4\nAway Score: 2
END:VEVENT
BEGIN:VEVENT
UID:1721948@ezleagues.ezfacility.com
DTSTAMP:20260426T033715Z
CREATED:20260426T033715Z
DTSTART:20081213T192000Z
DTEND:20081213T201000Z
LOCATION:SANDHILLS (Field #2) 
CONTACT:
SUMMARY:Liverpool Jrs. VS. Dep. Hidalgo
DESCRIPTION:League Name: Hispanic League Fall Division Verde\nGame Type: Re
 gular\nGame Status: Complete\nHome Team: Liverpool Jrs.\nAway Team: Dep. H
 idalgo\nHome Score: 8\nAway Score: 1
END:VEVENT
BEGIN:VEVENT
UID:1721958@ezleagues.ezfacility.com
DTSTAMP:20260426T033715Z
CREATED:20260426T033715Z
DTSTART:20081220T215000Z
DTEND:20081220T224000Z
LOCATION:SANDHILLS (Field #2) 
CONTACT:
SUMMARY:Liverpool Jrs. VS. Manchester
DESCRIPTION:League Name: Hispanic League Fall Division Verde\nGame Type: Re
 gular\nGame Status: Complete\nHome Team: Liverpool Jrs.\nAway Team: Manche
 ster\nHome Score: 5\nAway Score: 1
END:VEVENT
BEGIN:VEVENT
UID:1721993@ezleagues.ezfacility.com
DTSTAMP:20260426T033715Z
CREATED:20260426T033715Z
DTSTART:20090103T192000Z
DTEND:20090103T201000Z
LOCATION:SANDHILLS (Field #2) 
CONTACT:
SUMMARY:Dep. Trejo VS. Liverpool Jrs.
DESCRIPTION:League Name: Hispanic League Fall Division Verde\nGame Type: Re
 gular\nGame Status: Complete\nHome Team: Dep. Trejo\nAway Team: Liverpool 
 Jrs.\nHome Score: 3\nAway Score: 7
END:VEVENT
BEGIN:VEVENT
UID:1721996@ezleagues.ezfacility.com
DTSTAMP:20260426T033715Z
CREATED:20260426T033715Z
DTSTART:20090109T220000Z
DTEND:20090109T225000Z
LOCATION:SANDHILLS (Bi-Lo #1)
CONTACT:
SUMMARY:Big Panthers VS. Liverpool Jrs.
DESCRIPTION:League Name: Hispanic League Fall Division Verde\nGame Type: Re
 gular\nGame Status: Complete\nHome Team: Big Panthers\nAway Team: Liverpoo
 l Jrs.\nHome Score: 2\nAway Score: 8
END:VEVENT
BEGIN:VEVENT
UID:1722000@ezleagues.ezfacility.com
DTSTAMP:20260426T033715Z
CREATED:20260426T033715Z
DTSTART:20090116T215000Z
DTEND:20090116T224000Z
LOCATION:SANDHILLS (Field #2) 
CONTACT:
SUMMARY:Gilbert Alianza VS. Liverpool Jrs.
DESCRIPTION:League Name: Hispanic League Fall Division Verde\nGame Type: Re
 gular\nGame Status: Complete\nHome Team: Gilbert Alianza\nAway Team: Liver
 pool Jrs.\nHome Score: 3\nAway Score: 4
END:VEVENT
END:VCALENDAR
