BEGIN:VCALENDAR
VERSION:2.0
PRODID:-//EZFacility.com, Inc.//EZL 2.5.5.28621
BEGIN:VEVENT
UID:1685996@ezleagues.ezfacility.com
DTSTAMP:20260426T033852Z
CREATED:20260426T033852Z
DTSTART:20081115T185000Z
DTEND:20081115T194000Z
LOCATION:SANDHILLS (Bi-Lo #1)
CONTACT:Perez
SUMMARY:Los Internacionales VS. Napoles
DESCRIPTION:League Name: Hispanic League Fall Division Roja \nGame Type: Re
 gular\nGame Status: Complete\nHome Team: Los Internacionales\nAway Team: N
 apoles\nHome Score: 3\nAway Score: 8
END:VEVENT
BEGIN:VEVENT
UID:1702305@ezleagues.ezfacility.com
DTSTAMP:20260426T033852Z
CREATED:20260426T033852Z
DTSTART:20081121T210000Z
DTEND:20081121T215000Z
LOCATION:SANDHILLS (Field #2) 
CONTACT:
SUMMARY:Los Internacionales VS. Trabiesos
DESCRIPTION:League Name: Hispanic League Fall Division Roja \nGame Type: Re
 gular\nGame Status: Complete\nHome Team: Los Internacionales\nAway Team: T
 rabiesos\nHome Score: 0\nAway Score: 6
END:VEVENT
BEGIN:VEVENT
UID:1711422@ezleagues.ezfacility.com
DTSTAMP:20260426T033852Z
CREATED:20260426T033852Z
DTSTART:20081128T210000Z
DTEND:20081128T215000Z
LOCATION:SANDHILLS (Field #2) 
CONTACT:Davis
SUMMARY:Los Internacionales VS. Real Tambaca
DESCRIPTION:League Name: Hispanic League Fall Division Roja \nGame Type: Re
 gular\nGame Status: Complete\nHome Team: Los Internacionales\nAway Team: R
 eal Tambaca\nHome Score: 0\nAway Score: 6
END:VEVENT
BEGIN:VEVENT
UID:1714222@ezleagues.ezfacility.com
DTSTAMP:20260426T033852Z
CREATED:20260426T033852Z
DTSTART:20090102T210000Z
DTEND:20090102T215000Z
LOCATION:SANDHILLS (Field #2) 
CONTACT:
SUMMARY:Real Macarena VS. Los Internacionales
DESCRIPTION:League Name: Hispanic League Fall Division Roja \nGame Type: Re
 gular\nGame Status: Complete\nHome Team: Real Macarena\nAway Team: Los Int
 ernacionales\nHome Score: 6\nAway Score: 0
END:VEVENT
BEGIN:VEVENT
UID:1714292@ezleagues.ezfacility.com
DTSTAMP:20260426T033852Z
CREATED:20260426T033852Z
DTSTART:20090109T210000Z
DTEND:20090109T215000Z
LOCATION:SANDHILLS (Field #2) 
CONTACT:
SUMMARY:Los Internacionales VS. 5 Estrellas Fuerza Latina
DESCRIPTION:League Name: Hispanic League Fall Division Roja \nGame Type: Re
 gular\nGame Status: Complete\nHome Team: Los Internacionales\nAway Team: 5
  Estrellas Fuerza Latina\nHome Score: 0\nAway Score: 6
END:VEVENT
END:VCALENDAR
