BEGIN:VCALENDAR
VERSION:2.0
PRODID:-//EZFacility.com, Inc.//EZL 2.5.5.28621
BEGIN:VEVENT
UID:1709713@ezleagues.ezfacility.com
DTSTAMP:20260421T071453Z
CREATED:20260421T071453Z
DTSTART:20081126T192500Z
DTEND:20081126T201500Z
LOCATION:SANDHILLS (Bi-Lo #1)
CONTACT:
SUMMARY:Wallbangers VS. Rooney's Team
DESCRIPTION:League Name: Turkey Shootout Men's Rec 2008\nGame Type: Regular
 \nGame Status: Pending\nHome Team: Wallbangers\nAway Team: Rooney's Team\n
END:VEVENT
BEGIN:VEVENT
UID:1713115@ezleagues.ezfacility.com
DTSTAMP:20260421T071453Z
CREATED:20260421T071453Z
DTSTART:20081126T201500Z
DTEND:20081126T210500Z
LOCATION:SANDHILLS (Field #2) 
CONTACT:Davis
SUMMARY:Manchester United VS. Rooney's Team
DESCRIPTION:League Name: Turkey Shootout Men's Rec 2008\nGame Type: Regular
 \nGame Status: Pending\nHome Team: Manchester United\nAway Team: Rooney's 
 Team\n
END:VEVENT
END:VCALENDAR
