BEGIN:VCALENDAR
VERSION:2.0
PRODID:-//EZFacility.com, Inc.//EZL 2.5.5.28621
BEGIN:VEVENT
UID:1894791@ezleagues.ezfacility.com
DTSTAMP:20260424T043257Z
CREATED:20260424T043257Z
DTSTART:20090208T140000Z
DTEND:20090208T142500Z
LOCATION:SANDHILLS (Bi-Lo #1)
CONTACT:
SUMMARY:Gold Rush VS. Amick
DESCRIPTION:League Name: 09 - Football Fix Tournament\nGame Type: Regular\n
 Game Status: Postponed\nHome Team: Gold Rush\nAway Team: Amick\n
END:VEVENT
BEGIN:VEVENT
UID:1894963@ezleagues.ezfacility.com
DTSTAMP:20260424T043257Z
CREATED:20260424T043257Z
DTSTART:20090208T160000Z
DTEND:20090208T162500Z
LOCATION:SANDHILLS (Bi-Lo #1)
CONTACT:
SUMMARY:Wolfpack VS. Amick
DESCRIPTION:League Name: 09 - Football Fix Tournament\nGame Type: Regular\n
 Game Status: Postponed\nHome Team: Wolfpack\nAway Team: Amick\n
END:VEVENT
END:VCALENDAR
