BEGIN:VCALENDAR
VERSION:2.0
PRODID:-//EZFacility.com, Inc.//EZL 2.5.5.28621
BEGIN:VEVENT
UID:1968881@ezleagues.ezfacility.com
DTSTAMP:20260421T233817Z
CREATED:20260421T233817Z
DTSTART:20090317T190000Z
DTEND:20090317T195000Z
LOCATION:SANDHILLS (Bi-Lo #1)
CONTACT:
SUMMARY:Chelsea  VS. Dep Trejo
DESCRIPTION:League Name: 510 - 09S - Women's Latina (Tuesday)\nGame Type: R
 egular\nGame Status: Complete\nHome Team: Chelsea \nAway Team: Dep Trejo\n
 Home Score: 2\nAway Score: 5
END:VEVENT
BEGIN:VEVENT
UID:1982772@ezleagues.ezfacility.com
DTSTAMP:20260421T233817Z
CREATED:20260421T233817Z
DTSTART:20090324T190000Z
DTEND:20090324T195000Z
LOCATION:SANDHILLS (Bi-Lo #1)
CONTACT:Onate
SUMMARY:Chelsea  VS. Real Tambaca
DESCRIPTION:League Name: 510 - 09S - Women's Latina (Tuesday)\nGame Type: R
 egular\nGame Status: Complete\nHome Team: Chelsea \nAway Team: Real Tambac
 a\nHome Score: 5\nAway Score: 4
END:VEVENT
BEGIN:VEVENT
UID:1999174@ezleagues.ezfacility.com
DTSTAMP:20260421T233817Z
CREATED:20260421T233817Z
DTSTART:20090331T195000Z
DTEND:20090331T204000Z
LOCATION:SANDHILLS (Bi-Lo #1)
CONTACT:Onate
SUMMARY:Chelsea  VS. International
DESCRIPTION:League Name: 510 - 09S - Women's Latina (Tuesday)\nGame Type: R
 egular\nGame Status: Complete\nHome Team: Chelsea \nAway Team: Internation
 al\nHome Score: 8\nAway Score: 3
END:VEVENT
BEGIN:VEVENT
UID:2010043@ezleagues.ezfacility.com
DTSTAMP:20260421T233817Z
CREATED:20260421T233817Z
DTSTART:20090407T195000Z
DTEND:20090407T204000Z
LOCATION:SANDHILLS (Bi-Lo #1)
CONTACT:
SUMMARY:Chelsea  VS. International
DESCRIPTION:League Name: 510 - 09S - Women's Latina (Tuesday)\nGame Type: R
 egular\nGame Status: Complete\nHome Team: Chelsea \nAway Team: Internation
 al\nHome Score: 14\nAway Score: 1
END:VEVENT
BEGIN:VEVENT
UID:2012024@ezleagues.ezfacility.com
DTSTAMP:20260421T233817Z
CREATED:20260421T233817Z
DTSTART:20090413T204000Z
DTEND:20090413T213000Z
LOCATION:SANDHILLS (Field #2) 
CONTACT:Grimes
SUMMARY:Chelsea  VS. HFSC
DESCRIPTION:League Name: 510 - 09S - Women's Latina (Tuesday)\nGame Type: R
 egular\nGame Status: Complete\nHome Team: Chelsea \nAway Team: HFSC\nHome 
 Score: 3\nAway Score: 7
END:VEVENT
BEGIN:VEVENT
UID:2012031@ezleagues.ezfacility.com
DTSTAMP:20260421T233817Z
CREATED:20260421T233817Z
DTSTART:20090421T195000Z
DTEND:20090421T204000Z
LOCATION:SANDHILLS (Bi-Lo #1)
CONTACT:Onate
SUMMARY:Chelsea  VS. Dep Trejo
DESCRIPTION:League Name: 510 - 09S - Women's Latina (Tuesday)\nGame Type: R
 egular\nGame Status: Complete\nHome Team: Chelsea \nAway Team: Dep Trejo\n
 Home Score: 4\nAway Score: 0
END:VEVENT
BEGIN:VEVENT
UID:2012030@ezleagues.ezfacility.com
DTSTAMP:20260421T233817Z
CREATED:20260421T233817Z
DTSTART:20090427T204000Z
DTEND:20090427T213000Z
LOCATION:SANDHILLS (Field #2) 
CONTACT:
SUMMARY:Chelsea  VS. Clutch
DESCRIPTION:League Name: 510 - 09S - Women's Latina (Tuesday)\nGame Type: R
 egular\nGame Status: Complete\nHome Team: Chelsea \nAway Team: Clutch\nHom
 e Score: 3\nAway Score: 5
END:VEVENT
BEGIN:VEVENT
UID:2012016@ezleagues.ezfacility.com
DTSTAMP:20260421T233817Z
CREATED:20260421T233817Z
DTSTART:20090512T195000Z
DTEND:20090512T204000Z
LOCATION:SANDHILLS (Field #2) 
CONTACT:Onate
SUMMARY:Real Tambaca VS. Chelsea 
DESCRIPTION:League Name: 510 - 09S - Women's Latina (Tuesday)\nGame Type: R
 egular\nGame Status: Complete\nHome Team: Real Tambaca\nAway Team: Chelsea
  \nHome Score: 1\nAway Score: 2
END:VEVENT
END:VCALENDAR
