BEGIN:VCALENDAR
VERSION:2.0
PRODID:-//EZFacility.com, Inc.//EZL 2.5.5.28621
BEGIN:VEVENT
UID:1984364@ezleagues.ezfacility.com
DTSTAMP:20260421T164146Z
CREATED:20260421T164146Z
DTSTART:20090323T204000Z
DTEND:20090323T213000Z
LOCATION:SANDHILLS (Bi-Lo #1)
CONTACT:Onate
SUMMARY:HFSC VS. Clutch
DESCRIPTION:League Name: 510 - 09S - Women's Open Soccer (Monday)\nGame Typ
 e: Regular\nGame Status: Complete\nHome Team: HFSC\nAway Team: Clutch\nHom
 e Score: 10\nAway Score: 2
END:VEVENT
BEGIN:VEVENT
UID:1999172@ezleagues.ezfacility.com
DTSTAMP:20260421T164146Z
CREATED:20260421T164146Z
DTSTART:20090330T200000Z
DTEND:20090330T205000Z
LOCATION:SANDHILLS (Bi-Lo #1)
CONTACT:Mower
SUMMARY:Clifford VS. HFSC
DESCRIPTION:League Name: 510 - 09S - Women's Open Soccer (Monday)\nGame Typ
 e: Regular\nGame Status: Complete\nHome Team: Clifford\nAway Team: HFSC\nH
 ome Score: 4\nAway Score: 10
END:VEVENT
BEGIN:VEVENT
UID:2010050@ezleagues.ezfacility.com
DTSTAMP:20260421T164146Z
CREATED:20260421T164146Z
DTSTART:20090406T205000Z
DTEND:20090406T214000Z
LOCATION:SANDHILLS (Bi-Lo #1)
CONTACT:Mower
SUMMARY:Clutch VS. HFSC
DESCRIPTION:League Name: 510 - 09S - Women's Open Soccer (Monday)\nGame Typ
 e: Regular\nGame Status: Complete\nHome Team: Clutch\nAway Team: HFSC\nHom
 e Score: 2\nAway Score: 12
END:VEVENT
BEGIN:VEVENT
UID:2012022@ezleagues.ezfacility.com
DTSTAMP:20260421T164146Z
CREATED:20260421T164146Z
DTSTART:20090413T204000Z
DTEND:20090413T213000Z
LOCATION:SANDHILLS (Field #2) 
CONTACT:
SUMMARY:Chelsea VS. HFSC
DESCRIPTION:League Name: 510 - 09S - Women's Open Soccer (Monday)\nGame Typ
 e: Regular\nGame Status: Complete\nHome Team: Chelsea\nAway Team: HFSC\nHo
 me Score: 3\nAway Score: 7
END:VEVENT
BEGIN:VEVENT
UID:2012034@ezleagues.ezfacility.com
DTSTAMP:20260421T164146Z
CREATED:20260421T164146Z
DTSTART:20090420T205000Z
DTEND:20090420T214000Z
LOCATION:SANDHILLS (Bi-Lo #1)
CONTACT:
SUMMARY:HFSC VS. International
DESCRIPTION:League Name: 510 - 09S - Women's Open Soccer (Monday)\nGame Typ
 e: Regular\nGame Status: Complete\nHome Team: HFSC\nAway Team: Internation
 al\nHome Score: 10\nAway Score: 4
END:VEVENT
BEGIN:VEVENT
UID:2012027@ezleagues.ezfacility.com
DTSTAMP:20260421T164146Z
CREATED:20260421T164146Z
DTSTART:20090427T205000Z
DTEND:20090427T214000Z
LOCATION:SANDHILLS (Bi-Lo #1)
CONTACT:Grimes
SUMMARY:Dep Trejo VS. HFSC
DESCRIPTION:League Name: 510 - 09S - Women's Open Soccer (Monday)\nGame Typ
 e: Regular\nGame Status: Complete\nHome Team: Dep Trejo\nAway Team: HFSC\n
 Home Score: 0\nAway Score: 13
END:VEVENT
BEGIN:VEVENT
UID:2012026@ezleagues.ezfacility.com
DTSTAMP:20260421T164146Z
CREATED:20260421T164146Z
DTSTART:20090504T205000Z
DTEND:20090504T214000Z
LOCATION:SANDHILLS (Bi-Lo #1)
CONTACT:
SUMMARY:HFSC VS. Marcy Latinas
DESCRIPTION:League Name: 510 - 09S - Women's Open Soccer (Monday)\nGame Typ
 e: Regular\nGame Status: Postponed\nHome Team: HFSC\nAway Team: Marcy Lati
 nas\n
END:VEVENT
BEGIN:VEVENT
UID:2024518@ezleagues.ezfacility.com
DTSTAMP:20260421T164146Z
CREATED:20260421T164146Z
DTSTART:20090505T190000Z
DTEND:20090505T195000Z
LOCATION:SANDHILLS (Field #2) 
CONTACT:
SUMMARY:Real Tambaca VS. HFSC
DESCRIPTION:League Name: 510 - 09S - Women's Open Soccer (Monday)\nGame Typ
 e: Regular\nGame Status: Pending\nHome Team: Real Tambaca\nAway Team: HFSC
 \n
END:VEVENT
BEGIN:VEVENT
UID:2010098@ezleagues.ezfacility.com
DTSTAMP:20260421T164146Z
CREATED:20260421T164146Z
DTSTART:20090511T205000Z
DTEND:20090511T214000Z
LOCATION:SANDHILLS (Bi-Lo #1)
CONTACT:Mower
SUMMARY:Las Estrella VS. HFSC
DESCRIPTION:League Name: 510 - 09S - Women's Open Soccer (Monday)\nGame Typ
 e: Regular\nGame Status: Complete\nHome Team: Las Estrella\nAway Team: HFS
 C\nHome Score: 5\nAway Score: 10
END:VEVENT
END:VCALENDAR
