BEGIN:VCALENDAR
VERSION:2.0
PRODID:-//EZFacility.com, Inc.//EZL 2.5.5.28621
BEGIN:VEVENT
UID:2047178@ezleagues.ezfacility.com
DTSTAMP:20260426T033521Z
CREATED:20260426T033521Z
DTSTART:20090502T100000Z
DTEND:20090502T110000Z
LOCATION:Field 2
CONTACT:
SUMMARY:Wolfpack VS. Scott Fields
DESCRIPTION:League Name: 7v7 Flag Football\nGame Type: Friendly\nGame Statu
 s: Complete\nHome Team: Wolfpack\nAway Team: Scott Fields\nHome Score: 36\
 nAway Score: 6
END:VEVENT
BEGIN:VEVENT
UID:2047184@ezleagues.ezfacility.com
DTSTAMP:20260426T033521Z
CREATED:20260426T033521Z
DTSTART:20090509T120000Z
DTEND:20090509T130000Z
LOCATION:Field 2
CONTACT:
SUMMARY:Scott Fields VS. Ruckus
DESCRIPTION:League Name: 7v7 Flag Football\nGame Type: Friendly\nGame Statu
 s: Pending\nHome Team: Scott Fields\nAway Team: Ruckus\n
END:VEVENT
BEGIN:VEVENT
UID:2047188@ezleagues.ezfacility.com
DTSTAMP:20260426T033521Z
CREATED:20260426T033521Z
DTSTART:20090516T110000Z
DTEND:20090516T120000Z
LOCATION:Field 2
CONTACT:
SUMMARY:Scott Fields VS. Ruckus
DESCRIPTION:League Name: 7v7 Flag Football\nGame Type: Regular\nGame Status
 : Complete\nHome Team: Scott Fields\nAway Team: Ruckus\nHome Score: 6\nAwa
 y Score: 30
END:VEVENT
BEGIN:VEVENT
UID:2047198@ezleagues.ezfacility.com
DTSTAMP:20260426T033521Z
CREATED:20260426T033521Z
DTSTART:20090606T110000Z
DTEND:20090606T120000Z
LOCATION:Field 2
CONTACT:
SUMMARY:Scott Fields VS. Wolfpack
DESCRIPTION:League Name: 7v7 Flag Football\nGame Type: Regular\nGame Status
 : Complete\nHome Team: Scott Fields\nAway Team: Wolfpack\nHome Score: 8\nA
 way Score: 32
END:VEVENT
BEGIN:VEVENT
UID:2047203@ezleagues.ezfacility.com
DTSTAMP:20260426T033521Z
CREATED:20260426T033521Z
DTSTART:20090613T100000Z
DTEND:20090613T110000Z
LOCATION:Field 2
CONTACT:
SUMMARY:Lisa Tiger Centry 21/ Real Est VS. Scott Fields
DESCRIPTION:League Name: 7v7 Flag Football\nGame Type: Regular\nGame Status
 : Complete\nHome Team: Lisa Tiger Centry 21/ Real Est\nAway Team: Scott Fi
 elds\nHome Score: 26\nAway Score: 14
END:VEVENT
BEGIN:VEVENT
UID:2047205@ezleagues.ezfacility.com
DTSTAMP:20260426T033521Z
CREATED:20260426T033521Z
DTSTART:20090620T090000Z
DTEND:20090620T100000Z
LOCATION:Field 2
CONTACT:
SUMMARY:Scott Fields VS. The Untouchables
DESCRIPTION:League Name: 7v7 Flag Football\nGame Type: Regular\nGame Status
 : Complete\nHome Team: Scott Fields\nAway Team: The Untouchables\nHome Sco
 re: 12\nAway Score: 32
END:VEVENT
BEGIN:VEVENT
UID:2047212@ezleagues.ezfacility.com
DTSTAMP:20260426T033521Z
CREATED:20260426T033521Z
DTSTART:20090627T100000Z
DTEND:20090627T110000Z
LOCATION:Field 2
CONTACT:
SUMMARY:P.A.P. VS. Scott Fields
DESCRIPTION:League Name: 7v7 Flag Football\nGame Type: Regular\nGame Status
 : Complete\nHome Team: P.A.P.\nAway Team: Scott Fields\nHome Score: 20\nAw
 ay Score: 6
END:VEVENT
BEGIN:VEVENT
UID:2047191@ezleagues.ezfacility.com
DTSTAMP:20260426T033521Z
CREATED:20260426T033521Z
DTSTART:20090711T100000Z
DTEND:20090711T110000Z
LOCATION:Field 2
CONTACT:
SUMMARY:Public Enemy  VS. Scott Fields
DESCRIPTION:League Name: 7v7 Flag Football\nGame Type: Regular\nGame Status
 : Complete\nHome Team: Public Enemy \nAway Team: Scott Fields\nHome Score:
  0\nAway Score: 12
END:VEVENT
BEGIN:VEVENT
UID:2047195@ezleagues.ezfacility.com
DTSTAMP:20260426T033521Z
CREATED:20260426T033521Z
DTSTART:20090718T100000Z
DTEND:20090718T110000Z
LOCATION:Field 2
CONTACT:
SUMMARY:Scott Fields VS. WRFD (Team 8)
DESCRIPTION:League Name: 7v7 Flag Football\nGame Type: Regular\nGame Status
 : Complete\nHome Team: Scott Fields\nAway Team: WRFD (Team 8)\nHome Score:
  20\nAway Score: 0
END:VEVENT
BEGIN:VEVENT
UID:2047215@ezleagues.ezfacility.com
DTSTAMP:20260426T033521Z
CREATED:20260426T033521Z
DTSTART:20090725T100000Z
DTEND:20090725T110000Z
LOCATION:Do not use
CONTACT:
SUMMARY:The Untouchables VS. Scott Fields
DESCRIPTION:League Name: 7v7 Flag Football\nGame Type: Postseason\nGame Sta
 tus: Complete\nHome Team: The Untouchables\nAway Team: Scott Fields\nHome 
 Score: 34\nAway Score: 6
END:VEVENT
END:VCALENDAR
