BEGIN:VCALENDAR
VERSION:2.0
PRODID:-//EZFacility.com, Inc.//EZL 2.5.5.28621
BEGIN:VEVENT
UID:2047180@ezleagues.ezfacility.com
DTSTAMP:20260424T043255Z
CREATED:20260424T043255Z
DTSTART:20090502T120000Z
DTEND:20090502T130000Z
LOCATION:Field 2
CONTACT:
SUMMARY:Public Enemy  VS. P.A.P.
DESCRIPTION:League Name: 7v7 Flag Football\nGame Type: Friendly\nGame Statu
 s: Cancelled\nHome Team: Public Enemy \nAway Team: P.A.P.\n
END:VEVENT
BEGIN:VEVENT
UID:2047186@ezleagues.ezfacility.com
DTSTAMP:20260424T043255Z
CREATED:20260424T043255Z
DTSTART:20090516T120000Z
DTEND:20090516T130000Z
LOCATION:Field 2
CONTACT:
SUMMARY:WRFD (Team 8) VS. Public Enemy 
DESCRIPTION:League Name: 7v7 Flag Football\nGame Type: Regular\nGame Status
 : Complete\nHome Team: WRFD (Team 8)\nAway Team: Public Enemy \nHome Score
 : 20\nAway Score: 18
END:VEVENT
BEGIN:VEVENT
UID:2047197@ezleagues.ezfacility.com
DTSTAMP:20260424T043255Z
CREATED:20260424T043255Z
DTSTART:20090606T090000Z
DTEND:20090606T100000Z
LOCATION:Field 2
CONTACT:
SUMMARY:The Untouchables VS. Public Enemy 
DESCRIPTION:League Name: 7v7 Flag Football\nGame Type: Regular\nGame Status
 : Complete\nHome Team: The Untouchables\nAway Team: Public Enemy \nHome Sc
 ore: 8\nAway Score: 0
END:VEVENT
BEGIN:VEVENT
UID:2047204@ezleagues.ezfacility.com
DTSTAMP:20260424T043255Z
CREATED:20260424T043255Z
DTSTART:20090613T100000Z
DTEND:20090613T110000Z
LOCATION:Do not use
CONTACT:
SUMMARY:Public Enemy  VS. P.A.P.
DESCRIPTION:League Name: 7v7 Flag Football\nGame Type: Regular\nGame Status
 : Complete\nHome Team: Public Enemy \nAway Team: P.A.P.\nHome Score: 0\nAw
 ay Score: 20
END:VEVENT
BEGIN:VEVENT
UID:2047207@ezleagues.ezfacility.com
DTSTAMP:20260424T043255Z
CREATED:20260424T043255Z
DTSTART:20090620T100000Z
DTEND:20090620T110000Z
LOCATION:Field 2
CONTACT:
SUMMARY:Ruckus VS. Public Enemy 
DESCRIPTION:League Name: 7v7 Flag Football\nGame Type: Regular\nGame Status
 : Complete\nHome Team: Ruckus\nAway Team: Public Enemy \nHome Score: 24\nA
 way Score: 2
END:VEVENT
BEGIN:VEVENT
UID:2047191@ezleagues.ezfacility.com
DTSTAMP:20260424T043255Z
CREATED:20260424T043255Z
DTSTART:20090711T100000Z
DTEND:20090711T110000Z
LOCATION:Field 2
CONTACT:
SUMMARY:Public Enemy  VS. Scott Fields
DESCRIPTION:League Name: 7v7 Flag Football\nGame Type: Regular\nGame Status
 : Complete\nHome Team: Public Enemy \nAway Team: Scott Fields\nHome Score:
  0\nAway Score: 12
END:VEVENT
BEGIN:VEVENT
UID:2047182@ezleagues.ezfacility.com
DTSTAMP:20260424T043255Z
CREATED:20260424T043255Z
DTSTART:20090711T120000Z
DTEND:20090711T130000Z
LOCATION:Field 2
CONTACT:
SUMMARY:Public Enemy  VS. Wolfpack
DESCRIPTION:League Name: 7v7 Flag Football\nGame Type: Regular\nGame Status
 : Complete\nHome Team: Public Enemy \nAway Team: Wolfpack\nHome Score: 0\n
 Away Score: 20
END:VEVENT
BEGIN:VEVENT
UID:2047196@ezleagues.ezfacility.com
DTSTAMP:20260424T043255Z
CREATED:20260424T043255Z
DTSTART:20090718T120000Z
DTEND:20090718T130000Z
LOCATION:Field 2
CONTACT:
SUMMARY:Lisa Tiger Centry 21/ Real Est VS. Public Enemy 
DESCRIPTION:League Name: 7v7 Flag Football\nGame Type: Regular\nGame Status
 : Complete\nHome Team: Lisa Tiger Centry 21/ Real Est\nAway Team: Public E
 nemy \nHome Score: 20\nAway Score: 0
END:VEVENT
END:VCALENDAR
