BEGIN:VCALENDAR
VERSION:2.0
PRODID:-//EZFacility.com, Inc.//EZL 2.5.5.28621
BEGIN:VEVENT
UID:2043362@ezleagues.ezfacility.com
DTSTAMP:20260426T033736Z
CREATED:20260426T033736Z
DTSTART:20090510T160000Z
DTEND:20090510T170000Z
LOCATION:Court
CONTACT:
SUMMARY:Ironman VS. Dimitriou & Geishauser\, P.C.
DESCRIPTION:League Name: Sunday Men's A League\nGame Type: Regular\nGame St
 atus: Complete\nHome Team: Ironman\nAway Team: Dimitriou & Geishauser, P.C
 .\nHome Score: 78\nAway Score: 69
END:VEVENT
BEGIN:VEVENT
UID:2043318@ezleagues.ezfacility.com
DTSTAMP:20260426T033736Z
CREATED:20260426T033736Z
DTSTART:20090517T160000Z
DTEND:20090517T170000Z
LOCATION:Court
CONTACT:
SUMMARY:Readings Finest VS. Ironman
DESCRIPTION:League Name: Sunday Men's A League\nGame Type: Regular\nGame St
 atus: Complete\nHome Team: Readings Finest\nAway Team: Ironman\nHome Score
 : 76\nAway Score: 56
END:VEVENT
BEGIN:VEVENT
UID:2043322@ezleagues.ezfacility.com
DTSTAMP:20260426T033736Z
CREATED:20260426T033736Z
DTSTART:20090607T130000Z
DTEND:20090607T140000Z
LOCATION:Court
CONTACT:
SUMMARY:Ironman VS. Got Flicks
DESCRIPTION:League Name: Sunday Men's A League\nGame Type: Regular\nGame St
 atus: Complete\nHome Team: Ironman\nAway Team: Got Flicks\nHome Score: 66\
 nAway Score: 63
END:VEVENT
BEGIN:VEVENT
UID:2043346@ezleagues.ezfacility.com
DTSTAMP:20260426T033736Z
CREATED:20260426T033736Z
DTSTART:20090614T150000Z
DTEND:20090614T160000Z
LOCATION:Court
CONTACT:
SUMMARY:Ironman VS. Gage Personnel
DESCRIPTION:League Name: Sunday Men's A League\nGame Type: Regular\nGame St
 atus: Complete\nHome Team: Ironman\nAway Team: Gage Personnel\nHome Score:
  74\nAway Score: 64
END:VEVENT
BEGIN:VEVENT
UID:2043353@ezleagues.ezfacility.com
DTSTAMP:20260426T033736Z
CREATED:20260426T033736Z
DTSTART:20090621T120000Z
DTEND:20090621T130000Z
LOCATION:Court
CONTACT:
SUMMARY:Performance Toyota VS. Ironman
DESCRIPTION:League Name: Sunday Men's A League\nGame Type: Regular\nGame St
 atus: Complete\nHome Team: Performance Toyota\nAway Team: Ironman\nHome Sc
 ore: 71\nAway Score: 50
END:VEVENT
BEGIN:VEVENT
UID:2043332@ezleagues.ezfacility.com
DTSTAMP:20260426T033736Z
CREATED:20260426T033736Z
DTSTART:20090627T120000Z
DTEND:20090627T130000Z
LOCATION:Court
CONTACT:
SUMMARY:Mid-Atlantic Vinyl VS. Ironman
DESCRIPTION:League Name: Sunday Men's A League\nGame Type: Regular\nGame St
 atus: Complete\nHome Team: Mid-Atlantic Vinyl\nAway Team: Ironman\nHome Sc
 ore: 75\nAway Score: 58
END:VEVENT
BEGIN:VEVENT
UID:2043312@ezleagues.ezfacility.com
DTSTAMP:20260426T033736Z
CREATED:20260426T033736Z
DTSTART:20090628T140000Z
DTEND:20090628T150000Z
LOCATION:Court
CONTACT:
SUMMARY:Ironman VS. Blue Water
DESCRIPTION:League Name: Sunday Men's A League\nGame Type: Regular\nGame St
 atus: Complete\nHome Team: Ironman\nAway Team: Blue Water\nHome Score: 58\
 nAway Score: 70
END:VEVENT
BEGIN:VEVENT
UID:2043376@ezleagues.ezfacility.com
DTSTAMP:20260426T033736Z
CREATED:20260426T033736Z
DTSTART:20090712T120000Z
DTEND:20090712T130000Z
LOCATION:Court
CONTACT:
SUMMARY:Ironman VS. Suburban Hustle
DESCRIPTION:League Name: Sunday Men's A League\nGame Type: Regular\nGame St
 atus: Complete\nHome Team: Ironman\nAway Team: Suburban Hustle\nHome Score
 : 62\nAway Score: 70
END:VEVENT
BEGIN:VEVENT
UID:2043338@ezleagues.ezfacility.com
DTSTAMP:20260426T033736Z
CREATED:20260426T033736Z
DTSTART:20090719T120000Z
DTEND:20090719T130000Z
LOCATION:Court
CONTACT:
SUMMARY:Dream Team VS. Ironman
DESCRIPTION:League Name: Sunday Men's A League\nGame Type: Regular\nGame St
 atus: Complete\nHome Team: Dream Team\nAway Team: Ironman\nHome Score: 73\
 nAway Score: 62
END:VEVENT
BEGIN:VEVENT
UID:2043364@ezleagues.ezfacility.com
DTSTAMP:20260426T033736Z
CREATED:20260426T033736Z
DTSTART:20090726T140000Z
DTEND:20090726T150000Z
LOCATION:Court
CONTACT:
SUMMARY:TJ Baker Funeral Home VS. Ironman
DESCRIPTION:League Name: Sunday Men's A League\nGame Type: Regular\nGame St
 atus: Complete\nHome Team: TJ Baker Funeral Home\nAway Team: Ironman\nHome
  Score: 78\nAway Score: 71
END:VEVENT
BEGIN:VEVENT
UID:2043306@ezleagues.ezfacility.com
DTSTAMP:20260426T033736Z
CREATED:20260426T033736Z
DTSTART:20090802T120000Z
DTEND:20090802T130000Z
LOCATION:Court
CONTACT:
SUMMARY:Eagles VS. Ironman
DESCRIPTION:League Name: Sunday Men's A League\nGame Type: Regular\nGame St
 atus: Complete\nHome Team: Eagles\nAway Team: Ironman\nHome Score: 30\nAwa
 y Score: 0
END:VEVENT
BEGIN:VEVENT
UID:2052409@ezleagues.ezfacility.com
DTSTAMP:20260426T033736Z
CREATED:20260426T033736Z
DTSTART:20090808T160000Z
DTEND:20090808T170000Z
LOCATION:Court
CONTACT:
SUMMARY:Got Flicks VS. Ironman
DESCRIPTION:League Name: Sunday Men's A League\nGame Type: Postseason\nGame
  Status: Complete\nHome Team: Got Flicks\nAway Team: Ironman\nHome Score: 
 88\nAway Score: 60
END:VEVENT
END:VCALENDAR
