BEGIN:VCALENDAR
VERSION:2.0
PRODID:-//EZFacility.com, Inc.//EZL 2.5.5.28621
BEGIN:VEVENT
UID:2059273@ezleagues.ezfacility.com
DTSTAMP:20260423T050456Z
CREATED:20260423T050456Z
DTSTART:20090508T213000Z
DTEND:20090508T222000Z
LOCATION:SANDHILLS (Field #2) 
CONTACT:
SUMMARY:Dep. Hidalgo VS. Pumas
DESCRIPTION:League Name:  Hispanic League Spring 09 Div Azul\nGame Type: Re
 gular\nGame Status: Complete\nHome Team: Dep. Hidalgo\nAway Team: Pumas\nH
 ome Score: 5\nAway Score: 5
END:VEVENT
BEGIN:VEVENT
UID:2065817@ezleagues.ezfacility.com
DTSTAMP:20260423T050456Z
CREATED:20260423T050456Z
DTSTART:20090515T213000Z
DTEND:20090515T222000Z
LOCATION:SANDHILLS (Field #2) 
CONTACT:
SUMMARY:Pumas VS. Miguelense
DESCRIPTION:League Name:  Hispanic League Spring 09 Div Azul\nGame Type: Re
 gular\nGame Status: Complete\nHome Team: Pumas\nAway Team: Miguelense\nHom
 e Score: 6\nAway Score: 3
END:VEVENT
BEGIN:VEVENT
UID:2082098@ezleagues.ezfacility.com
DTSTAMP:20260423T050456Z
CREATED:20260423T050456Z
DTSTART:20090522T213000Z
DTEND:20090522T222000Z
LOCATION:SANDHILLS (Field #2) 
CONTACT:
SUMMARY:Real Madrid VS. Pumas
DESCRIPTION:League Name:  Hispanic League Spring 09 Div Azul\nGame Type: Re
 gular\nGame Status: Complete\nHome Team: Real Madrid\nAway Team: Pumas\nHo
 me Score: 4\nAway Score: 4
END:VEVENT
BEGIN:VEVENT
UID:2084218@ezleagues.ezfacility.com
DTSTAMP:20260423T050456Z
CREATED:20260423T050456Z
DTSTART:20090529T213000Z
DTEND:20090529T222000Z
LOCATION:SANDHILLS (Field #2) 
CONTACT:
SUMMARY:Pumas VS. Dep. Palmero
DESCRIPTION:League Name:  Hispanic League Spring 09 Div Azul\nGame Type: Re
 gular\nGame Status: Complete\nHome Team: Pumas\nAway Team: Dep. Palmero\nH
 ome Score: 7\nAway Score: 3
END:VEVENT
BEGIN:VEVENT
UID:2084224@ezleagues.ezfacility.com
DTSTAMP:20260423T050456Z
CREATED:20260423T050456Z
DTSTART:20090605T213000Z
DTEND:20090605T222000Z
LOCATION:SANDHILLS (Field #2) 
CONTACT:
SUMMARY:Pumas VS. Dep. Chiapas
DESCRIPTION:League Name:  Hispanic League Spring 09 Div Azul\nGame Type: Re
 gular\nGame Status: Complete\nHome Team: Pumas\nAway Team: Dep. Chiapas\nH
 ome Score: 4\nAway Score: 4
END:VEVENT
BEGIN:VEVENT
UID:2084228@ezleagues.ezfacility.com
DTSTAMP:20260423T050456Z
CREATED:20260423T050456Z
DTSTART:20090612T213000Z
DTEND:20090612T222000Z
LOCATION:SANDHILLS (Field #2) 
CONTACT:
SUMMARY:Pumas VS. AC Milan
DESCRIPTION:League Name:  Hispanic League Spring 09 Div Azul\nGame Type: Re
 gular\nGame Status: Complete\nHome Team: Pumas\nAway Team: AC Milan\nHome 
 Score: 5\nAway Score: 7
END:VEVENT
BEGIN:VEVENT
UID:2084237@ezleagues.ezfacility.com
DTSTAMP:20260423T050456Z
CREATED:20260423T050456Z
DTSTART:20090619T222000Z
DTEND:20090619T231000Z
LOCATION:SANDHILLS (Field #2) 
CONTACT:
SUMMARY:Pumas VS. Dep. Manchester
DESCRIPTION:League Name:  Hispanic League Spring 09 Div Azul\nGame Type: Re
 gular\nGame Status: Complete\nHome Team: Pumas\nAway Team: Dep. Manchester
 \nHome Score: 0\nAway Score: 6
END:VEVENT
BEGIN:VEVENT
UID:2084238@ezleagues.ezfacility.com
DTSTAMP:20260423T050456Z
CREATED:20260423T050456Z
DTSTART:20090626T213000Z
DTEND:20090626T222000Z
LOCATION:SANDHILLS (Field #2) 
CONTACT:
SUMMARY:Pumas VS. Dep.Tuxtepec
DESCRIPTION:League Name:  Hispanic League Spring 09 Div Azul\nGame Type: Re
 gular\nGame Status: Complete\nHome Team: Pumas\nAway Team: Dep.Tuxtepec\nH
 ome Score: 6\nAway Score: 4
END:VEVENT
BEGIN:VEVENT
UID:2084243@ezleagues.ezfacility.com
DTSTAMP:20260423T050456Z
CREATED:20260423T050456Z
DTSTART:20090710T213000Z
DTEND:20090710T222000Z
LOCATION:SANDHILLS (Field #2) 
CONTACT:Onate
SUMMARY:Dep. El Grande VS. Pumas
DESCRIPTION:League Name:  Hispanic League Spring 09 Div Azul\nGame Type: Re
 gular\nGame Status: Complete\nHome Team: Dep. El Grande\nAway Team: Pumas\
 nHome Score: 5\nAway Score: 4
END:VEVENT
END:VCALENDAR
