BEGIN:VCALENDAR
VERSION:2.0
PRODID:-//EZFacility.com, Inc.//EZL 2.5.5.28621
BEGIN:VEVENT
UID:2070027@ezleagues.ezfacility.com
DTSTAMP:20260424T043307Z
CREATED:20260424T043307Z
DTSTART:20090516T190000Z
DTEND:20090516T201000Z
LOCATION:Scottsdale Sports Complex - 4
CONTACT:
SUMMARY:Dragons SDFC VS. Zenith
DESCRIPTION:League Name: Summer 2009 Division 2A\nGame Type: Regular\nGame 
 Status: Complete\nHome Team: Dragons SDFC\nAway Team: Zenith\nHome Score: 
 3\nAway Score: 0
END:VEVENT
BEGIN:VEVENT
UID:2070044@ezleagues.ezfacility.com
DTSTAMP:20260424T043307Z
CREATED:20260424T043307Z
DTSTART:20090531T173000Z
DTEND:20090531T184000Z
LOCATION:Scottsdale Sports Complex - 5
CONTACT:
SUMMARY:Cosmos VS. Zenith
DESCRIPTION:League Name: Summer 2009 Division 2A\nGame Type: Regular\nGame 
 Status: Complete\nHome Team: Cosmos\nAway Team: Zenith\nHome Score: 1\nAwa
 y Score: 1
END:VEVENT
BEGIN:VEVENT
UID:2070063@ezleagues.ezfacility.com
DTSTAMP:20260424T043307Z
CREATED:20260424T043307Z
DTSTART:20090606T190000Z
DTEND:20090606T201000Z
LOCATION:Scottsdale Sports Complex - 4
CONTACT:
SUMMARY:Zenith VS. INTER 07
DESCRIPTION:League Name: Summer 2009 Division 2A\nGame Type: Regular\nGame 
 Status: Complete\nHome Team: Zenith\nAway Team: INTER 07\nHome Score: 1\nA
 way Score: 0
END:VEVENT
BEGIN:VEVENT
UID:2070082@ezleagues.ezfacility.com
DTSTAMP:20260424T043307Z
CREATED:20260424T043307Z
DTSTART:20090614T190000Z
DTEND:20090614T201000Z
LOCATION:Scottsdale Sports Complex - 1
CONTACT:
SUMMARY:Zenith VS. Club International
DESCRIPTION:League Name: Summer 2009 Division 2A\nGame Type: Regular\nGame 
 Status: Complete\nHome Team: Zenith\nAway Team: Club International\nHome S
 core: 1\nAway Score: 1
END:VEVENT
BEGIN:VEVENT
UID:2070101@ezleagues.ezfacility.com
DTSTAMP:20260424T043307Z
CREATED:20260424T043307Z
DTSTART:20090621T203000Z
DTEND:20090621T214000Z
LOCATION:Scottsdale Sports Complex - 1
CONTACT:
SUMMARY:Zenith VS. London West FC
DESCRIPTION:League Name: Summer 2009 Division 2A\nGame Type: Regular\nGame 
 Status: Complete\nHome Team: Zenith\nAway Team: London West FC\nHome Score
 : 0\nAway Score: 2
END:VEVENT
BEGIN:VEVENT
UID:2070120@ezleagues.ezfacility.com
DTSTAMP:20260424T043307Z
CREATED:20260424T043307Z
DTSTART:20090802T190000Z
DTEND:20090802T201000Z
LOCATION:Scottsdale Sports Complex - 4
CONTACT:
SUMMARY:Zenith VS. FC PINO
DESCRIPTION:League Name: Summer 2009 Division 2A\nGame Type: Regular\nGame 
 Status: Complete\nHome Team: Zenith\nAway Team: FC PINO\nHome Score: 3\nAw
 ay Score: 2
END:VEVENT
BEGIN:VEVENT
UID:2070138@ezleagues.ezfacility.com
DTSTAMP:20260424T043307Z
CREATED:20260424T043307Z
DTSTART:20090809T190000Z
DTEND:20090809T201000Z
LOCATION:Scottsdale Sports Complex - 1
CONTACT:
SUMMARY:Thunder FC VS. Zenith
DESCRIPTION:League Name: Summer 2009 Division 2A\nGame Type: Regular\nGame 
 Status: Complete\nHome Team: Thunder FC\nAway Team: Zenith\nHome Score: 1\
 nAway Score: 5
END:VEVENT
END:VCALENDAR
