BEGIN:VCALENDAR
VERSION:2.0
PRODID:-//EZFacility.com, Inc.//EZL 2.5.5.28621
BEGIN:VEVENT
UID:2070039@ezleagues.ezfacility.com
DTSTAMP:20260422T063816Z
CREATED:20260422T063816Z
DTSTART:20090516T173000Z
DTEND:20090516T184000Z
LOCATION:Scottsdale Sports Complex - 4
CONTACT:
SUMMARY:Santos VS. F.C. Balkan
DESCRIPTION:League Name: Summer 2009 Premier\nGame Type: Regular\nGame Stat
 us: Complete\nHome Team: Santos\nAway Team: F.C. Balkan\nHome Score: 4\nAw
 ay Score: 5
END:VEVENT
BEGIN:VEVENT
UID:2070057@ezleagues.ezfacility.com
DTSTAMP:20260422T063816Z
CREATED:20260422T063816Z
DTSTART:20090530T190000Z
DTEND:20090530T201000Z
LOCATION:Scottsdale Sports Complex - 1
CONTACT:
SUMMARY:F.C. Balkan VS. Zanjeros FC
DESCRIPTION:League Name: Summer 2009 Premier\nGame Type: Regular\nGame Stat
 us: Complete\nHome Team: F.C. Balkan\nAway Team: Zanjeros FC\nHome Score: 
 1\nAway Score: 1
END:VEVENT
BEGIN:VEVENT
UID:2070091@ezleagues.ezfacility.com
DTSTAMP:20260422T063816Z
CREATED:20260422T063816Z
DTSTART:20090606T173000Z
DTEND:20090606T184000Z
LOCATION:Scottsdale Sports Complex - 4
CONTACT:
SUMMARY:MERAM FC VS. F.C. Balkan
DESCRIPTION:League Name: Summer 2009 Premier\nGame Type: Regular\nGame Stat
 us: Complete\nHome Team: MERAM FC\nAway Team: F.C. Balkan\nHome Score: 0\n
 Away Score: 4
END:VEVENT
BEGIN:VEVENT
UID:2070110@ezleagues.ezfacility.com
DTSTAMP:20260422T063816Z
CREATED:20260422T063816Z
DTSTART:20090613T173000Z
DTEND:20090613T184000Z
LOCATION:Scottsdale Sports Complex - 4
CONTACT:
SUMMARY:F.C. Balkan VS. Real Phoenix C.F.
DESCRIPTION:League Name: Summer 2009 Premier\nGame Type: Regular\nGame Stat
 us: Complete\nHome Team: F.C. Balkan\nAway Team: Real Phoenix C.F.\nHome S
 core: 5\nAway Score: 3
END:VEVENT
BEGIN:VEVENT
UID:2070129@ezleagues.ezfacility.com
DTSTAMP:20260422T063816Z
CREATED:20260422T063816Z
DTSTART:20090620T190000Z
DTEND:20090620T201000Z
LOCATION:Scottsdale Sports Complex - 2
CONTACT:
SUMMARY:F.C. Balkan VS. Santos
DESCRIPTION:League Name: Summer 2009 Premier\nGame Type: Regular\nGame Stat
 us: Complete\nHome Team: F.C. Balkan\nAway Team: Santos\nHome Score: 0\nAw
 ay Score: 0
END:VEVENT
BEGIN:VEVENT
UID:2070147@ezleagues.ezfacility.com
DTSTAMP:20260422T063816Z
CREATED:20260422T063816Z
DTSTART:20090801T190000Z
DTEND:20090801T201000Z
LOCATION:Scottsdale Sports Complex - 2
CONTACT:
SUMMARY:Zanjeros FC VS. F.C. Balkan
DESCRIPTION:League Name: Summer 2009 Premier\nGame Type: Regular\nGame Stat
 us: Complete\nHome Team: Zanjeros FC\nAway Team: F.C. Balkan\nHome Score: 
 1\nAway Score: 1
END:VEVENT
BEGIN:VEVENT
UID:2070074@ezleagues.ezfacility.com
DTSTAMP:20260422T063816Z
CREATED:20260422T063816Z
DTSTART:20090808T173000Z
DTEND:20090808T184000Z
LOCATION:Scottsdale Sports Complex - 4
CONTACT:
SUMMARY:U23 Saguaros VS. F.C. Balkan
DESCRIPTION:League Name: Summer 2009 Premier\nGame Type: Regular\nGame Stat
 us: Complete\nHome Team: U23 Saguaros\nAway Team: F.C. Balkan\nHome Score:
  0\nAway Score: 3
END:VEVENT
BEGIN:VEVENT
UID:2172605@ezleagues.ezfacility.com
DTSTAMP:20260422T063816Z
CREATED:20260422T063816Z
DTSTART:20090815T190000Z
DTEND:20090815T201000Z
LOCATION:Scottsdale Sports Complex - 1
CONTACT:
SUMMARY:F.C. Balkan VS. Real Phoenix C.F.
DESCRIPTION:League Name: Summer 2009 Premier\nGame Type: Postseason\nGame S
 tatus: Complete\nHome Team: F.C. Balkan\nAway Team: Real Phoenix C.F.\nHom
 e Score: 3\nAway Score: 4
END:VEVENT
END:VCALENDAR
