BEGIN:VCALENDAR
VERSION:2.0
PRODID:-//EZFacility.com, Inc.//EZL 2.5.5.28621
BEGIN:VEVENT
UID:2165503@ezleagues.ezfacility.com
DTSTAMP:20260424T044410Z
CREATED:20260424T044410Z
DTSTART:20090801T190000Z
DTEND:20090801T195000Z
LOCATION:SANDHILLS (Field #2) 
CONTACT:
SUMMARY:T & T VS. Dep. El Grande
DESCRIPTION:League Name: Friendlies\nGame Type: Regular\nGame Status: Pendi
 ng\nHome Team: T & T\nAway Team: Dep. El Grande\n
END:VEVENT
END:VCALENDAR
