BEGIN:VCALENDAR
VERSION:2.0
PRODID:-//EZFacility.com, Inc.//EZL 2.5.5.28621
BEGIN:VEVENT
UID:2229654@ezleagues.ezfacility.com
DTSTAMP:20260426T033655Z
CREATED:20260426T033655Z
DTSTART:20090913T120000Z
DTEND:20090913T140000Z
LOCATION:Scottsdale Sports Complex - 1
CONTACT:
SUMMARY:Real Phoenix C.F. VS. F.C. Balkan
DESCRIPTION:League Name: Fall 2009 Premier Division \nGame Type: Regular\nG
 ame Status: Complete\nHome Team: Real Phoenix C.F.\nAway Team: F.C. Balkan
 \nHome Score: 5\nAway Score: 11
END:VEVENT
BEGIN:VEVENT
UID:2229659@ezleagues.ezfacility.com
DTSTAMP:20260426T033655Z
CREATED:20260426T033655Z
DTSTART:20090920T080000Z
DTEND:20090920T100000Z
LOCATION:Scottsdale Sports Complex - 1
CONTACT:
SUMMARY:F.C. Balkan VS. Zanjeros
DESCRIPTION:League Name: Fall 2009 Premier Division \nGame Type: Regular\nG
 ame Status: Complete\nHome Team: F.C. Balkan\nAway Team: Zanjeros\nHome Sc
 ore: 1\nAway Score: 0
END:VEVENT
BEGIN:VEVENT
UID:2229665@ezleagues.ezfacility.com
DTSTAMP:20260426T033655Z
CREATED:20260426T033655Z
DTSTART:20090927T100000Z
DTEND:20090927T120000Z
LOCATION:Scottsdale Sports Complex - 1
CONTACT:
SUMMARY:Phoenix Celtic AFC VS. F.C. Balkan
DESCRIPTION:League Name: Fall 2009 Premier Division \nGame Type: Regular\nG
 ame Status: Complete\nHome Team: Phoenix Celtic AFC\nAway Team: F.C. Balka
 n\nHome Score: 2\nAway Score: 4
END:VEVENT
BEGIN:VEVENT
UID:2229672@ezleagues.ezfacility.com
DTSTAMP:20260426T033655Z
CREATED:20260426T033655Z
DTSTART:20091011T100000Z
DTEND:20091011T120000Z
LOCATION:McDowell Mtn (South)
CONTACT:
SUMMARY:F.C. Balkan VS. Meram FC
DESCRIPTION:League Name: Fall 2009 Premier Division \nGame Type: Regular\nG
 ame Status: Complete\nHome Team: F.C. Balkan\nAway Team: Meram FC\nHome Sc
 ore: 1\nAway Score: 2
END:VEVENT
BEGIN:VEVENT
UID:2229676@ezleagues.ezfacility.com
DTSTAMP:20260426T033655Z
CREATED:20260426T033655Z
DTSTART:20091018T160000Z
DTEND:20091018T180000Z
LOCATION:McDowell Mtn (South)
CONTACT:
SUMMARY:F.C. Balkan VS. United Serbs
DESCRIPTION:League Name: Fall 2009 Premier Division \nGame Type: Regular\nG
 ame Status: Complete\nHome Team: F.C. Balkan\nAway Team: United Serbs\nHom
 e Score: 2\nAway Score: 3
END:VEVENT
BEGIN:VEVENT
UID:2229685@ezleagues.ezfacility.com
DTSTAMP:20260426T033655Z
CREATED:20260426T033655Z
DTSTART:20091025T140000Z
DTEND:20091025T160000Z
LOCATION:McDowell Mtn (South)
CONTACT:
SUMMARY:F.C. Balkan VS. Santos
DESCRIPTION:League Name: Fall 2009 Premier Division \nGame Type: Regular\nG
 ame Status: Complete\nHome Team: F.C. Balkan\nAway Team: Santos\nHome Scor
 e: 6\nAway Score: 0
END:VEVENT
BEGIN:VEVENT
UID:2229689@ezleagues.ezfacility.com
DTSTAMP:20260426T033655Z
CREATED:20260426T033655Z
DTSTART:20091101T080000Z
DTEND:20091101T100000Z
LOCATION:Scottsdale Sports Complex - 1
CONTACT:
SUMMARY:F.C. Balkan VS. AZ Heat
DESCRIPTION:League Name: Fall 2009 Premier Division \nGame Type: Regular\nG
 ame Status: Complete\nHome Team: F.C. Balkan\nAway Team: AZ Heat\nHome Sco
 re: 1\nAway Score: 4
END:VEVENT
BEGIN:VEVENT
UID:2229694@ezleagues.ezfacility.com
DTSTAMP:20260426T033655Z
CREATED:20260426T033655Z
DTSTART:20091108T140000Z
DTEND:20091108T160000Z
LOCATION:McDowell Mtn (South)
CONTACT:
SUMMARY:Diamonds FC VS. F.C. Balkan
DESCRIPTION:League Name: Fall 2009 Premier Division \nGame Type: Regular\nG
 ame Status: Complete\nHome Team: Diamonds FC\nAway Team: F.C. Balkan\nHome
  Score: 6\nAway Score: 2
END:VEVENT
BEGIN:VEVENT
UID:2229668@ezleagues.ezfacility.com
DTSTAMP:20260426T033655Z
CREATED:20260426T033655Z
DTSTART:20091115T120000Z
DTEND:20091115T140000Z
LOCATION:Scottsdale Sports Complex - 6
CONTACT:
SUMMARY:Big Ballers VS. F.C. Balkan
DESCRIPTION:League Name: Fall 2009 Premier Division \nGame Type: Regular\nG
 ame Status: Complete\nHome Team: Big Ballers\nAway Team: F.C. Balkan\nHome
  Score: 7\nAway Score: 0
END:VEVENT
END:VCALENDAR
