BEGIN:VCALENDAR
VERSION:2.0
PRODID:-//EZFacility.com, Inc.//EZL 2.5.5.28621
BEGIN:VEVENT
UID:2470165@ezleagues.ezfacility.com
DTSTAMP:20260426T035113Z
CREATED:20260426T035113Z
DTSTART:20091125T203000Z
DTEND:20091125T211500Z
LOCATION:Field 2
CONTACT:
SUMMARY:Readings Finest VS. Albino Hasbeens
DESCRIPTION:League Name: WSI Men's B \nGame Type: Regular\nGame Status: Com
 plete\nHome Team: Readings Finest\nAway Team: Albino Hasbeens\nHome Score:
  5\nAway Score: 11
END:VEVENT
BEGIN:VEVENT
UID:2470174@ezleagues.ezfacility.com
DTSTAMP:20260426T035113Z
CREATED:20260426T035113Z
DTSTART:20091201T221000Z
DTEND:20091201T225500Z
LOCATION:Field 2
CONTACT:
SUMMARY:Albino Hasbeens VS. BFP Specialty
DESCRIPTION:League Name: WSI Men's B \nGame Type: Regular\nGame Status: Com
 plete\nHome Team: Albino Hasbeens\nAway Team: BFP Specialty\nHome Score: 1
 0\nAway Score: 6
END:VEVENT
BEGIN:VEVENT
UID:2470183@ezleagues.ezfacility.com
DTSTAMP:20260426T035113Z
CREATED:20260426T035113Z
DTSTART:20091208T212000Z
DTEND:20091208T220500Z
LOCATION:Field 2
CONTACT:
SUMMARY:Strikers VS. Albino Hasbeens
DESCRIPTION:League Name: WSI Men's B \nGame Type: Regular\nGame Status: Com
 plete\nHome Team: Strikers\nAway Team: Albino Hasbeens\nHome Score: 4\nAwa
 y Score: 10
END:VEVENT
BEGIN:VEVENT
UID:2470193@ezleagues.ezfacility.com
DTSTAMP:20260426T035113Z
CREATED:20260426T035113Z
DTSTART:20091215T221000Z
DTEND:20091215T225500Z
LOCATION:Field 2
CONTACT:
SUMMARY:Albino Hasbeens VS. GNA Ristorante
DESCRIPTION:League Name: WSI Men's B \nGame Type: Regular\nGame Status: Com
 plete\nHome Team: Albino Hasbeens\nAway Team: GNA Ristorante\nHome Score: 
 10\nAway Score: 7
END:VEVENT
BEGIN:VEVENT
UID:2470202@ezleagues.ezfacility.com
DTSTAMP:20260426T035113Z
CREATED:20260426T035113Z
DTSTART:20091222T212000Z
DTEND:20091222T220500Z
LOCATION:Field 2
CONTACT:
SUMMARY:Calvary BFC VS. Albino Hasbeens
DESCRIPTION:League Name: WSI Men's B \nGame Type: Regular\nGame Status: Com
 plete\nHome Team: Calvary BFC\nAway Team: Albino Hasbeens\nHome Score: 4\n
 Away Score: 13
END:VEVENT
BEGIN:VEVENT
UID:2470210@ezleagues.ezfacility.com
DTSTAMP:20260426T035113Z
CREATED:20260426T035113Z
DTSTART:20091229T221000Z
DTEND:20091229T225500Z
LOCATION:Field 2
CONTACT:
SUMMARY:Auto Spa VS. Albino Hasbeens
DESCRIPTION:League Name: WSI Men's B \nGame Type: Regular\nGame Status: Com
 plete\nHome Team: Auto Spa\nAway Team: Albino Hasbeens\nHome Score: 0\nAwa
 y Score: 3
END:VEVENT
BEGIN:VEVENT
UID:2470216@ezleagues.ezfacility.com
DTSTAMP:20260426T035113Z
CREATED:20260426T035113Z
DTSTART:20100105T221000Z
DTEND:20100105T225500Z
LOCATION:Do not use
CONTACT:
SUMMARY:B F Petroleum VS. Albino Hasbeens
DESCRIPTION:League Name: WSI Men's B \nGame Type: Regular\nGame Status: Com
 plete\nHome Team: B F Petroleum\nAway Team: Albino Hasbeens\nHome Score: 9
 \nAway Score: 3
END:VEVENT
BEGIN:VEVENT
UID:2584455@ezleagues.ezfacility.com
DTSTAMP:20260426T035113Z
CREATED:20260426T035113Z
DTSTART:20100113T203000Z
DTEND:20100113T210000Z
LOCATION:Field 2
CONTACT:
SUMMARY:Albino Hasbeens VS. FC Guinness
DESCRIPTION:League Name: WSI Men's B \nGame Type: Postseason\nGame Status: 
 Pending\nHome Team: Albino Hasbeens\nAway Team: FC Guinness\n
END:VEVENT
END:VCALENDAR
