BEGIN:VCALENDAR
VERSION:2.0
PRODID:-//EZFacility.com, Inc.//EZL 2.5.5.28621
BEGIN:VEVENT
UID:2356136@ezleagues.ezfacility.com
DTSTAMP:20260422T220355Z
CREATED:20260422T220355Z
DTSTART:20091101T160000Z
DTEND:20091101T170000Z
LOCATION:PFFC Field House - Field A
CONTACT:
SUMMARY:Brams United C VS. Milton Magic U16
DESCRIPTION:League Name: U16 Girls Division #2\nGame Type: Regular\nGame St
 atus: Complete\nHome Team: Brams United C\nAway Team: Milton Magic U16\nHo
 me Score: 3\nAway Score: 1
END:VEVENT
BEGIN:VEVENT
UID:2356176@ezleagues.ezfacility.com
DTSTAMP:20260422T220355Z
CREATED:20260422T220355Z
DTSTART:20091108T150000Z
DTEND:20091108T160000Z
LOCATION:PFFC Field House - Field D
CONTACT:
SUMMARY:Brams United C VS. Erin Mills Select
DESCRIPTION:League Name: U16 Girls Division #2\nGame Type: Regular\nGame St
 atus: Complete\nHome Team: Brams United C\nAway Team: Erin Mills Select\nH
 ome Score: 4\nAway Score: 1
END:VEVENT
BEGIN:VEVENT
UID:2356216@ezleagues.ezfacility.com
DTSTAMP:20260422T220355Z
CREATED:20260422T220355Z
DTSTART:20091115T150000Z
DTEND:20091115T160000Z
LOCATION:PFFC Field House - Field D
CONTACT:
SUMMARY:Brams United C VS. Brams United U15 A
DESCRIPTION:League Name: U16 Girls Division #2\nGame Type: Regular\nGame St
 atus: Complete\nHome Team: Brams United C\nAway Team: Brams United U15 A\n
 Home Score: 1\nAway Score: 2
END:VEVENT
BEGIN:VEVENT
UID:2356256@ezleagues.ezfacility.com
DTSTAMP:20260422T220355Z
CREATED:20260422T220355Z
DTSTART:20091122T160000Z
DTEND:20091122T170000Z
LOCATION:PFFC Field House - Field B
CONTACT:
SUMMARY:Brams United C VS. Mississauga Croatia
DESCRIPTION:League Name: U16 Girls Division #2\nGame Type: Regular\nGame St
 atus: Complete\nHome Team: Brams United C\nAway Team: Mississauga Croatia\
 nHome Score: 1\nAway Score: 1
END:VEVENT
BEGIN:VEVENT
UID:2356296@ezleagues.ezfacility.com
DTSTAMP:20260422T220355Z
CREATED:20260422T220355Z
DTSTART:20091129T160000Z
DTEND:20091129T170000Z
LOCATION:PFFC Field House - Field B
CONTACT:
SUMMARY:Brams United C VS. Milton Magic U15 Select
DESCRIPTION:League Name: U16 Girls Division #2\nGame Type: Regular\nGame St
 atus: Complete\nHome Team: Brams United C\nAway Team: Milton Magic U15 Sel
 ect\nHome Score: 7\nAway Score: 1
END:VEVENT
BEGIN:VEVENT
UID:2356336@ezleagues.ezfacility.com
DTSTAMP:20260422T220355Z
CREATED:20260422T220355Z
DTSTART:20091206T160000Z
DTEND:20091206T170000Z
LOCATION:PFFC Field House - Field C
CONTACT:
SUMMARY:Brams United C VS. Milton Magic U15 A
DESCRIPTION:League Name: U16 Girls Division #2\nGame Type: Regular\nGame St
 atus: Complete\nHome Team: Brams United C\nAway Team: Milton Magic U15 A\n
 Home Score: 2\nAway Score: 3
END:VEVENT
BEGIN:VEVENT
UID:2356376@ezleagues.ezfacility.com
DTSTAMP:20260422T220355Z
CREATED:20260422T220355Z
DTSTART:20091213T160000Z
DTEND:20091213T170000Z
LOCATION:PFFC Field House - Field A
CONTACT:
SUMMARY:Brams United C VS. Supra United
DESCRIPTION:League Name: U16 Girls Division #2\nGame Type: Regular\nGame St
 atus: Complete\nHome Team: Brams United C\nAway Team: Supra United\nHome S
 core: 2\nAway Score: 0
END:VEVENT
BEGIN:VEVENT
UID:2356416@ezleagues.ezfacility.com
DTSTAMP:20260422T220355Z
CREATED:20260422T220355Z
DTSTART:20091220T150000Z
DTEND:20091220T160000Z
LOCATION:PFFC Field House - Field D
CONTACT:
SUMMARY:Brams United C VS. Erin Mills Blazing Eagles
DESCRIPTION:League Name: U16 Girls Division #2\nGame Type: Regular\nGame St
 atus: Complete\nHome Team: Brams United C\nAway Team: Erin Mills Blazing E
 agles\nHome Score: 3\nAway Score: 2
END:VEVENT
BEGIN:VEVENT
UID:2356536@ezleagues.ezfacility.com
DTSTAMP:20260422T220355Z
CREATED:20260422T220355Z
DTSTART:20100110T150000Z
DTEND:20100110T160000Z
LOCATION:PFFC Field House - Field D
CONTACT:
SUMMARY:Erin Mills Select VS. Brams United C
DESCRIPTION:League Name: U16 Girls Division #2\nGame Type: Regular\nGame St
 atus: Complete\nHome Team: Erin Mills Select\nAway Team: Brams United C\nH
 ome Score: 0\nAway Score: 2
END:VEVENT
BEGIN:VEVENT
UID:2356576@ezleagues.ezfacility.com
DTSTAMP:20260422T220355Z
CREATED:20260422T220355Z
DTSTART:20100117T160000Z
DTEND:20100117T170000Z
LOCATION:PFFC Field House - Field A
CONTACT:
SUMMARY:Brams United U15 A VS. Brams United C
DESCRIPTION:League Name: U16 Girls Division #2\nGame Type: Regular\nGame St
 atus: Complete\nHome Team: Brams United U15 A\nAway Team: Brams United C\n
 Home Score: 4\nAway Score: 1
END:VEVENT
BEGIN:VEVENT
UID:2356616@ezleagues.ezfacility.com
DTSTAMP:20260422T220355Z
CREATED:20260422T220355Z
DTSTART:20100124T160000Z
DTEND:20100124T170000Z
LOCATION:PFFC Field House - Field C
CONTACT:
SUMMARY:Mississauga Croatia VS. Brams United C
DESCRIPTION:League Name: U16 Girls Division #2\nGame Type: Regular\nGame St
 atus: Complete\nHome Team: Mississauga Croatia\nAway Team: Brams United C\
 nHome Score: 0\nAway Score: 4
END:VEVENT
BEGIN:VEVENT
UID:2356656@ezleagues.ezfacility.com
DTSTAMP:20260422T220355Z
CREATED:20260422T220355Z
DTSTART:20100131T160000Z
DTEND:20100131T170000Z
LOCATION:PFFC Field House - Field A
CONTACT:
SUMMARY:Milton Magic U15 Select VS. Brams United C
DESCRIPTION:League Name: U16 Girls Division #2\nGame Type: Regular\nGame St
 atus: Complete\nHome Team: Milton Magic U15 Select\nAway Team: Brams Unite
 d C\nHome Score: 0\nAway Score: 3
END:VEVENT
BEGIN:VEVENT
UID:2356696@ezleagues.ezfacility.com
DTSTAMP:20260422T220355Z
CREATED:20260422T220355Z
DTSTART:20100207T150000Z
DTEND:20100207T160000Z
LOCATION:PFFC Field House - Field D
CONTACT:
SUMMARY:Milton Magic U15 A VS. Brams United C
DESCRIPTION:League Name: U16 Girls Division #2\nGame Type: Regular\nGame St
 atus: Complete\nHome Team: Milton Magic U15 A\nAway Team: Brams United C\n
 Home Score: 1\nAway Score: 1
END:VEVENT
BEGIN:VEVENT
UID:2356736@ezleagues.ezfacility.com
DTSTAMP:20260422T220355Z
CREATED:20260422T220355Z
DTSTART:20100214T150000Z
DTEND:20100214T160000Z
LOCATION:PFFC Field House - Field D
CONTACT:
SUMMARY:Supra United VS. Brams United C
DESCRIPTION:League Name: U16 Girls Division #2\nGame Type: Regular\nGame St
 atus: Complete\nHome Team: Supra United\nAway Team: Brams United C\nHome S
 core: 1\nAway Score: 0
END:VEVENT
BEGIN:VEVENT
UID:2356776@ezleagues.ezfacility.com
DTSTAMP:20260422T220355Z
CREATED:20260422T220355Z
DTSTART:20100221T150000Z
DTEND:20100221T160000Z
LOCATION:PFFC Field House - Field D
CONTACT:
SUMMARY:Erin Mills Blazing Eagles VS. Brams United C
DESCRIPTION:League Name: U16 Girls Division #2\nGame Type: Regular\nGame St
 atus: Complete\nHome Team: Erin Mills Blazing Eagles\nAway Team: Brams Uni
 ted C\nHome Score: 1\nAway Score: 0
END:VEVENT
BEGIN:VEVENT
UID:2356816@ezleagues.ezfacility.com
DTSTAMP:20260422T220355Z
CREATED:20260422T220355Z
DTSTART:20100228T150000Z
DTEND:20100228T160000Z
LOCATION:PFFC Field House - Field D
CONTACT:
SUMMARY:Bolton 94 VS. Brams United C
DESCRIPTION:League Name: U16 Girls Division #2\nGame Type: Regular\nGame St
 atus: Complete\nHome Team: Bolton 94\nAway Team: Brams United C\nHome Scor
 e: 0\nAway Score: 4
END:VEVENT
BEGIN:VEVENT
UID:2356456@ezleagues.ezfacility.com
DTSTAMP:20260422T220355Z
CREATED:20260422T220355Z
DTSTART:20100307T150000Z
DTEND:20100307T160000Z
LOCATION:PFFC Field House - Field D
CONTACT:
SUMMARY:Brams United C VS. Bolton 94
DESCRIPTION:League Name: U16 Girls Division #2\nGame Type: Regular\nGame St
 atus: Complete\nHome Team: Brams United C\nAway Team: Bolton 94\nHome Scor
 e: 4\nAway Score: 0
END:VEVENT
BEGIN:VEVENT
UID:2356496@ezleagues.ezfacility.com
DTSTAMP:20260422T220355Z
CREATED:20260422T220355Z
DTSTART:20100321T190000Z
DTEND:20100321T200000Z
LOCATION:PFFC Field House - Field D
CONTACT:
SUMMARY:Milton Magic U16 VS. Brams United C
DESCRIPTION:League Name: U16 Girls Division #2\nGame Type: Regular\nGame St
 atus: Complete\nHome Team: Milton Magic U16\nAway Team: Brams United C\nHo
 me Score: 2\nAway Score: 0
END:VEVENT
BEGIN:VEVENT
UID:2692582@ezleagues.ezfacility.com
DTSTAMP:20260422T220355Z
CREATED:20260422T220355Z
DTSTART:20100328T170000Z
DTEND:20100328T180000Z
LOCATION:PFFC Field House - Field A
CONTACT:
SUMMARY:Brams United C VS. Erin Mills Blazing Eagles
DESCRIPTION:League Name: U16 Girls Division #2\nGame Type: Postseason\nGame
  Status: Complete\nHome Team: Brams United C\nAway Team: Erin Mills Blazin
 g Eagles\nHome Score: 1\nAway Score: 0
END:VEVENT
BEGIN:VEVENT
UID:2692607@ezleagues.ezfacility.com
DTSTAMP:20260422T220355Z
CREATED:20260422T220355Z
DTSTART:20100411T180000Z
DTEND:20100411T190000Z
LOCATION:PFFC Field House - Field C
CONTACT:
SUMMARY:Brams United C VS. Supra United
DESCRIPTION:League Name: U16 Girls Division #2\nGame Type: Postseason\nGame
  Status: Complete\nHome Team: Brams United C\nAway Team: Supra United\nHom
 e Score: 3\nAway Score: 3
END:VEVENT
END:VCALENDAR
