BEGIN:VCALENDAR
VERSION:2.0
PRODID:-//EZFacility.com, Inc.//EZL 2.5.5.28621
BEGIN:VEVENT
UID:2356158@ezleagues.ezfacility.com
DTSTAMP:20260424T043256Z
CREATED:20260424T043256Z
DTSTART:20091101T130000Z
DTEND:20091101T140000Z
LOCATION:PFFC Field House - Field D
CONTACT:
SUMMARY:Islington Rangers VS. Dixie Thunder
DESCRIPTION:League Name: U14 Boys Division #2 West\nGame Type: Regular\nGam
 e Status: Complete\nHome Team: Islington Rangers\nAway Team: Dixie Thunder
 \nHome Score: 2\nAway Score: 0
END:VEVENT
BEGIN:VEVENT
UID:2356198@ezleagues.ezfacility.com
DTSTAMP:20260424T043256Z
CREATED:20260424T043256Z
DTSTART:20091108T120000Z
DTEND:20091108T130000Z
LOCATION:PFFC Field House - Field D
CONTACT:
SUMMARY:Dixie Thunder VS. Erin Mills Rising Eagles
DESCRIPTION:League Name: U14 Boys Division #2 West\nGame Type: Regular\nGam
 e Status: Complete\nHome Team: Dixie Thunder\nAway Team: Erin Mills Rising
  Eagles\nHome Score: 3\nAway Score: 2
END:VEVENT
BEGIN:VEVENT
UID:2356237@ezleagues.ezfacility.com
DTSTAMP:20260424T043256Z
CREATED:20260424T043256Z
DTSTART:20091115T130000Z
DTEND:20091115T140000Z
LOCATION:PFFC Field House - Field D
CONTACT:
SUMMARY:Dixie Thunder VS. USC Karpaty
DESCRIPTION:League Name: U14 Boys Division #2 West\nGame Type: Regular\nGam
 e Status: Complete\nHome Team: Dixie Thunder\nAway Team: USC Karpaty\nHome
  Score: 1\nAway Score: 3
END:VEVENT
BEGIN:VEVENT
UID:2356276@ezleagues.ezfacility.com
DTSTAMP:20260424T043256Z
CREATED:20260424T043256Z
DTSTART:20091122T120000Z
DTEND:20091122T130000Z
LOCATION:PFFC Field House - Field B
CONTACT:
SUMMARY:Dixie Thunder VS. Erin Mills D
DESCRIPTION:League Name: U14 Boys Division #2 West\nGame Type: Regular\nGam
 e Status: Complete\nHome Team: Dixie Thunder\nAway Team: Erin Mills D\nHom
 e Score: 1\nAway Score: 0
END:VEVENT
BEGIN:VEVENT
UID:2356315@ezleagues.ezfacility.com
DTSTAMP:20260424T043256Z
CREATED:20260424T043256Z
DTSTART:20091129T110000Z
DTEND:20091129T120000Z
LOCATION:PFFC Field House - Field C
CONTACT:
SUMMARY:NMSC Panthers B VS. Dixie Thunder
DESCRIPTION:League Name: U14 Boys Division #2 West\nGame Type: Regular\nGam
 e Status: Complete\nHome Team: NMSC Panthers B\nAway Team: Dixie Thunder\n
 Home Score: 2\nAway Score: 3
END:VEVENT
BEGIN:VEVENT
UID:2356356@ezleagues.ezfacility.com
DTSTAMP:20260424T043256Z
CREATED:20260424T043256Z
DTSTART:20091206T120000Z
DTEND:20091206T130000Z
LOCATION:PFFC Field House - Field B
CONTACT:
SUMMARY:Georgetown Mustangs VS. Dixie Thunder
DESCRIPTION:League Name: U14 Boys Division #2 West\nGame Type: Regular\nGam
 e Status: Complete\nHome Team: Georgetown Mustangs\nAway Team: Dixie Thund
 er\nHome Score: 3\nAway Score: 2
END:VEVENT
BEGIN:VEVENT
UID:2356397@ezleagues.ezfacility.com
DTSTAMP:20260424T043256Z
CREATED:20260424T043256Z
DTSTART:20091213T120000Z
DTEND:20091213T130000Z
LOCATION:PFFC Field House - Field B
CONTACT:
SUMMARY:OKD VS. Dixie Thunder
DESCRIPTION:League Name: U14 Boys Division #2 West\nGame Type: Regular\nGam
 e Status: Complete\nHome Team: OKD\nAway Team: Dixie Thunder\nHome Score: 
 6\nAway Score: 2
END:VEVENT
BEGIN:VEVENT
UID:2356438@ezleagues.ezfacility.com
DTSTAMP:20260424T043256Z
CREATED:20260424T043256Z
DTSTART:20091220T120000Z
DTEND:20091220T130000Z
LOCATION:PFFC Field House - Field D
CONTACT:
SUMMARY:Dixie Thunder VS. Islington Rangers
DESCRIPTION:League Name: U14 Boys Division #2 West\nGame Type: Regular\nGam
 e Status: Complete\nHome Team: Dixie Thunder\nAway Team: Islington Rangers
 \nHome Score: 1\nAway Score: 1
END:VEVENT
BEGIN:VEVENT
UID:2356556@ezleagues.ezfacility.com
DTSTAMP:20260424T043256Z
CREATED:20260424T043256Z
DTSTART:20100110T120000Z
DTEND:20100110T130000Z
LOCATION:PFFC Field House - Field B
CONTACT:
SUMMARY:Erin Mills D VS. Dixie Thunder
DESCRIPTION:League Name: U14 Boys Division #2 West\nGame Type: Regular\nGam
 e Status: Complete\nHome Team: Erin Mills D\nAway Team: Dixie Thunder\nHom
 e Score: 1\nAway Score: 5
END:VEVENT
BEGIN:VEVENT
UID:2356595@ezleagues.ezfacility.com
DTSTAMP:20260424T043256Z
CREATED:20260424T043256Z
DTSTART:20100117T110000Z
DTEND:20100117T120000Z
LOCATION:PFFC Field House - Field C
CONTACT:
SUMMARY:Dixie Thunder VS. NMSC Panthers B
DESCRIPTION:League Name: U14 Boys Division #2 West\nGame Type: Regular\nGam
 e Status: Complete\nHome Team: Dixie Thunder\nAway Team: NMSC Panthers B\n
 Home Score: 0\nAway Score: 2
END:VEVENT
BEGIN:VEVENT
UID:2356636@ezleagues.ezfacility.com
DTSTAMP:20260424T043256Z
CREATED:20260424T043256Z
DTSTART:20100124T110000Z
DTEND:20100124T120000Z
LOCATION:PFFC Field House - Field C
CONTACT:
SUMMARY:Dixie Thunder VS. Georgetown Mustangs
DESCRIPTION:League Name: U14 Boys Division #2 West\nGame Type: Regular\nGam
 e Status: Complete\nHome Team: Dixie Thunder\nAway Team: Georgetown Mustan
 gs\nHome Score: 2\nAway Score: 3
END:VEVENT
BEGIN:VEVENT
UID:2356677@ezleagues.ezfacility.com
DTSTAMP:20260424T043256Z
CREATED:20260424T043256Z
DTSTART:20100131T130000Z
DTEND:20100131T140000Z
LOCATION:PFFC Field House - Field D
CONTACT:
SUMMARY:Dixie Thunder VS. OKD
DESCRIPTION:League Name: U14 Boys Division #2 West\nGame Type: Regular\nGam
 e Status: Complete\nHome Team: Dixie Thunder\nAway Team: OKD\nHome Score: 
 3\nAway Score: 1
END:VEVENT
BEGIN:VEVENT
UID:2356718@ezleagues.ezfacility.com
DTSTAMP:20260424T043256Z
CREATED:20260424T043256Z
DTSTART:20100207T120000Z
DTEND:20100207T130000Z
LOCATION:PFFC Field House - Field D
CONTACT:
SUMMARY:Dixie Thunder VS. Islington Rangers
DESCRIPTION:League Name: U14 Boys Division #2 West\nGame Type: Regular\nGam
 e Status: Complete\nHome Team: Dixie Thunder\nAway Team: Islington Rangers
 \nHome Score: 2\nAway Score: 3
END:VEVENT
BEGIN:VEVENT
UID:2356758@ezleagues.ezfacility.com
DTSTAMP:20260424T043256Z
CREATED:20260424T043256Z
DTSTART:20100214T120000Z
DTEND:20100214T130000Z
LOCATION:PFFC Field House - Field D
CONTACT:
SUMMARY:Erin Mills Rising Eagles VS. Dixie Thunder
DESCRIPTION:League Name: U14 Boys Division #2 West\nGame Type: Regular\nGam
 e Status: Complete\nHome Team: Erin Mills Rising Eagles\nAway Team: Dixie 
 Thunder\nHome Score: 3\nAway Score: 2
END:VEVENT
BEGIN:VEVENT
UID:2356797@ezleagues.ezfacility.com
DTSTAMP:20260424T043256Z
CREATED:20260424T043256Z
DTSTART:20100221T120000Z
DTEND:20100221T130000Z
LOCATION:PFFC Field House - Field B
CONTACT:
SUMMARY:USC Karpaty VS. Dixie Thunder
DESCRIPTION:League Name: U14 Boys Division #2 West\nGame Type: Regular\nGam
 e Status: Complete\nHome Team: USC Karpaty\nAway Team: Dixie Thunder\nHome
  Score: 7\nAway Score: 2
END:VEVENT
BEGIN:VEVENT
UID:2356836@ezleagues.ezfacility.com
DTSTAMP:20260424T043256Z
CREATED:20260424T043256Z
DTSTART:20100228T130000Z
DTEND:20100228T140000Z
LOCATION:PFFC Field House - Field D
CONTACT:
SUMMARY:Erin Mills D VS. Dixie Thunder
DESCRIPTION:League Name: U14 Boys Division #2 West\nGame Type: Regular\nGam
 e Status: Complete\nHome Team: Erin Mills D\nAway Team: Dixie Thunder\nHom
 e Score: 4\nAway Score: 4
END:VEVENT
BEGIN:VEVENT
UID:2356478@ezleagues.ezfacility.com
DTSTAMP:20260424T043256Z
CREATED:20260424T043256Z
DTSTART:20100307T120000Z
DTEND:20100307T130000Z
LOCATION:PFFC Field House - Field D
CONTACT:
SUMMARY:Erin Mills Rising Eagles VS. Dixie Thunder
DESCRIPTION:League Name: U14 Boys Division #2 West\nGame Type: Regular\nGam
 e Status: Complete\nHome Team: Erin Mills Rising Eagles\nAway Team: Dixie 
 Thunder\nHome Score: 2\nAway Score: 1
END:VEVENT
BEGIN:VEVENT
UID:2356517@ezleagues.ezfacility.com
DTSTAMP:20260424T043256Z
CREATED:20260424T043256Z
DTSTART:20100321T170000Z
DTEND:20100321T180000Z
LOCATION:PFFC Field House - Field D
CONTACT:
SUMMARY:Dixie Thunder VS. USC Karpaty
DESCRIPTION:League Name: U14 Boys Division #2 West\nGame Type: Regular\nGam
 e Status: Complete\nHome Team: Dixie Thunder\nAway Team: USC Karpaty\nHome
  Score: 2\nAway Score: 8
END:VEVENT
BEGIN:VEVENT
UID:2692286@ezleagues.ezfacility.com
DTSTAMP:20260424T043256Z
CREATED:20260424T043256Z
DTSTART:20100328T150000Z
DTEND:20100328T160000Z
LOCATION:PFFC Field House - Field C
CONTACT:
SUMMARY:Georgetown Mustangs VS. Dixie Thunder
DESCRIPTION:League Name: U14 Boys Division #2 West\nGame Type: Postseason\n
 Game Status: Complete\nHome Team: Georgetown Mustangs\nAway Team: Dixie Th
 under\nHome Score: 3\nAway Score: 1
END:VEVENT
END:VCALENDAR
