BEGIN:VCALENDAR
VERSION:2.0
PRODID:-//EZFacility.com, Inc.//EZL 2.5.5.28621
BEGIN:VEVENT
UID:2355464@ezleagues.ezfacility.com
DTSTAMP:20260424T041449Z
CREATED:20260424T041449Z
DTSTART:20091018T202000Z
DTEND:20091018T211000Z
LOCATION:SANDHILLS (Field #2) 
CONTACT:Grimes
SUMMARY:TWT VS. Plex House
DESCRIPTION:League Name: 510 - 09W - Coed Rec Soccer (Sunday)\nGame Type: R
 egular\nGame Status: Complete\nHome Team: TWT\nAway Team: Plex House\nHome
  Score: 4\nAway Score: 2
END:VEVENT
BEGIN:VEVENT
UID:2364879@ezleagues.ezfacility.com
DTSTAMP:20260424T041449Z
CREATED:20260424T041449Z
DTSTART:20091025T194000Z
DTEND:20091025T203000Z
LOCATION:SANDHILLS (Field #2) 
CONTACT:Grimes
SUMMARY:Shappens VS. Plex House
DESCRIPTION:League Name: 510 - 09W - Coed Rec Soccer (Sunday)\nGame Type: R
 egular\nGame Status: Complete\nHome Team: Shappens\nAway Team: Plex House\
 nHome Score: 11\nAway Score: 5
END:VEVENT
BEGIN:VEVENT
UID:2399171@ezleagues.ezfacility.com
DTSTAMP:20260424T041449Z
CREATED:20260424T041449Z
DTSTART:20091101T171000Z
DTEND:20091101T180000Z
LOCATION:SANDHILLS (Field #2) 
CONTACT:
SUMMARY:Plex House VS. Rolla
DESCRIPTION:League Name: 510 - 09W - Coed Rec Soccer (Sunday)\nGame Type: R
 egular\nGame Status: Complete\nHome Team: Plex House\nAway Team: Rolla\nHo
 me Score: 2\nAway Score: 9
END:VEVENT
BEGIN:VEVENT
UID:2408160@ezleagues.ezfacility.com
DTSTAMP:20260424T041449Z
CREATED:20260424T041449Z
DTSTART:20091108T203000Z
DTEND:20091108T212000Z
LOCATION:SANDHILLS (Field #2) 
CONTACT:
SUMMARY:Plex House VS. Crew FC
DESCRIPTION:League Name: 510 - 09W - Coed Rec Soccer (Sunday)\nGame Type: R
 egular\nGame Status: Complete\nHome Team: Plex House\nAway Team: Crew FC\n
 Home Score: 10\nAway Score: 3
END:VEVENT
BEGIN:VEVENT
UID:2408164@ezleagues.ezfacility.com
DTSTAMP:20260424T041449Z
CREATED:20260424T041449Z
DTSTART:20091115T180000Z
DTEND:20091115T185000Z
LOCATION:SANDHILLS (Field #2) 
CONTACT:
SUMMARY:Plex House VS. Transplants
DESCRIPTION:League Name: 510 - 09W - Coed Rec Soccer (Sunday)\nGame Type: R
 egular\nGame Status: Complete\nHome Team: Plex House\nAway Team: Transplan
 ts\nHome Score: 8\nAway Score: 2
END:VEVENT
BEGIN:VEVENT
UID:2408167@ezleagues.ezfacility.com
DTSTAMP:20260424T041449Z
CREATED:20260424T041449Z
DTSTART:20091122T194000Z
DTEND:20091122T203000Z
LOCATION:SANDHILLS (Field #2) 
CONTACT:
SUMMARY:Teddy Bears Picnic VS. Plex House
DESCRIPTION:League Name: 510 - 09W - Coed Rec Soccer (Sunday)\nGame Type: R
 egular\nGame Status: Complete\nHome Team: Teddy Bears Picnic\nAway Team: P
 lex House\nHome Score: 6\nAway Score: 4
END:VEVENT
BEGIN:VEVENT
UID:2408171@ezleagues.ezfacility.com
DTSTAMP:20260424T041449Z
CREATED:20260424T041449Z
DTSTART:20091129T185000Z
DTEND:20091129T194000Z
LOCATION:SANDHILLS (Field #2) 
CONTACT:Onate
SUMMARY:Beer-run VS. Plex House
DESCRIPTION:League Name: 510 - 09W - Coed Rec Soccer (Sunday)\nGame Type: R
 egular\nGame Status: Complete\nHome Team: Beer-run\nAway Team: Plex House\
 nHome Score: 9\nAway Score: 2
END:VEVENT
BEGIN:VEVENT
UID:2408174@ezleagues.ezfacility.com
DTSTAMP:20260424T041449Z
CREATED:20260424T041449Z
DTSTART:20091206T185000Z
DTEND:20091206T194000Z
LOCATION:SANDHILLS (Field #2) 
CONTACT:
SUMMARY:TWT VS. Plex House
DESCRIPTION:League Name: 510 - 09W - Coed Rec Soccer (Sunday)\nGame Type: R
 egular\nGame Status: Complete\nHome Team: TWT\nAway Team: Plex House\nHome
  Score: 3\nAway Score: 10
END:VEVENT
END:VCALENDAR
