BEGIN:VCALENDAR
VERSION:2.0
PRODID:-//EZFacility.com, Inc.//EZL 2.5.5.28621
BEGIN:VEVENT
UID:2461598@ezleagues.ezfacility.com
DTSTAMP:20260424T044038Z
CREATED:20260424T044038Z
DTSTART:20091121T130000Z
DTEND:20091121T135000Z
LOCATION:SANDHILLS (Bi-Lo #1)
CONTACT:
SUMMARY:Cardinal Newman VS. Bye-start 12/6
DESCRIPTION:League Name: 520 - 09W - H.S. Boys J.V./Club  (U13-15) Soccer\n
 Game Type: Regular\nGame Status: Pending\nHome Team: Cardinal Newman\nAway
  Team: Bye-start 12/6\n
END:VEVENT
BEGIN:VEVENT
UID:2488290@ezleagues.ezfacility.com
DTSTAMP:20260424T044038Z
CREATED:20260424T044038Z
DTSTART:20091206T163000Z
DTEND:20091206T172000Z
LOCATION:SANDHILLS (Bi-Lo #1)
CONTACT:Grimes
SUMMARY:Cardinal Newman VS. Blythewood Gold
DESCRIPTION:League Name: 520 - 09W - H.S. Boys J.V./Club  (U13-15) Soccer\n
 Game Type: Regular\nGame Status: Complete\nHome Team: Cardinal Newman\nAwa
 y Team: Blythewood Gold\nHome Score: 1\nAway Score: 2
END:VEVENT
BEGIN:VEVENT
UID:2518105@ezleagues.ezfacility.com
DTSTAMP:20260424T044038Z
CREATED:20260424T044038Z
DTSTART:20091212T125000Z
DTEND:20091212T134000Z
LOCATION:SANDHILLS (Field #2) 
CONTACT:Grimes
SUMMARY:Warriors VS. Cardinal Newman
DESCRIPTION:League Name: 520 - 09W - H.S. Boys J.V./Club  (U13-15) Soccer\n
 Game Type: Regular\nGame Status: Complete\nHome Team: Warriors\nAway Team:
  Cardinal Newman\nHome Score: 7\nAway Score: 7
END:VEVENT
BEGIN:VEVENT
UID:2518097@ezleagues.ezfacility.com
DTSTAMP:20260424T044038Z
CREATED:20260424T044038Z
DTSTART:20091213T171000Z
DTEND:20091213T180000Z
LOCATION:SANDHILLS (Field #2) 
CONTACT:
SUMMARY:Team Awesomelicious VS. Cardinal Newman
DESCRIPTION:League Name: 520 - 09W - H.S. Boys J.V./Club  (U13-15) Soccer\n
 Game Type: Regular\nGame Status: Complete\nHome Team: Team Awesomelicious\
 nAway Team: Cardinal Newman\nHome Score: 3\nAway Score: 10
END:VEVENT
BEGIN:VEVENT
UID:2523943@ezleagues.ezfacility.com
DTSTAMP:20260424T044038Z
CREATED:20260424T044038Z
DTSTART:20091219T145000Z
DTEND:20091219T154000Z
LOCATION:SANDHILLS (Field #2) 
CONTACT:
SUMMARY:Cayce Maroon VS. Cardinal Newman
DESCRIPTION:League Name: 520 - 09W - H.S. Boys J.V./Club  (U13-15) Soccer\n
 Game Type: Regular\nGame Status: Complete\nHome Team: Cayce Maroon\nAway T
 eam: Cardinal Newman\nHome Score: 4\nAway Score: 5
END:VEVENT
BEGIN:VEVENT
UID:2523969@ezleagues.ezfacility.com
DTSTAMP:20260424T044038Z
CREATED:20260424T044038Z
DTSTART:20091220T162000Z
DTEND:20091220T171000Z
LOCATION:SANDHILLS (Field #2) 
CONTACT:
SUMMARY:Aiken Lazers VS. Cardinal Newman
DESCRIPTION:League Name: 520 - 09W - H.S. Boys J.V./Club  (U13-15) Soccer\n
 Game Type: Regular\nGame Status: Complete\nHome Team: Aiken Lazers\nAway T
 eam: Cardinal Newman\nHome Score: 2\nAway Score: 6
END:VEVENT
BEGIN:VEVENT
UID:2524023@ezleagues.ezfacility.com
DTSTAMP:20260424T044038Z
CREATED:20260424T044038Z
DTSTART:20091227T165000Z
DTEND:20091227T174000Z
LOCATION:SANDHILLS (Bi-Lo #1)
CONTACT:Grimes
SUMMARY:Men Who Stare At Goats VS. Cardinal Newman
DESCRIPTION:League Name: 520 - 09W - H.S. Boys J.V./Club  (U13-15) Soccer\n
 Game Type: Regular\nGame Status: Complete\nHome Team: Men Who Stare At Goa
 ts\nAway Team: Cardinal Newman\nHome Score: 2\nAway Score: 9
END:VEVENT
BEGIN:VEVENT
UID:2526895@ezleagues.ezfacility.com
DTSTAMP:20260424T044038Z
CREATED:20260424T044038Z
DTSTART:20100103T151000Z
DTEND:20100103T160000Z
LOCATION:SANDHILLS (Bi-Lo #1)
CONTACT:
SUMMARY:Cardinal Newman VS. CUFC 96 Elite
DESCRIPTION:League Name: 520 - 09W - H.S. Boys J.V./Club  (U13-15) Soccer\n
 Game Type: Regular\nGame Status: Complete\nHome Team: Cardinal Newman\nAwa
 y Team: CUFC 96 Elite\nHome Score: 6\nAway Score: 3
END:VEVENT
BEGIN:VEVENT
UID:2526952@ezleagues.ezfacility.com
DTSTAMP:20260424T044038Z
CREATED:20260424T044038Z
DTSTART:20100116T150000Z
DTEND:20100116T155000Z
LOCATION:SANDHILLS (Bi-Lo #1)
CONTACT:Grimes
SUMMARY:Warriors VS. Cardinal Newman
DESCRIPTION:League Name: 520 - 09W - H.S. Boys J.V./Club  (U13-15) Soccer\n
 Game Type: Regular\nGame Status: Complete\nHome Team: Warriors\nAway Team:
  Cardinal Newman\nHome Score: 5\nAway Score: 3
END:VEVENT
BEGIN:VEVENT
UID:2527443@ezleagues.ezfacility.com
DTSTAMP:20260424T044038Z
CREATED:20260424T044038Z
DTSTART:20100124T154500Z
DTEND:20100124T163500Z
LOCATION:SANDHILLS (Bi-Lo #1)
CONTACT:Grimes
SUMMARY:Cardinal Newman VS. AC Milan
DESCRIPTION:League Name: 520 - 09W - H.S. Boys J.V./Club  (U13-15) Soccer\n
 Game Type: Regular\nGame Status: Complete\nHome Team: Cardinal Newman\nAwa
 y Team: AC Milan\nHome Score: 9\nAway Score: 2
END:VEVENT
BEGIN:VEVENT
UID:2527486@ezleagues.ezfacility.com
DTSTAMP:20260424T044038Z
CREATED:20260424T044038Z
DTSTART:20100130T164000Z
DTEND:20100130T173000Z
LOCATION:SANDHILLS (Field #2) 
CONTACT:Grimes
SUMMARY:Cardinal Newman VS. The Blues
DESCRIPTION:League Name: 520 - 09W - H.S. Boys J.V./Club  (U13-15) Soccer\n
 Game Type: Regular\nGame Status: Complete\nHome Team: Cardinal Newman\nAwa
 y Team: The Blues\nHome Score: 5\nAway Score: 6
END:VEVENT
END:VCALENDAR
