BEGIN:VCALENDAR
VERSION:2.0
PRODID:-//EZFacility.com, Inc.//EZL 2.5.5.28621
BEGIN:VEVENT
UID:2501143@ezleagues.ezfacility.com
DTSTAMP:20260424T043159Z
CREATED:20260424T043159Z
DTSTART:20091203T203000Z
DTEND:20091203T205000Z
LOCATION:PARS Field
CONTACT:
SUMMARY:The Champions VS. Elite fc
DESCRIPTION:League Name: Indoor Soccer League - High School Girls\nGame Typ
 e: Regular\nGame Status: Complete\nHome Team: The Champions\nAway Team: El
 ite fc\nHome Score: 9\nAway Score: 8
END:VEVENT
BEGIN:VEVENT
UID:2501147@ezleagues.ezfacility.com
DTSTAMP:20260424T043159Z
CREATED:20260424T043159Z
DTSTART:20091210T183000Z
DTEND:20091210T185000Z
LOCATION:PARS Field
CONTACT:
SUMMARY:Pelatkaa Meita VS. Elite fc
DESCRIPTION:League Name: Indoor Soccer League - High School Girls\nGame Typ
 e: Regular\nGame Status: Complete\nHome Team: Pelatkaa Meita\nAway Team: E
 lite fc\nHome Score: 9\nAway Score: 4
END:VEVENT
BEGIN:VEVENT
UID:2501156@ezleagues.ezfacility.com
DTSTAMP:20260424T043159Z
CREATED:20260424T043159Z
DTSTART:20091217T191500Z
DTEND:20091217T193500Z
LOCATION:PARS Field
CONTACT:
SUMMARY:Elite fc VS. Pelatkaa Meita
DESCRIPTION:League Name: Indoor Soccer League - High School Girls\nGame Typ
 e: Regular\nGame Status: Complete\nHome Team: Elite fc\nAway Team: Pelatka
 a Meita\nHome Score: 1\nAway Score: 9
END:VEVENT
BEGIN:VEVENT
UID:2501158@ezleagues.ezfacility.com
DTSTAMP:20260424T043159Z
CREATED:20260424T043159Z
DTSTART:20091217T200000Z
DTEND:20091217T202000Z
LOCATION:PARS Field
CONTACT:
SUMMARY:RVSC green u15 VS. Elite fc
DESCRIPTION:League Name: Indoor Soccer League - High School Girls\nGame Typ
 e: Regular\nGame Status: Complete\nHome Team: RVSC green u15\nAway Team: E
 lite fc\nHome Score: 3\nAway Score: 7
END:VEVENT
BEGIN:VEVENT
UID:2501181@ezleagues.ezfacility.com
DTSTAMP:20260424T043159Z
CREATED:20260424T043159Z
DTSTART:20091221T203000Z
DTEND:20091221T205000Z
LOCATION:PARS Field
CONTACT:
SUMMARY:The Champions VS. Elite fc
DESCRIPTION:League Name: Indoor Soccer League - High School Girls\nGame Typ
 e: Regular\nGame Status: Complete\nHome Team: The Champions\nAway Team: El
 ite fc\nHome Score: 7\nAway Score: 9
END:VEVENT
BEGIN:VEVENT
UID:2501186@ezleagues.ezfacility.com
DTSTAMP:20260424T043159Z
CREATED:20260424T043159Z
DTSTART:20100110T140000Z
DTEND:20100110T142000Z
LOCATION:PARS Field
CONTACT:
SUMMARY:Elite fc VS. RVSC white u15
DESCRIPTION:League Name: Indoor Soccer League - High School Girls\nGame Typ
 e: Regular\nGame Status: Pending\nHome Team: Elite fc\nAway Team: RVSC whi
 te u15\n
END:VEVENT
END:VCALENDAR
