BEGIN:VCALENDAR
VERSION:2.0
PRODID:-//EZFacility.com, Inc.//EZL 2.5.5.28621
BEGIN:VEVENT
UID:2531106@ezleagues.ezfacility.com
DTSTAMP:20260426T033621Z
CREATED:20260426T033621Z
DTSTART:20091215T173000Z
DTEND:20091215T175400Z
LOCATION:School Site
CONTACT:
SUMMARY:VanDevender VS. Blennerhassett
DESCRIPTION:League Name: Wood County--7th-8th Grade Boys League\nGame Type:
  Regular\nGame Status: Complete\nHome Team: VanDevender\nAway Team: Blenne
 rhassett\nHome Score: 25\nAway Score: 47
END:VEVENT
BEGIN:VEVENT
UID:2531112@ezleagues.ezfacility.com
DTSTAMP:20260426T033621Z
CREATED:20260426T033621Z
DTSTART:20100105T173000Z
DTEND:20100105T175400Z
LOCATION:School Site
CONTACT:
SUMMARY:Williamstown VS. VanDevender
DESCRIPTION:League Name: Wood County--7th-8th Grade Boys League\nGame Type:
  Regular\nGame Status: Complete\nHome Team: Williamstown\nAway Team: VanDe
 vender\nHome Score: 17\nAway Score: 43
END:VEVENT
BEGIN:VEVENT
UID:2531117@ezleagues.ezfacility.com
DTSTAMP:20260426T033621Z
CREATED:20260426T033621Z
DTSTART:20100112T173000Z
DTEND:20100112T175400Z
LOCATION:School Site
CONTACT:
SUMMARY:VanDevender VS. Jackson
DESCRIPTION:League Name: Wood County--7th-8th Grade Boys League\nGame Type:
  Regular\nGame Status: Complete\nHome Team: VanDevender\nAway Team: Jackso
 n\nHome Score: 57\nAway Score: 50
END:VEVENT
BEGIN:VEVENT
UID:2531120@ezleagues.ezfacility.com
DTSTAMP:20260426T033621Z
CREATED:20260426T033621Z
DTSTART:20100114T173000Z
DTEND:20100114T175400Z
LOCATION:School Site
CONTACT:
SUMMARY:VanDevender VS. Hamilton
DESCRIPTION:League Name: Wood County--7th-8th Grade Boys League\nGame Type:
  Regular\nGame Status: Complete\nHome Team: VanDevender\nAway Team: Hamilt
 on\nHome Score: 60\nAway Score: 27
END:VEVENT
BEGIN:VEVENT
UID:2531125@ezleagues.ezfacility.com
DTSTAMP:20260426T033621Z
CREATED:20260426T033621Z
DTSTART:20100119T173000Z
DTEND:20100119T175400Z
LOCATION:School Site
CONTACT:
SUMMARY:Blennerhassett VS. VanDevender
DESCRIPTION:League Name: Wood County--7th-8th Grade Boys League\nGame Type:
  Regular\nGame Status: Complete\nHome Team: Blennerhassett\nAway Team: Van
 Devender\nHome Score: 54\nAway Score: 49
END:VEVENT
BEGIN:VEVENT
UID:2531128@ezleagues.ezfacility.com
DTSTAMP:20260426T033621Z
CREATED:20260426T033621Z
DTSTART:20100121T173000Z
DTEND:20100121T175400Z
LOCATION:School Site
CONTACT:
SUMMARY:VanDevender VS. Williamstown
DESCRIPTION:League Name: Wood County--7th-8th Grade Boys League\nGame Type:
  Regular\nGame Status: Complete\nHome Team: VanDevender\nAway Team: Willia
 mstown\nHome Score: 54\nAway Score: 18
END:VEVENT
BEGIN:VEVENT
UID:2531130@ezleagues.ezfacility.com
DTSTAMP:20260426T033621Z
CREATED:20260426T033621Z
DTSTART:20100123T133000Z
DTEND:20100123T135400Z
LOCATION:School Site
CONTACT:
SUMMARY:Jackson VS. VanDevender
DESCRIPTION:League Name: Wood County--7th-8th Grade Boys League\nGame Type:
  Regular\nGame Status: Complete\nHome Team: Jackson\nAway Team: VanDevende
 r\nHome Score: 33\nAway Score: 52
END:VEVENT
BEGIN:VEVENT
UID:2531136@ezleagues.ezfacility.com
DTSTAMP:20260426T033621Z
CREATED:20260426T033621Z
DTSTART:20100128T161500Z
DTEND:20100128T163900Z
LOCATION:School Site
CONTACT:
SUMMARY:VanDevender VS. Edison
DESCRIPTION:League Name: Wood County--7th-8th Grade Boys League\nGame Type:
  Regular\nGame Status: Complete\nHome Team: VanDevender\nAway Team: Edison
 \nHome Score: 43\nAway Score: 50
END:VEVENT
BEGIN:VEVENT
UID:2531139@ezleagues.ezfacility.com
DTSTAMP:20260426T033621Z
CREATED:20260426T033621Z
DTSTART:20100202T173000Z
DTEND:20100202T175400Z
LOCATION:School Site
CONTACT:
SUMMARY:VanDevender VS. Parkersburg Catholic
DESCRIPTION:League Name: Wood County--7th-8th Grade Boys League\nGame Type:
  Regular\nGame Status: Complete\nHome Team: VanDevender\nAway Team: Parker
 sburg Catholic\nHome Score: 57\nAway Score: 46
END:VEVENT
BEGIN:VEVENT
UID:2531145@ezleagues.ezfacility.com
DTSTAMP:20260426T033621Z
CREATED:20260426T033621Z
DTSTART:20100210T173000Z
DTEND:20100210T175400Z
LOCATION:School Site
CONTACT:
SUMMARY:Hamilton VS. VanDevender
DESCRIPTION:League Name: Wood County--7th-8th Grade Boys League\nGame Type:
  Regular\nGame Status: Pending\nHome Team: Hamilton\nAway Team: VanDevende
 r\n
END:VEVENT
BEGIN:VEVENT
UID:2531146@ezleagues.ezfacility.com
DTSTAMP:20260426T033621Z
CREATED:20260426T033621Z
DTSTART:20100211T170000Z
DTEND:20100211T172400Z
LOCATION:School Site
CONTACT:
SUMMARY:Parkersburg Catholic VS. VanDevender
DESCRIPTION:League Name: Wood County--7th-8th Grade Boys League\nGame Type:
  Regular\nGame Status: Pending\nHome Team: Parkersburg Catholic\nAway Team
 : VanDevender\n
END:VEVENT
BEGIN:VEVENT
UID:2531113@ezleagues.ezfacility.com
DTSTAMP:20260426T033621Z
CREATED:20260426T033621Z
DTSTART:20100211T173000Z
DTEND:20100211T175400Z
LOCATION:School Site
CONTACT:
SUMMARY:Edison VS. VanDevender
DESCRIPTION:League Name: Wood County--7th-8th Grade Boys League\nGame Type:
  Regular\nGame Status: Pending\nHome Team: Edison\nAway Team: VanDevender\
 n
END:VEVENT
END:VCALENDAR
