BEGIN:VCALENDAR
VERSION:2.0
PRODID:-//EZFacility.com, Inc.//EZL 2.5.5.28621
BEGIN:VEVENT
UID:2620863@ezleagues.ezfacility.com
DTSTAMP:20260420T210202Z
CREATED:20260420T210202Z
DTSTART:20100115T192000Z
DTEND:20100115T201000Z
LOCATION:SANDHILLS (Bi-Lo #1)
CONTACT:Norman
SUMMARY:The Raiders VS. Unknown
DESCRIPTION:League Name: 520 - 10W - Men's Flag Football Div 2 (Fri)\nGame 
 Type: Regular\nGame Status: Complete\nHome Team: The Raiders\nAway Team: U
 nknown\nHome Score: 43\nAway Score: 43
END:VEVENT
BEGIN:VEVENT
UID:2672654@ezleagues.ezfacility.com
DTSTAMP:20260420T210202Z
CREATED:20260420T210202Z
DTSTART:20100129T183000Z
DTEND:20100129T192000Z
LOCATION:SANDHILLS (Bi-Lo #1)
CONTACT:
SUMMARY:Better Beleive It VS. The Raiders
DESCRIPTION:League Name: 520 - 10W - Men's Flag Football Div 2 (Fri)\nGame 
 Type: Regular\nGame Status: Complete\nHome Team: Better Beleive It\nAway T
 eam: The Raiders\nHome Score: 19\nAway Score: 56
END:VEVENT
BEGIN:VEVENT
UID:2699975@ezleagues.ezfacility.com
DTSTAMP:20260420T210202Z
CREATED:20260420T210202Z
DTSTART:20100205T192000Z
DTEND:20100205T201000Z
LOCATION:SANDHILLS (Bi-Lo #1)
CONTACT:Norman
SUMMARY:The Raiders VS. Palmetto Heat(Belk)
DESCRIPTION:League Name: 520 - 10W - Men's Flag Football Div 2 (Fri)\nGame 
 Type: Regular\nGame Status: Complete\nHome Team: The Raiders\nAway Team: P
 almetto Heat(Belk)\nHome Score: 52\nAway Score: 36
END:VEVENT
BEGIN:VEVENT
UID:2699973@ezleagues.ezfacility.com
DTSTAMP:20260420T210202Z
CREATED:20260420T210202Z
DTSTART:20100205T201000Z
DTEND:20100205T210000Z
LOCATION:SANDHILLS (Field #2) 
CONTACT:
SUMMARY:Jackals VS. The Raiders
DESCRIPTION:League Name: 520 - 10W - Men's Flag Football Div 2 (Fri)\nGame 
 Type: Regular\nGame Status: Complete\nHome Team: Jackals\nAway Team: The R
 aiders\nHome Score: 38\nAway Score: 38
END:VEVENT
BEGIN:VEVENT
UID:2699979@ezleagues.ezfacility.com
DTSTAMP:20260420T210202Z
CREATED:20260420T210202Z
DTSTART:20100212T183000Z
DTEND:20100212T192000Z
LOCATION:SANDHILLS (Bi-Lo #1)
CONTACT:
SUMMARY:Wombat Princess VS. The Raiders
DESCRIPTION:League Name: 520 - 10W - Men's Flag Football Div 2 (Fri)\nGame 
 Type: Regular\nGame Status: Postponed\nHome Team: Wombat Princess\nAway Te
 am: The Raiders\n
END:VEVENT
BEGIN:VEVENT
UID:2699988@ezleagues.ezfacility.com
DTSTAMP:20260420T210202Z
CREATED:20260420T210202Z
DTSTART:20100219T201000Z
DTEND:20100219T210000Z
LOCATION:SANDHILLS (Bi-Lo #1)
CONTACT:Norman
SUMMARY:Palmetto Heat VS. The Raiders
DESCRIPTION:League Name: 520 - 10W - Men's Flag Football Div 2 (Fri)\nGame 
 Type: Regular\nGame Status: Complete\nHome Team: Palmetto Heat\nAway Team:
  The Raiders\nHome Score: 55\nAway Score: 44
END:VEVENT
BEGIN:VEVENT
UID:2699993@ezleagues.ezfacility.com
DTSTAMP:20260420T210202Z
CREATED:20260420T210202Z
DTSTART:20100226T201000Z
DTEND:20100226T210000Z
LOCATION:SANDHILLS (Bi-Lo #1)
CONTACT:
SUMMARY:Metro Stallions VS. The Raiders
DESCRIPTION:League Name: 520 - 10W - Men's Flag Football Div 2 (Fri)\nGame 
 Type: Regular\nGame Status: Complete\nHome Team: Metro Stallions\nAway Tea
 m: The Raiders\nHome Score: 30\nAway Score: 61
END:VEVENT
BEGIN:VEVENT
UID:2699995@ezleagues.ezfacility.com
DTSTAMP:20260420T210202Z
CREATED:20260420T210202Z
DTSTART:20100305T183000Z
DTEND:20100305T192000Z
LOCATION:SANDHILLS (Field #2) 
CONTACT:
SUMMARY:The Raiders VS. Bombers
DESCRIPTION:League Name: 520 - 10W - Men's Flag Football Div 2 (Fri)\nGame 
 Type: Regular\nGame Status: Complete\nHome Team: The Raiders\nAway Team: B
 ombers\nHome Score: 46\nAway Score: 34
END:VEVENT
BEGIN:VEVENT
UID:2769955@ezleagues.ezfacility.com
DTSTAMP:20260420T210202Z
CREATED:20260420T210202Z
DTSTART:20100305T215000Z
DTEND:20100305T224000Z
LOCATION:SANDHILLS (Bi-Lo #1)
CONTACT:
SUMMARY:Wombat Princess VS. The Raiders
DESCRIPTION:League Name: 520 - 10W - Men's Flag Football Div 2 (Fri)\nGame 
 Type: Regular\nGame Status: Complete\nHome Team: Wombat Princess\nAway Tea
 m: The Raiders\nHome Score: 38\nAway Score: 54
END:VEVENT
END:VCALENDAR
