BEGIN:VCALENDAR
VERSION:2.0
PRODID:-//EZFacility.com, Inc.//EZL 2.5.5.28621
BEGIN:VEVENT
UID:2620861@ezleagues.ezfacility.com
DTSTAMP:20260426T033453Z
CREATED:20260426T033453Z
DTSTART:20100115T183000Z
DTEND:20100115T192000Z
LOCATION:SANDHILLS (Bi-Lo #1)
CONTACT:Norman
SUMMARY:Southern Playerz VS. Wombat Princess
DESCRIPTION:League Name: 520 - 10W - Men's Flag Football Div 2 (Fri)\nGame 
 Type: Regular\nGame Status: Complete\nHome Team: Southern Playerz\nAway Te
 am: Wombat Princess\nHome Score: 24\nAway Score: 66
END:VEVENT
BEGIN:VEVENT
UID:2646673@ezleagues.ezfacility.com
DTSTAMP:20260426T033453Z
CREATED:20260426T033453Z
DTSTART:20100122T192000Z
DTEND:20100122T201000Z
LOCATION:SANDHILLS (Bi-Lo #1)
CONTACT:
SUMMARY:Jackals VS. Wombat Princess
DESCRIPTION:League Name: 520 - 10W - Men's Flag Football Div 2 (Fri)\nGame 
 Type: Regular\nGame Status: Complete\nHome Team: Jackals\nAway Team: Womba
 t Princess\nHome Score: 57\nAway Score: 20
END:VEVENT
BEGIN:VEVENT
UID:2672657@ezleagues.ezfacility.com
DTSTAMP:20260426T033453Z
CREATED:20260426T033453Z
DTSTART:20100129T192000Z
DTEND:20100129T201000Z
LOCATION:SANDHILLS (Field #2) 
CONTACT:Norman
SUMMARY:Palmetto Heat(Belk) VS. Wombat Princess
DESCRIPTION:League Name: 520 - 10W - Men's Flag Football Div 2 (Fri)\nGame 
 Type: Regular\nGame Status: Complete\nHome Team: Palmetto Heat(Belk)\nAway
  Team: Wombat Princess\nHome Score: 38\nAway Score: 47
END:VEVENT
BEGIN:VEVENT
UID:2699978@ezleagues.ezfacility.com
DTSTAMP:20260426T033453Z
CREATED:20260426T033453Z
DTSTART:20100205T183000Z
DTEND:20100205T192000Z
LOCATION:SANDHILLS (Field #2) 
CONTACT:
SUMMARY:Palmetto Heat VS. Wombat Princess
DESCRIPTION:League Name: 520 - 10W - Men's Flag Football Div 2 (Fri)\nGame 
 Type: Regular\nGame Status: Complete\nHome Team: Palmetto Heat\nAway Team:
  Wombat Princess\nHome Score: 70\nAway Score: 30
END:VEVENT
BEGIN:VEVENT
UID:2699979@ezleagues.ezfacility.com
DTSTAMP:20260426T033453Z
CREATED:20260426T033453Z
DTSTART:20100212T183000Z
DTEND:20100212T192000Z
LOCATION:SANDHILLS (Bi-Lo #1)
CONTACT:
SUMMARY:Wombat Princess VS. The Raiders
DESCRIPTION:League Name: 520 - 10W - Men's Flag Football Div 2 (Fri)\nGame 
 Type: Regular\nGame Status: Postponed\nHome Team: Wombat Princess\nAway Te
 am: The Raiders\n
END:VEVENT
BEGIN:VEVENT
UID:2699984@ezleagues.ezfacility.com
DTSTAMP:20260426T033453Z
CREATED:20260426T033453Z
DTSTART:20100219T183000Z
DTEND:20100219T192000Z
LOCATION:SANDHILLS (Bi-Lo #1)
CONTACT:Norman
SUMMARY:Better Beleive It VS. Wombat Princess
DESCRIPTION:League Name: 520 - 10W - Men's Flag Football Div 2 (Fri)\nGame 
 Type: Regular\nGame Status: Complete\nHome Team: Better Beleive It\nAway T
 eam: Wombat Princess\nHome Score: 61\nAway Score: 46
END:VEVENT
BEGIN:VEVENT
UID:2699990@ezleagues.ezfacility.com
DTSTAMP:20260426T033453Z
CREATED:20260426T033453Z
DTSTART:20100226T183000Z
DTEND:20100226T192000Z
LOCATION:SANDHILLS (Field #2) 
CONTACT:Norman
SUMMARY:Wombat Princess VS. Unknown
DESCRIPTION:League Name: 520 - 10W - Men's Flag Football Div 2 (Fri)\nGame 
 Type: Regular\nGame Status: Complete\nHome Team: Wombat Princess\nAway Tea
 m: Unknown\nHome Score: 48\nAway Score: 59
END:VEVENT
BEGIN:VEVENT
UID:2699998@ezleagues.ezfacility.com
DTSTAMP:20260426T033453Z
CREATED:20260426T033453Z
DTSTART:20100305T201000Z
DTEND:20100305T210000Z
LOCATION:SANDHILLS (Bi-Lo #1)
CONTACT:Norman
SUMMARY:Wombat Princess VS. Metro Stallions
DESCRIPTION:League Name: 520 - 10W - Men's Flag Football Div 2 (Fri)\nGame 
 Type: Regular\nGame Status: Complete\nHome Team: Wombat Princess\nAway Tea
 m: Metro Stallions\nHome Score: 54\nAway Score: 64
END:VEVENT
BEGIN:VEVENT
UID:2769955@ezleagues.ezfacility.com
DTSTAMP:20260426T033453Z
CREATED:20260426T033453Z
DTSTART:20100305T215000Z
DTEND:20100305T224000Z
LOCATION:SANDHILLS (Bi-Lo #1)
CONTACT:
SUMMARY:Wombat Princess VS. The Raiders
DESCRIPTION:League Name: 520 - 10W - Men's Flag Football Div 2 (Fri)\nGame 
 Type: Regular\nGame Status: Complete\nHome Team: Wombat Princess\nAway Tea
 m: The Raiders\nHome Score: 38\nAway Score: 54
END:VEVENT
END:VCALENDAR
