BEGIN:VCALENDAR
VERSION:2.0
PRODID:-//EZFacility.com, Inc.//EZL 2.5.5.28621
BEGIN:VEVENT
UID:2620861@ezleagues.ezfacility.com
DTSTAMP:20260426T033631Z
CREATED:20260426T033631Z
DTSTART:20100115T183000Z
DTEND:20100115T192000Z
LOCATION:SANDHILLS (Bi-Lo #1)
CONTACT:Norman
SUMMARY:Southern Playerz VS. Wombat Princess
DESCRIPTION:League Name: 520 - 10W - Men's Flag Football Div 2 (Fri)\nGame 
 Type: Regular\nGame Status: Complete\nHome Team: Southern Playerz\nAway Te
 am: Wombat Princess\nHome Score: 24\nAway Score: 66
END:VEVENT
BEGIN:VEVENT
UID:2646674@ezleagues.ezfacility.com
DTSTAMP:20260426T033631Z
CREATED:20260426T033631Z
DTSTART:20100122T201000Z
DTEND:20100122T210000Z
LOCATION:SANDHILLS (Bi-Lo #1)
CONTACT:
SUMMARY:Palmetto Heat(Belk) VS. Southern Playerz
DESCRIPTION:League Name: 520 - 10W - Men's Flag Football Div 2 (Fri)\nGame 
 Type: Regular\nGame Status: Complete\nHome Team: Palmetto Heat(Belk)\nAway
  Team: Southern Playerz\nHome Score: 40\nAway Score: 30
END:VEVENT
BEGIN:VEVENT
UID:2672656@ezleagues.ezfacility.com
DTSTAMP:20260426T033631Z
CREATED:20260426T033631Z
DTSTART:20100129T192000Z
DTEND:20100129T201000Z
LOCATION:SANDHILLS (Bi-Lo #1)
CONTACT:
SUMMARY:Jackals VS. Southern Playerz
DESCRIPTION:League Name: 520 - 10W - Men's Flag Football Div 2 (Fri)\nGame 
 Type: Regular\nGame Status: Complete\nHome Team: Jackals\nAway Team: South
 ern Playerz\nHome Score: 74\nAway Score: 12
END:VEVENT
BEGIN:VEVENT
UID:2699976@ezleagues.ezfacility.com
DTSTAMP:20260426T033631Z
CREATED:20260426T033631Z
DTSTART:20100205T201000Z
DTEND:20100205T210000Z
LOCATION:SANDHILLS (Bi-Lo #1)
CONTACT:Norman
SUMMARY:Metro Stallions VS. Southern Playerz
DESCRIPTION:League Name: 520 - 10W - Men's Flag Football Div 2 (Fri)\nGame 
 Type: Regular\nGame Status: Complete\nHome Team: Metro Stallions\nAway Tea
 m: Southern Playerz\nHome Score: 72\nAway Score: 12
END:VEVENT
BEGIN:VEVENT
UID:2699980@ezleagues.ezfacility.com
DTSTAMP:20260426T033631Z
CREATED:20260426T033631Z
DTSTART:20100212T183000Z
DTEND:20100212T192000Z
LOCATION:SANDHILLS (Field #2) 
CONTACT:
SUMMARY:Better Beleive It VS. Southern Playerz
DESCRIPTION:League Name: 520 - 10W - Men's Flag Football Div 2 (Fri)\nGame 
 Type: Regular\nGame Status: Postponed\nHome Team: Better Beleive It\nAway 
 Team: Southern Playerz\n
END:VEVENT
BEGIN:VEVENT
UID:2699985@ezleagues.ezfacility.com
DTSTAMP:20260426T033631Z
CREATED:20260426T033631Z
DTSTART:20100219T183000Z
DTEND:20100219T192000Z
LOCATION:SANDHILLS (Field #2) 
CONTACT:
SUMMARY:Southern Playerz VS. Bombers
DESCRIPTION:League Name: 520 - 10W - Men's Flag Football Div 2 (Fri)\nGame 
 Type: Regular\nGame Status: Complete\nHome Team: Southern Playerz\nAway Te
 am: Bombers\nHome Score: 0\nAway Score: 6
END:VEVENT
BEGIN:VEVENT
UID:2740319@ezleagues.ezfacility.com
DTSTAMP:20260426T033631Z
CREATED:20260426T033631Z
DTSTART:20100219T192000Z
DTEND:20100219T201000Z
LOCATION:SANDHILLS (Bi-Lo #1)
CONTACT:Norman
SUMMARY:Southern Playerz VS. Better Beleive It
DESCRIPTION:League Name: 520 - 10W - Men's Flag Football Div 2 (Fri)\nGame 
 Type: Regular\nGame Status: Complete\nHome Team: Southern Playerz\nAway Te
 am: Better Beleive It\nHome Score: 24\nAway Score: 66
END:VEVENT
BEGIN:VEVENT
UID:2699989@ezleagues.ezfacility.com
DTSTAMP:20260426T033631Z
CREATED:20260426T033631Z
DTSTART:20100226T183000Z
DTEND:20100226T192000Z
LOCATION:SANDHILLS (Bi-Lo #1)
CONTACT:
SUMMARY:Palmetto Heat VS. Southern Playerz
DESCRIPTION:League Name: 520 - 10W - Men's Flag Football Div 2 (Fri)\nGame 
 Type: Regular\nGame Status: Complete\nHome Team: Palmetto Heat\nAway Team:
  Southern Playerz\nHome Score: 68\nAway Score: 18
END:VEVENT
BEGIN:VEVENT
UID:2699994@ezleagues.ezfacility.com
DTSTAMP:20260426T033631Z
CREATED:20260426T033631Z
DTSTART:20100305T183000Z
DTEND:20100305T192000Z
LOCATION:SANDHILLS (Bi-Lo #1)
CONTACT:Norman
SUMMARY:Southern Playerz VS. Unknown
DESCRIPTION:League Name: 520 - 10W - Men's Flag Football Div 2 (Fri)\nGame 
 Type: Regular\nGame Status: Complete\nHome Team: Southern Playerz\nAway Te
 am: Unknown\nHome Score: 26\nAway Score: 53
END:VEVENT
END:VCALENDAR
