BEGIN:VCALENDAR
VERSION:2.0
PRODID:-//EZFacility.com, Inc.//EZL 2.5.5.28621
BEGIN:VEVENT
UID:2750355@ezleagues.ezfacility.com
DTSTAMP:20260424T044413Z
CREATED:20260424T044413Z
DTSTART:20100117T130000Z
DTEND:20100117T134500Z
LOCATION:Entire facility
CONTACT:
SUMMARY:MeaninfulGnames.com VS. Barcelona
DESCRIPTION:League Name: Indoor Soccer League - Adult/Open GREEN - 2nd Sess
 \nGame Type: Regular\nGame Status: Complete\nHome Team: MeaninfulGnames.co
 m\nAway Team: Barcelona\nHome Score: 5\nAway Score: 5
END:VEVENT
BEGIN:VEVENT
UID:2638083@ezleagues.ezfacility.com
DTSTAMP:20260424T044413Z
CREATED:20260424T044413Z
DTSTART:20100117T201500Z
DTEND:20100117T210000Z
LOCATION:PARS Field
CONTACT:
SUMMARY:The Force VS. MeaninfulGnames.com
DESCRIPTION:League Name: Indoor Soccer League - Adult/Open GREEN - 2nd Sess
 \nGame Type: Regular\nGame Status: Complete\nHome Team: The Force\nAway Te
 am: MeaninfulGnames.com\nHome Score: 2\nAway Score: 3
END:VEVENT
BEGIN:VEVENT
UID:2638084@ezleagues.ezfacility.com
DTSTAMP:20260424T044413Z
CREATED:20260424T044413Z
DTSTART:20100124T210000Z
DTEND:20100124T214500Z
LOCATION:PARS Field
CONTACT:
SUMMARY:MeaninfulGnames.com VS. Tampicos
DESCRIPTION:League Name: Indoor Soccer League - Adult/Open GREEN - 2nd Sess
 \nGame Type: Regular\nGame Status: Complete\nHome Team: MeaninfulGnames.co
 m\nAway Team: Tampicos\nHome Score: 4\nAway Score: 6
END:VEVENT
BEGIN:VEVENT
UID:2638089@ezleagues.ezfacility.com
DTSTAMP:20260424T044413Z
CREATED:20260424T044413Z
DTSTART:20100131T193000Z
DTEND:20100131T201500Z
LOCATION:PARS Field
CONTACT:
SUMMARY:MeaninfulGnames.com VS. PARS
DESCRIPTION:League Name: Indoor Soccer League - Adult/Open GREEN - 2nd Sess
 \nGame Type: Regular\nGame Status: Complete\nHome Team: MeaninfulGnames.co
 m\nAway Team: PARS\nHome Score: 3\nAway Score: 5
END:VEVENT
BEGIN:VEVENT
UID:2638094@ezleagues.ezfacility.com
DTSTAMP:20260424T044413Z
CREATED:20260424T044413Z
DTSTART:20100214T201500Z
DTEND:20100214T210000Z
LOCATION:PARS Field
CONTACT:
SUMMARY:Los Banditos FC VS. MeaninfulGnames.com
DESCRIPTION:League Name: Indoor Soccer League - Adult/Open GREEN - 2nd Sess
 \nGame Type: Regular\nGame Status: Complete\nHome Team: Los Banditos FC\nA
 way Team: MeaninfulGnames.com\nHome Score: 0\nAway Score: 3
END:VEVENT
BEGIN:VEVENT
UID:2638091@ezleagues.ezfacility.com
DTSTAMP:20260424T044413Z
CREATED:20260424T044413Z
DTSTART:20100221T193000Z
DTEND:20100221T201500Z
LOCATION:PARS Field
CONTACT:
SUMMARY:EZcare VS. MeaninfulGnames.com
DESCRIPTION:League Name: Indoor Soccer League - Adult/Open GREEN - 2nd Sess
 \nGame Type: Regular\nGame Status: Complete\nHome Team: EZcare\nAway Team:
  MeaninfulGnames.com\nHome Score: 3\nAway Score: 6
END:VEVENT
END:VCALENDAR
