BEGIN:VCALENDAR
VERSION:2.0
PRODID:-//EZFacility.com, Inc.//EZL 2.5.5.28621
BEGIN:VEVENT
UID:2674095@ezleagues.ezfacility.com
DTSTAMP:20260425T012824Z
CREATED:20260425T012824Z
DTSTART:20100127T212000Z
DTEND:20100127T220500Z
LOCATION:Field 2
CONTACT:
SUMMARY:Alvernia FC VS. Screaming Eagles
DESCRIPTION:League Name: WSII 2010 Men's B\nGame Type: Regular\nGame Status
 : Complete\nHome Team: Alvernia FC\nAway Team: Screaming Eagles\nHome Scor
 e: 12\nAway Score: 0
END:VEVENT
BEGIN:VEVENT
UID:2674102@ezleagues.ezfacility.com
DTSTAMP:20260425T012824Z
CREATED:20260425T012824Z
DTSTART:20100203T221000Z
DTEND:20100203T225500Z
LOCATION:Field 2
CONTACT:
SUMMARY:Mari's Six Pac 'N' Mor VS. Screaming Eagles
DESCRIPTION:League Name: WSII 2010 Men's B\nGame Type: Regular\nGame Status
 : Complete\nHome Team: Mari's Six Pac 'N' Mor\nAway Team: Screaming Eagles
 \nHome Score: 4\nAway Score: 3
END:VEVENT
BEGIN:VEVENT
UID:2674125@ezleagues.ezfacility.com
DTSTAMP:20260425T012824Z
CREATED:20260425T012824Z
DTSTART:20100217T203000Z
DTEND:20100217T211500Z
LOCATION:Do not use
CONTACT:
SUMMARY:Albino Hasbeens VS. Screaming Eagles
DESCRIPTION:League Name: WSII 2010 Men's B\nGame Type: Regular\nGame Status
 : Complete\nHome Team: Albino Hasbeens\nAway Team: Screaming Eagles\nHome 
 Score: 12\nAway Score: 5
END:VEVENT
BEGIN:VEVENT
UID:2674139@ezleagues.ezfacility.com
DTSTAMP:20260425T012824Z
CREATED:20260425T012824Z
DTSTART:20100224T221000Z
DTEND:20100224T225500Z
LOCATION:Do not use
CONTACT:
SUMMARY:Screaming Eagles VS. KU Bears
DESCRIPTION:League Name: WSII 2010 Men's B\nGame Type: Regular\nGame Status
 : Complete\nHome Team: Screaming Eagles\nAway Team: KU Bears\nHome Score: 
 14\nAway Score: 4
END:VEVENT
BEGIN:VEVENT
UID:2674149@ezleagues.ezfacility.com
DTSTAMP:20260425T012824Z
CREATED:20260425T012824Z
DTSTART:20100302T221000Z
DTEND:20100302T225500Z
LOCATION:Do not use
CONTACT:
SUMMARY:MYF VS. Screaming Eagles
DESCRIPTION:League Name: WSII 2010 Men's B\nGame Type: Regular\nGame Status
 : Complete\nHome Team: MYF\nAway Team: Screaming Eagles\nHome Score: 7\nAw
 ay Score: 12
END:VEVENT
BEGIN:VEVENT
UID:2674157@ezleagues.ezfacility.com
DTSTAMP:20260425T012824Z
CREATED:20260425T012824Z
DTSTART:20100309T221000Z
DTEND:20100309T225500Z
LOCATION:Field 2
CONTACT:
SUMMARY:Screaming Eagles VS. FC Calvary
DESCRIPTION:League Name: WSII 2010 Men's B\nGame Type: Regular\nGame Status
 : Complete\nHome Team: Screaming Eagles\nAway Team: FC Calvary\nHome Score
 : 8\nAway Score: 0
END:VEVENT
BEGIN:VEVENT
UID:2674118@ezleagues.ezfacility.com
DTSTAMP:20260425T012824Z
CREATED:20260425T012824Z
DTSTART:20100325T012000Z
DTEND:20100325T020500Z
LOCATION:Field 2
CONTACT:
SUMMARY:Screaming Eagles VS. GNA
DESCRIPTION:League Name: WSII 2010 Men's B\nGame Type: Regular\nGame Status
 : Complete\nHome Team: Screaming Eagles\nAway Team: GNA\nHome Score: 9\nAw
 ay Score: 8
END:VEVENT
BEGIN:VEVENT
UID:2808587@ezleagues.ezfacility.com
DTSTAMP:20260425T012824Z
CREATED:20260425T012824Z
DTSTART:20100331T000000Z
DTEND:20100331T002500Z
LOCATION:Field 2
CONTACT:
SUMMARY:BF Petroleum VS. Screaming Eagles
DESCRIPTION:League Name: WSII 2010 Men's B\nGame Type: Postseason\nGame Sta
 tus: Pending\nHome Team: BF Petroleum\nAway Team: Screaming Eagles\n
END:VEVENT
END:VCALENDAR
